{"text_format":"1","workbook":"xlsx","n_sheets":8,"sheets":["Index","Trajectoire","Base","Data","Map","Atmo","Sp","temp"],"not_rendered":{"charts":4,"images":1,"macros":1,"external_links":1,"defined_names":40,"comments":1,"pivot_tables":0},"unopened":[],"bounds":{"document_bytes":16777216,"sheet_cells":100000,"rows_first":2000,"rows_last":500,"rows_between":2000,"halvings":0,"cell_chars":16384,"cell_head_chars":4096},"cells_cut":0,"cells_raw":0,"read":"whole","date_system":"1900"}

{"sheet":"Index","index":0,"n_rows":33,"n_cols":19,"rows_kept":33,"cut":false,"hidden":false,"merged":[[11,14,11,17],[3,11,3,12],[2,11,2,12],[27,14,27,17]]}
[null,"Reference Star Finder",null,null,null,null,null,null,null,null,null,null,null,null,null,"F. Teyssier","V.3.",2024]
[]
[null,null,"Distance",null,null,"R.A.    hh",21,{"$f":"+RADIANS((G3+G4/60)*15)","v":5.7204601716325909},"Altitude [°]",{"$f":"+temp!B9","v":12.356669810726039},null,"Target"]
[null,null,null,null,null,"mn",51.032898828919997,"mn",null,null,null,"AG Peg",null,null,null,1]
[null,null,null,null,null,null,null,null,null,null,null,"15 59 30.1619486506 +25 55 12.607985109"]
[null,null,"Nb Stars",23,null,"Dec.     °",12,{"$f":"+RADIANS(G6+G7/60)","v":0.22035813460531076},"Date","2020-07-23"]
[null,null,null,null,null,"            '",37.535465655599999,null,"Time (UT)","20:00:00",null,null,null,null,"Simbad data base "]
[null,null,null,null,null,null,null,null,null,null,null,null,null,null,"A and B spectral type main sequence stars  (\"V\")"]
["#","Name","R.A.","Dec","V","B-V","EB-V","Sp. Type","Sp. Type","Distance","h","D h","Miles",null,"Vmag < 6"]
[1,"HD 208565","21 56 56.4","+ 12 04 35.4",5.5439999999999996,0.05,0,"A2","A2Vnn",1.5,11,-1.4,null,1.4,"EB-V computed"]
[2,"HD 209459","22 03 19.0","+ 11 23 11.6",5.8239999999999998,-0.05,0.02,"B9,5","B9,5V",3.2,9.5,-2.9,null,2.9,"1044 stars"]
[3,"HD 208108","21 53 37.4","+ 19 40 06.4",5.68,0.02,0.03,"A0","A0Vs",7.1,17.2,4.9000000000000004,null,4.9000000000000004,"Miles data base Type A and B"]
[4,"HD 203562","21 22 53.6","+ 06 48 40.1",5.1589999999999998,0.06,0,"A3","A3V",9,12.5,0.1,null,0.1,"Simbad target: thanks to Paolo Berardi"]
[5,"HD 210129","22 07 50.3","+ 21 42 10.5",5.7830000000000004,-0.08,0.05,"B7","B7Vne",9.9,16.5,4.0999999999999996,null,4.0999999999999996]
[6,"HD 207203","21 47 14.0","+ 02 41 10.0",5.6310000000000002,0.01,0,"A1","A1V",10,5.4,-7,null,7,"Site"]
[7,"HD 214923","22 41 27.7","+ 10 49 52.9",3.4,-0.09,0.02,"B8","B8V",12.5,3,-9.4,null,9.4,"Longitude",null,0,"°       (+ = EAST)"]
[8,"HD 208057","21 53 03.8","+ 25 55 30.5",5.0780000000000003,-0.15,0.05,"B3","B3Ve",13.3,21.9,9.5,null,9.5,"Latitude",null,50,"°",{"$f":"+RADIANS(Q17)","v":0.87266462599716477}]
[9,"HD 199254","20 55 38.6","+ 12 34 06.8",5.54,0.11,0,"A4","A4V",13.5,21.2,8.8000000000000007,null,8.8000000000000007]
[10,"HD 212571","22 25 16.6","+ 01 22 38.6",4.7939999999999996,-0.17,0.09,"B1","B1Ve",14.1,-1.7,-14.1,null,14.1]
[11,"HD 204414","21 27 40.1","+ 27 36 30.9",5.3890000000000002,0.05,0.03,"A1","A1V",15.9,27.1,14.7,null,14.7]
[12,"HD 212061","22 21 39.4","- 01 23 14.4",3.847,-0.03,0,"A0","A0V",15.9,-3.2,-15.6,null,15.6,"Limits EB-V",null,"Sort by"]
[13,"HD 216735","22 55 13.7","+ 08 48 58.2",4.9059999999999997,0,0,"A1","A1V",16.2,-0.7,-13.1,null,13.1,0.05]
[14,"HD 209833","22 05 34.7","+ 28 57 50.3",5.7,-0.06,0.01,"B9","B9Vn",16.7,22.2,9.8000000000000007,null,9.8000000000000007,0.1,null,null,"h"]
[15,"HD 217232","22 59 11.8","+ 11 43 43.8",5.75,0.32,0.05,"A8","A8V+,,,",16.7,0.9,-11.4,null,11.4]
[16,"HD 198069","20 47 48.3","+ 06 00 29.5",5.6120000000000001,-0.01,0,"A0","A0V",16.899999999999999,17.399999999999999,5.0999999999999996,null,5.0999999999999996]
[17,"HD 207650","21 49 50.7","+ 30 10 27.2",5.0709999999999997,0.01,0,"A1","A1Vs",17.600000000000001,25.4,13.1,null,13.1]
[18,"HD 196775","20 39 05.0","+ 15 50 17.5",5.98,-0.16,0.04,"B3","B3V",17.7,26.3,13.9,null,13.9]
[19,"HD 196544","20 37 49.1","+ 11 22 39.6",5.4279999999999999,0.05,0,"A2","A2V",17.899999999999999,23.1,10.8,null,10.8]
[20,"HD 196180","20 35 18.5","+ 14 40 27.2",4.6639999999999997,0.1,0.02,"A3","A3V",18.5,26,13.7,null,13.7]
[21,"HD 202753","21 18 11.1","- 04 31 10.1",5.8150000000000004,-0.12,0.04,"B5","B5V",19,4.5,-7.9,null,7.9]
[22,"HD 196724","20 38 31.3","+ 21 12 04.2",4.82,-0.02,0,"A0","A0V",19.3,30.3,18,null,18]
[23,"HD 212404","22 24 06.9","- 04 50 13.3",5.7809999999999997,-0.03,0,"A0","A0V",19.3,-6.3,-18.600000000000001,null,18.600000000000001]
[null,null,"  ","   ",null,null,null,null,null,null,null,null,null,29.9]

{"sheet":"Trajectoire","index":1,"n_rows":33,"n_cols":36,"rows_kept":33,"cut":false,"hidden":false,"merged":[[13,3,13,5],[1,3,1,5],[4,3,4,5]]}
[]
[null,null,null,null,null,null,null,"T","GST0","LST0",null,"LST",null,null,null,null,"Alertes",true,null,null,null,null,null,null,null,null,null,null,null,"Cible",null,"Ref."]
[null,{"$f":"+Index!J6","v":"2020-07-23"},null,null,null,null,null,{"$f":"+(B3-Date_2000)/36525","v":0.20557152635181383},{"$f":"MOD((24110.54841+ 8640184.812866* DT +0.093104*DT^2 - 0.0000062*DT^3)/3600,24)/24","v":"20:04:46.532"},{"$f":"(MOD(GST0*24,24)+Long_Site_deg/15)/24","v":"20:04:46.532"},null,{"$f":"MOD(LST0+(Index!J7)*1.0027379,1)","v":"16:08:03.661"},null,null,null,null,null,null,null,null,null,null,null,null,null,null,null,"Altitude",null,{"$f":"+L10","v":39.042227252766175},null,{"$f":"+L19","v":40.326554267616203},null,"AOD",0.08]
[null,null,null,null,null,null,null,null,null,null,null,null,null,null,null,null,null,null,null,null,null,null,null,null,null,null,null,"Z",null,{"$f":"90-AD3","v":50.957772747233825},null,{"$f":"90-AF3","v":49.673445732383797},null,"h",10,"m"]
[null,"Target",null,{"$f":"+Index!L4","v":"AG Peg"},null,null,null,"LST (h)","LST (rad)","H",null,"Alt. [°]","Air Mass",null,null,"Az. [°]",null,null,null,null,null,null,null,null,null,null,null,"Air Mass",null,{"$f":"1/((COS(RADIANS(AD4))+0.025*(EXP(-11*COS(RADIANS(AD4))))))","v":1.5875095786530851},null,{"$f":"1/((COS(RADIANS(AF4))+0.025*(EXP(-11*COS(RADIANS(AF4))))))","v":1.5452047553308363}]
[]
[null,"AD [2000]",null,{"$f":"+Index!G3","v":21},{"$f":"+Index!G4","v":51.032898828919997},0,{"$f":"RADIANS(($D$7+$E$7/60+$F$7/3600)*15)","v":5.7204601716325909},null,null,null,null,null,null,null,null,null,null,null,null,null,null,null,null,null,"Xmin",{"$f":"MIN(P$9:P$11,P$18:P$20)","v":116.24483721270001},{"$f":"+INT(Z7)-MOD(INT(Z7),10)","v":110}]
[null,"DE [2000]",null,{"$f":"+Index!G6","v":12},{"$f":"+Index!G7","v":37.535465655599999},0,{"$f":"IF(RADIANS($D$8+$E$8/60+$F$8/3600)>0,RADIANS($D$8+$E$8/60+$F$8/3600),RADIANS($D$8-$E$8/60-$F$8/3600))","v":0.22035813460531076},null,null,null,null,null,null,null,null,null,null,null,null,null,null,null,null,null,"Xmax",{"$f":"MAX(P$9:P$11,P$18:P$20)","v":128.01623425999111},{"$f":"+INT(Z8)+10-MOD(INT(Z8),10)","v":130}]
[null,"Heure Début",null,22,30,null,{"$f":"+D9+E9/60","v":22.5},{"$f":"MOD(LST0+G9/24*1.0027379,1)","v":"18:38:28.302"},{"$f":" RADIANS(H9*24*15)","v":4.880253452451849},{"$f":"IF(I9-ADc>0,I9-ADc,I9-ADc+2*3.14159)","v":5.4429732808192579},null,{"$f":" DEGREES((ASIN(SIN(RADIANS(Lat))*SIN(DEc)+COS(RADIANS(Lat))*COS(DEc)*COS(J9))))","v":35.873996845109403},{"$f":"POWER(SIN(RADIANS(L9+244/(165+47*L9^1.1))),-1)","v":1.7025826574426235},{"$f":"DEGREES(ATAN(SIN(J9)/(COS(J9)*SIN(RADIANS(Lat))-TAN(DEc)*COS(RADIANS(Lat)))))","v":-63.755162787299994},{"$f":"+IF(N9>0,N9,N9+180)","v":116.24483721270001},{"$f":"+IF(J9<pi,O9+180,O9)","v":116.24483721270001},null,null,null,null,null,null,null,null,"Ymin",{"$f":"MIN(L$9:L$11,L$18:L$20)","v":35.873996845109403},{"$f":"EVEN(INT(Z9))-2","v":34}]
[null,"Heure Moy",null,{"$f":"+INT(G10)","v":22},{"$f":"(G10-D10)*60","v":52.5},null,{"$f":"+G9+E12/60/2","v":22.875},{"$f":"MOD(LST0+G10/24*1.0027379,1)","v":"19:01:01.998"},{"$f":" RADIANS(H10*24*15)","v":4.9786970155804759},{"$f":"IF(I10-ADc>0,I10-ADc,I10-ADc+2*3.14159)","v":5.5414168439478848},null,{"$f":" DEGREES((ASIN(SIN(RADIANS(Lat))*SIN(DEc)+COS(RADIANS(Lat))*COS(DEc)*COS(J10))))","v":39.042227252766175},{"$f":"POWER(SIN(RADIANS(L10+244/(165+47*L10^1.1))),-1)","v":1.5846142482251351},{"$f":"DEGREES(ATAN(SIN(J10)/(COS(J10)*SIN(RADIANS(Lat))-TAN(DEc)*COS(RADIANS(Lat)))))","v":-58.082621455319135},{"$f":"+IF(N10>0,N10,N10+180)","v":121.91737854468087},{"$f":"+IF(J10<pi,O10+180,O10)","v":121.91737854468087},null,null,null,null,null,null,null,null,"Ymax",{"$f":"+MAX(L$9:L$11,L$18:L$20)","v":42.013310558689184},{"$f":"EVEN(INT(Z10))+2","v":44}]
[null,"Heure Fin",null,{"$f":"+INT(G11)","v":23},{"$f":"(G11-D11)*60","v":15},null,{"$f":"+G9+E12/60","v":23.25},{"$f":"MOD(LST0+G11/24*1.0027379,1)","v":"19:23:35.695"},5.0771405787091028,{"$f":"IF(I11-ADc>0,I11-ADc,I11-ADc+2*3.14159)","v":5.6398604070765117},null,{"$f":" DEGREES((ASIN(SIN(RADIANS(Lat))*SIN(DEc)+COS(RADIANS(Lat))*COS(DEc)*COS(J11))))","v":42.013310558689184},1.4917686297357764,{"$f":"DEGREES(ATAN(SIN(J11)/(COS(J11)*SIN(RADIANS(Lat))-TAN(DEc)*COS(RADIANS(Lat)))))","v":-51.983765740008891},{"$f":"+IF(N11>0,N11,N11+180)","v":128.01623425999111},{"$f":"+IF(J11<pi,O11+180,O11)","v":128.01623425999111}]
[null,"Durée",null,null,45]
[]
[null,"Reference",null,"HD 212404",null,null,null,"LST (h:m:s)","LST (rad)","H",null,"Alt. [°]","Air Mass",null,null,null,23]
[]
[null,"AD [2000]",null,22,24,6,{"$f":"RADIANS(($D$16+$E$16/60+$F$16/3600)*15)","v":5.8647426190139456}]
[null,"DE [2000]",null,-4,50,13,{"$f":"IF(RADIANS($D$17+$E$17/60+$F$17/3600)>0,RADIANS($D$17+$E$17/60+$F$17/3600),RADIANS($D$17-$E$17/60-$F$17/3600))","v":-8.4420606291603487E-2}]
[null,"Heure Début",null,23,30,null,{"$f":"+D18+E18/60","v":23.5},{"$f":"MOD(LST0+G18/24*1.0027379,1)","v":"19:38:38.159"},{"$f":" RADIANS(H18*24*15)","v":5.1427696207948523},{"$f":"IF(I18-ADr>0,I18-ADr,I18-ADr+2*3.14159)","v":5.5612070017809065},null,{"$f":" DEGREES((ASIN(SIN(RADIANS(Lat))*SIN(DEc)+COS(RADIANS(Lat))*COS(DEc)*COS(J18))))","v":39.656849730671212},{"$f":"POWER(SIN(RADIANS(L18+244/(165+47*L18^1.1))),-1)","v":1.5641261431460061},{"$f":"DEGREES(ATAN(SIN(J18)/(COS(J18)*SIN(RADIANS(Lat))-TAN(DEc)*COS(RADIANS(Lat)))))","v":-56.892791392811851},{"$f":"+IF(N18>0,N18,N18+180)","v":123.10720860718814},{"$f":"+IF(J18<pi,O18+180,O18)","v":123.10720860718814},null,null,null,"Reference",null,"Mean Delta"]
[null,"Heure Moy",null,{"$f":"+INT(G19)","v":23},{"$f":"(G19-D19)*60","v":34.999999999999929},null,{"$f":"+G18+E21/60/2","v":23.583333333333332},{"$f":"MOD(LST0+G19/24*1.0027379,1)","v":"19:43:38.980"},{"$f":" RADIANS(H19*24*15)","v":5.16464596815677},{"$f":"IF(I19-ADr>0,I19-ADr,I19-ADr+2*3.14159)","v":5.5830833491428242},null,{"$f":" DEGREES((ASIN(SIN(RADIANS(Lat))*SIN(DEc)+COS(RADIANS(Lat))*COS(DEc)*COS(J19))))","v":40.326554267616203},{"$f":"POWER(SIN(RADIANS(L19+244/(165+47*L19^1.1))),-1)","v":1.5425936161611686},{"$f":"DEGREES(ATAN(SIN(J19)/(COS(J19)*SIN(RADIANS(Lat))-TAN(DEc)*COS(RADIANS(Lat)))))","v":-55.556866521424574},{"$f":"+IF(N19>0,N19,N19+180)","v":124.44313347857542},{"$f":"+IF(J19<pi,O19+180,O19)","v":124.44313347857542},null,null,null,{"$f":"+D14","v":"HD 212404"},null,null,null,null,null,null,null,"Error (%)  according to the wavelength (A)"]
[null,"Heure Fin",null,{"$f":"+INT(G20)","v":23},{"$f":"(G20-D20)*60","v":40.000000000000071},null,{"$f":"+G18+E21/60","v":23.666666666666668},{"$f":"MOD(LST0+G20/24*1.0027379,1)","v":"19:48:39.801"},5.1865223155186877,{"$f":"IF(I20-ADr>0,I20-ADr,I20-ADr+2*3.14159)","v":5.6049596965047419},null,{"$f":" DEGREES((ASIN(SIN(RADIANS(Lat))*SIN(DEc)+COS(RADIANS(Lat))*COS(DEc)*COS(J20))))","v":40.985544442075913},1.5221745278125347,{"$f":"DEGREES(ATAN(SIN(J20)/(COS(J20)*SIN(RADIANS(Lat))-TAN(DEc)*COS(RADIANS(Lat)))))","v":-54.198591188213193},{"$f":"+IF(N20>0,N20,N20+180)","v":125.80140881178681},{"$f":"+IF(J20<pi,O20+180,O20)","v":125.80140881178681},null,null,"Mag V",5.7809999999999997,null,"Altitude",{"$f":"+L10-L19","v":-1.2843270148500281},"°"]
[null,"Durée",null,null,10,null,null,null,null,null,null,null,null,null,null,null,null,null,"E(B-V)",0,null,"Air Mass",{"$f":"+M10-M19","v":4.2020632063966445E-2}]
[null,null,null,null,null,null,null,null,null,null,null,null,null,null,null,null,null,null,"Sp. Type","A0V"]
[]
[]
[]
[]
[]
[]
[]
[]
[]
[null,null,null,null,null,null,null,null,null,null,null,null,null,null,null,null,null,null,null,null,null,null,null,null,null,null,null,"Spectre Théorique"]
[null,null,null,null,null,null,null,null,null,null,null,null,null,null,null,null,null,null,null,null,null,null,null,null,null,null,null,"Spectre Calculé"]

{"sheet":"Base","index":2,"n_rows":1046,"n_cols":25,"rows_kept":1046,"cut":false,"hidden":false,"merged":[]}
[1,2,3,4,5,6,7,8,9,10,11,12,13,14,15,16,17,18,19,20,21,22,23,{"$f":"+COUNTIF(X3:X1048,\"<5\")","v":2},25]
["Name","RA","Dec","ra1","ra2","ra3","RA_dec","RA_radians","sde","de1","de2","de3","de_dec","Dec_radians","LongGal","LatGal","B","V","B-V","B0-V0","EB-V","Sp","Sp_s","Distance"]
["HD 100600","11 34 42,49024","+16 47 48,8956",11,34,42.49024,173.67704266666667,{"$f":"+RADIANS(G3)","v":3.0312362296600059},"+",16,47,48.895600000000002,{"$f":"VALUE(CONCATENATE(I3,+J3+K3/60+L3/3600))","v":16.796915444444402},{"$f":"+RADIANS(M3)","v":0.29316147868464149},239.179,69.468699999999998,5.78,5.94,-0.16000000000000014,{"$f":"+VLOOKUP(W3,Data!$E$5:$F$32,2)","v":-0.18},{"$f":"+S3-T3","v":1.9999999999999851E-2},"B4V",{"$f":"IF(MID(V3,3,1)<>\",\",LEFT(V3,2),LEFT(V3,4))","v":"B4"},{"$f":"+DEGREES(ACOS(SIN(Index!$H$6)*SIN(Base!N3)+COS(Index!$H$6)*COS(Base!N3)*COS(Index!$H$3-Base!H3)))","v":140.99173137520356}]
["HD 100673","11 34 45,65581","-54 15 50,7320",11,34,45.655810000000002,173.69023254166666,3.0314664364066823,"-",54,15,50.731999999999999,-54.264092222222203,-0.94708707488362398,291.79270000000002,6.9409000000000001,4.548,4.6139999999999999,-6.5999999999999837E-2,{"$f":"+VLOOKUP(W4,Data!$E$5:$F$32,2)","v":-7.0000000000000007E-2},4.0000000000001701E-3,"B9Ve","B9",{"$f":"+DEGREES(ACOS(SIN(Index!$H$6)*SIN(Base!N4)+COS(Index!$H$6)*COS(Base!N4)*COS(Index!$H$3-Base!H4)))","v":133.62756566044655}]
["HD 100889","11 36 40,91335","-09 48 08,0912",11,36,40.913350000000001,174.17047229166667,3.0398482012431369,"-",9,48,8.0912000000000006,-9.8022475555555602,-0.17108149394001032,274.24939999999998,48.861600000000003,4.6260000000000003,4.6820000000000004,-5.600000000000005E-2,{"$f":"+VLOOKUP(W5,Data!$E$5:$F$32,2)","v":-7.0000000000000007E-2},1.3999999999999957E-2,"B9,5Vn","B9,5",{"$f":"+DEGREES(ACOS(SIN(Index!$H$6)*SIN(Base!N5)+COS(Index!$H$6)*COS(Base!N5)*COS(Index!$H$3-Base!H5)))","v":153.95036299408491}]
["HD 101431","11 40 12,78970","-34 44 40,7733",11,40,12.7897,175.05329041666664,3.0552562842206692,"-",34,44,40.773299999999999,-34.744659249999998,-0.60640870139600356,286.71530000000001,25.874199999999998,4.6230000000000002,4.6929999999999996,-6.9999999999999396E-2,{"$f":"+VLOOKUP(W6,Data!$E$5:$F$32,2)","v":-7.0000000000000007E-2},6.106226635438361E-16,"B9V","B9",{"$f":"+DEGREES(ACOS(SIN(Index!$H$6)*SIN(Base!N6)+COS(Index!$H$6)*COS(Base!N6)*COS(Index!$H$3-Base!H6)))","v":146.83775151088028}]
["HD 10144 ","01 37 42,84548","-57 14 12,3101",1,37,42.845480000000002,24.428522833333336,0.42635815484028072,"-",57,14,12.3101,-57.236752805555597,-0.99896978960704697,290.84120000000001,-58.792000000000002,0.3,0.5,-0.2,{"$f":"+VLOOKUP(W7,Data!$E$5:$F$32,2)","v":-0.14000000000000001},-0.06,"B6Vep","B6",{"$f":"+DEGREES(ACOS(SIN(Index!$H$6)*SIN(Base!N7)+COS(Index!$H$6)*COS(Base!N7)*COS(Index!$H$3-Base!H7)))","v":83.894922646689977}]
["HD 101615","11 41 19,79057","-43 05 44,3987",11,41,19.790569999999999,175.33246070833334,3.0601287249840059,"-",43,5,44.398699999999998,-43.095666305555604,-0.75216127037272595,289.56659999999999,17.949200000000001,5.5720000000000001,5.5309999999999997,4.1000000000000369E-2,{"$f":"+VLOOKUP(W8,Data!$E$5:$F$32,2)","v":-0.01},5.1000000000000371E-2,"A0V","A0",{"$f":"+DEGREES(ACOS(SIN(Index!$H$6)*SIN(Base!N8)+COS(Index!$H$6)*COS(Base!N8)*COS(Index!$H$3-Base!H8)))","v":141.34819760529001}]
["HD 102124","11 45 17,04027","+08 15 29,2150",11,45,17.04027,176.32100112500001,3.077382010043876,"+",8,15,29.215,8.2581152777777795,0.14413130160646836,260.1825,65.479900000000001,5.0060000000000002,4.8449999999999998,0.16100000000000048,{"$f":"+VLOOKUP(W9,Data!$E$5:$F$32,2)","v":0.12},4.1000000000000481E-2,"A4V","A4",{"$f":"+DEGREES(ACOS(SIN(Index!$H$6)*SIN(Base!N9)+COS(Index!$H$6)*COS(Base!N9)*COS(Index!$H$3-Base!H9)))","v":144.76315732908228}]
["HD 102249","11 45 36,41916","-66 43 43,5440",11,45,36.419159999999998,176.4017465,3.0787912826933836,"-",66,43,43.543999999999997,-66.728762222222201,-1.1646366065581855,296.4837,-4.6847000000000003,3.7959999999999998,3.6339999999999999,0.16199999999999992,{"$f":"+VLOOKUP(W10,Data!$E$5:$F$32,2)","v":0.2},-3.8000000000000089E-2,"A7V","A7",{"$f":"+DEGREES(ACOS(SIN(Index!$H$6)*SIN(Base!N10)+COS(Index!$H$6)*COS(Base!N10)*COS(Index!$H$3-Base!H10)))","v":122.6255155449913}]
["HD 10250 ","01 42 55,86416","+70 37 21,0894",1,42,55.864159999999998,25.732767333333335,0.44912151561630786,"+",70,37,21.089400000000001,70.622524833333301,1.2325955844131258,127.2148,8.1801999999999992,5.1550000000000002,5.1769999999999996,-2.1999999999999353E-2,{"$f":"+VLOOKUP(W11,Data!$E$5:$F$32,2)","v":-7.0000000000000007E-2},4.8000000000000653E-2,"B9V","B9",{"$f":"+DEGREES(ACOS(SIN(Index!$H$6)*SIN(Base!N11)+COS(Index!$H$6)*COS(Base!N11)*COS(Index!$H$3-Base!H11)))","v":67.796964871890992}]
["HD 102509","11 47 59,13595","+20 13 08,1500",11,47,59.135950000000001,176.99639979166668,3.0891699405407889,"+",20,13,8.15,20.218930555555598,0.35288690942653145,235.0034,73.931899999999999,5.0529999999999999,4.5369999999999999,0.51600000000000001,{"$f":"+VLOOKUP(W12,Data!$E$5:$F$32,2)","v":0.2},0.316,"A7V+,,,","A7",{"$f":"+DEGREES(ACOS(SIN(Index!$H$6)*SIN(Base!N12)+COS(Index!$H$6)*COS(Base!N12)*COS(Index!$H$3-Base!H12)))","v":136.3428671458033}]
["HD 102776","11 49 41,06060","-63 47 18,5249",11,49,41.060600000000001,177.42108583333331,3.0965821102551336,"-",63,47,18.524899999999999,-63.788479138888903,-1.1133189858133286,296.17649999999998,-1.7296,4.1740000000000004,4.3129999999999997,-0.13899999999999935,{"$f":"+VLOOKUP(W13,Data!$E$5:$F$32,2)","v":-0.2},6.1000000000000665E-2,"B3Vne","B3",{"$f":"+DEGREES(ACOS(SIN(Index!$H$6)*SIN(Base!N13)+COS(Index!$H$6)*COS(Base!N13)*COS(Index!$H$3-Base!H13)))","v":124.79390547275065}]
["HD 103079","11 51 51,22590","-65 12 21,2653",11,51,51.225900000000003,177.96344124999999,3.1060479979919928,"-",65,12,21.2653,-65.205907027777798,-1.1380577693840321,296.73439999999999,-3.0535999999999999,4.8029999999999999,4.9290000000000003,-0.12600000000000033,{"$f":"+VLOOKUP(W14,Data!$E$5:$F$32,2)","v":-0.18},5.3999999999999659E-2,"B4V","B4",{"$f":"+DEGREES(ACOS(SIN(Index!$H$6)*SIN(Base!N14)+COS(Index!$H$6)*COS(Base!N14)*COS(Index!$H$3-Base!H14)))","v":123.51043025477991}]
["HD 103101","11 52 10,27889","-56 59 15,8729",11,52,10.278890000000001,178.04282870833333,3.1074335705246994,"-",56,59,15.8729,-56.987742472222202,-0.9946237394188906,294.8929,4.9561000000000002,5.6210000000000004,5.5629999999999997,5.8000000000000718E-2,{"$f":"+VLOOKUP(W15,Data!$E$5:$F$32,2)","v":0.05},8.0000000000007149E-3,"A2V","A2",{"$f":"+DEGREES(ACOS(SIN(Index!$H$6)*SIN(Base!N15)+COS(Index!$H$6)*COS(Base!N15)*COS(Index!$H$3-Base!H15)))","v":129.96965374722728}]
["HD 103287","11 53 49,84732","+53 41 41,1350",11,53,49.847320000000003,178.45769716666666,3.114674391085289,"+",53,41,41.134999999999998,53.694759722222202,0.93715034822001331,140.8399,61.384900000000002,2.4500000000000002,2.44,1.0000000000000231E-2,{"$f":"+VLOOKUP(W16,Data!$E$5:$F$32,2)","v":-0.01},2.0000000000000233E-2,"A0Ve","A0",{"$f":"+DEGREES(ACOS(SIN(Index!$H$6)*SIN(Base!N16)+COS(Index!$H$6)*COS(Base!N16)*COS(Index!$H$3-Base!H16)))","v":108.7023665095516}]
["HD 103578","11 55 40,53346","+15 38 48,5432",11,55,40.533459999999998,178.91888941666667,3.1227237143324702,"+",15,38,48.543199999999999,15.6468175555556,0.27308848380329598,251.67099999999999,72.697299999999998,5.64,5.5309999999999997,0.10899999999999999,{"$f":"+VLOOKUP(W17,Data!$E$5:$F$32,2)","v":0.08},2.8999999999999984E-2,"A3V","A3",{"$f":"+DEGREES(ACOS(SIN(Index!$H$6)*SIN(Base!N17)+COS(Index!$H$6)*COS(Base!N17)*COS(Index!$H$3-Base!H17)))","v":138.17039000984769}]
["HD 103632","11 56 00,95323","-17 09 02,9781",11,56,0.95323000000000002,179.00397179166669,3.1242086819116368,"-",17,9,2.9781,-17.150827249999999,-0.29933840495326464,284.47190000000001,43.7254,5.1459999999999999,5.1680000000000001,-2.2000000000000242E-2,{"$f":"+VLOOKUP(W18,Data!$E$5:$F$32,2)","v":-0.01},-1.2000000000000241E-2,"A0V","A0",{"$f":"+DEGREES(ACOS(SIN(Index!$H$6)*SIN(Base!N18)+COS(Index!$H$6)*COS(Base!N18)*COS(Index!$H$3-Base!H18)))","v":149.50061345746582}]
["HD 103884","11 57 40,00819","-62 26 55,4867",11,57,40.008189999999999,179.41670079166664,3.1314121618800996,"-",62,26,55.486699999999999,-62.448746305555602,-1.0899362367745902,296.75900000000001,-0.22320000000000001,5.4039999999999999,5.5519999999999996,-0.14799999999999969,{"$f":"+VLOOKUP(W19,Data!$E$5:$F$32,2)","v":-0.2},5.2000000000000324E-2,"B3V","B3",{"$f":"+DEGREES(ACOS(SIN(Index!$H$6)*SIN(Base!N19)+COS(Index!$H$6)*COS(Base!N19)*COS(Index!$H$3-Base!H19)))","v":125.30882009979699}]
["HD 104174","11 59 37,57634","-78 13 18,6179",11,59,37.576340000000002,179.90656808333333,3.1399619590175107,"-",78,13,18.617899999999999,-78.221838305555593,-1.3652286253945674,300.2088,-15.6249,4.8499999999999996,4.8979999999999997,-4.8000000000000043E-2,{"$f":"+VLOOKUP(W20,Data!$E$5:$F$32,2)","v":-7.0000000000000007E-2},2.1999999999999964E-2,"B9Vn","B9",{"$f":"+DEGREES(ACOS(SIN(Index!$H$6)*SIN(Base!N20)+COS(Index!$H$6)*COS(Base!N20)*COS(Index!$H$3-Base!H20)))","v":112.49627508729337}]
["HD 104181","11 59 56,91293","+03 39 18,7141",11,59,56.912930000000003,179.98713720833334,3.1413681555242117,"+",3,39,18.714099999999998,3.6551983611111099,6.3795246214889523E-2,273.04750000000001,63.499000000000002,5.3630000000000004,5.3570000000000002,6.0000000000002274E-3,{"$f":"+VLOOKUP(W21,Data!$E$5:$F$32,2)","v":-0.01},1.6000000000000229E-2,"A0V","A0",{"$f":"+DEGREES(ACOS(SIN(Index!$H$6)*SIN(Base!N21)+COS(Index!$H$6)*COS(Base!N21)*COS(Index!$H$3-Base!H21)))","v":144.08176888417574}]
["HD 104321","12 00 52,39042","+06 36 51,5571",12,0,52.390419999999999,180.21829341666665,3.1454025924460542,"+",6,36,51.557099999999998,6.6143214166666704,0.11544168650600914,270.29629999999997,66.227999999999994,4.7750000000000004,4.6589999999999998,0.11600000000000055,{"$f":"+VLOOKUP(W22,Data!$E$5:$F$32,2)","v":0.15},-3.3999999999999447E-2,"A5V","A5",{"$f":"+DEGREES(ACOS(SIN(Index!$H$6)*SIN(Base!N22)+COS(Index!$H$6)*COS(Base!N22)*COS(Index!$H$3-Base!H22)))","v":142.43905599680122}]
["HD 104600","12 02 37,69286","-69 11 32,2330",12,2,37.692860000000003,180.65705358333332,3.1530604019809867,"-",69,11,32.232999999999997,-69.192286944444405,-1.2076332241652417,298.59589999999997,-6.7324999999999999,5.81,5.8780000000000001,-6.8000000000000504E-2,{"$f":"+VLOOKUP(W23,Data!$E$5:$F$32,2)","v":-7.0000000000000007E-2},1.9999999999995022E-3,"B9V","B9",{"$f":"+DEGREES(ACOS(SIN(Index!$H$6)*SIN(Base!N23)+COS(Index!$H$6)*COS(Base!N23)*COS(Index!$H$3-Base!H23)))","v":119.69448879544326}]
["HD 10516 ","01 43 39,63792","+50 41 19,4328",1,43,39.637920000000001,25.915158000000002,0.45230483327454868,"+",50,41,19.4328,50.688731333333301,0.88468525542548149,131.32470000000001,-11.3301,4,4.09,-8.9999999999999858E-2,{"$f":"+VLOOKUP(W24,Data!$E$5:$F$32,2)","v":-0.24},0.15000000000000013,"B2Vpe","B2",{"$f":"+DEGREES(ACOS(SIN(Index!$H$6)*SIN(Base!N24)+COS(Index!$H$6)*COS(Base!N24)*COS(Index!$H$3-Base!H24)))","v":60.311505725639428}]
["HD 10538 ","01 42 02,99377","-36 49 56,2995",1,42,2.99377,25.512474041666664,0.44527667235666829,"-",36,49,56.299500000000002,-36.832305416666699,-0.64284500062097583,258.27300000000002,-75.555999999999997,5.7030000000000003,5.7060000000000004,-3.0000000000001137E-3,{"$f":"+VLOOKUP(W25,Data!$E$5:$F$32,2)","v":0.02},-2.3000000000000114E-2,"A1V","A1",{"$f":"+DEGREES(ACOS(SIN(Index!$H$6)*SIN(Base!N25)+COS(Index!$H$6)*COS(Base!N25)*COS(Index!$H$3-Base!H25)))","v":73.399768387691111}]
["HD 105416","12 08 14,71198","-48 41 32,9487",12,8,14.711980000000001,182.06129991666666,3.1775691240067112,"-",48,41,32.948700000000002,-48.692485750000003,-0.8498441973179206,295.62299999999999,13.565300000000001,5.319,5.3339999999999996,-1.499999999999968E-2,{"$f":"+VLOOKUP(W26,Data!$E$5:$F$32,2)","v":-7.0000000000000007E-2},5.5000000000000326E-2,"B9V","B9",{"$f":"+DEGREES(ACOS(SIN(Index!$H$6)*SIN(Base!N26)+COS(Index!$H$6)*COS(Base!N26)*COS(Index!$H$3-Base!H26)))","v":134.13041620172586}]
["HD 105805","12 10 46,09635","+27 16 53,4251",12,10,46.096350000000001,182.69206812499999,3.1885781060590332,"+",27,16,53.4251,27.2815069722222,0.47615212157106657,209.6345,80.958500000000001,6.1159999999999997,5.9989999999999997,0.11699999999999999,{"$f":"+VLOOKUP(W27,Data!$E$5:$F$32,2)","v":0.12},-3.0000000000000027E-3,"A4Vn","A4",{"$f":"+DEGREES(ACOS(SIN(Index!$H$6)*SIN(Base!N27)+COS(Index!$H$6)*COS(Base!N27)*COS(Index!$H$3-Base!H27)))","v":127.6484430744708}]
["HD 105850","12 11 03,83904","-23 36 08,7202",12,11,3.8390399999999998,182.765996,3.1898683908867862,"-",23,36,8.7202000000000002,-23.602422277777801,-0.41193998019328232,291.11689999999999,38.341299999999997,5.52,5.47,4.9999999999999822E-2,{"$f":"+VLOOKUP(W28,Data!$E$5:$F$32,2)","v":0.02},2.9999999999999822E-2,"A1V","A1",{"$f":"+DEGREES(ACOS(SIN(Index!$H$6)*SIN(Base!N28)+COS(Index!$H$6)*COS(Base!N28)*COS(Index!$H$3-Base!H28)))","v":145.0770508001232}]
["HD 105937","12 11 39,11770","-52 22 06,4432",12,11,39.117699999999999,182.91299041666667,3.192433927439668,"-",52,22,6.4432,-52.368456444444398,-0.91400198914279762,296.78370000000001,10.027699999999999,3.8090000000000002,3.9510000000000001,-0.1419999999999999,{"$f":"+VLOOKUP(W29,Data!$E$5:$F$32,2)","v":-0.2},5.8000000000000107E-2,"B3V","B3",{"$f":"+DEGREES(ACOS(SIN(Index!$H$6)*SIN(Base!N29)+COS(Index!$H$6)*COS(Base!N29)*COS(Index!$H$3-Base!H29)))","v":131.31850573285143}]
["HD 1064  ","00 14 54,51542","-09 34 10,4503",0,14,54.515419999999999,3.7271475833333332,6.50509970369164E-2,"-",9,34,10.4503,-9.5695695277777801,-0.16702049625824122,95.063400000000001,-70.438800000000001,5.69,5.7569999999999997,-6.6999999999999282E-2,{"$f":"+VLOOKUP(W30,Data!$E$5:$F$32,2)","v":-7.0000000000000007E-2},3.0000000000007243E-3,"B9V","B9",{"$f":"+DEGREES(ACOS(SIN(Index!$H$6)*SIN(Base!N30)+COS(Index!$H$6)*COS(Base!N30)*COS(Index!$H$3-Base!H30)))","v":42.060519493314537}]
["HD 106591","12 15 25,56063","+57 01 57,4156",12,15,25.56063,183.85650262499999,3.2089013220078471,"+",57,1,57.415599999999998,57.032615444444403,0.995406920529324,132.56659999999999,59.416899999999998,3.41,3.32,9.0000000000000302E-2,{"$f":"+VLOOKUP(W31,Data!$E$5:$F$32,2)","v":0.08},1.00000000000003E-2,"A3V","A3",{"$f":"+DEGREES(ACOS(SIN(Index!$H$6)*SIN(Base!N31)+COS(Index!$H$6)*COS(Base!N31)*COS(Index!$H$3-Base!H31)))","v":104.22149630611722}]
["HD 106661","12 16 00,18569","+14 53 56,6496",12,16,0.18568999999999999,184.00077370833333,3.211419327427433,"+",14,53,56.6496,14.8990693333333,0.26003781534958265,267.161,75.250600000000006,5.15,5.09,6.0000000000000497E-2,{"$f":"+VLOOKUP(W32,Data!$E$5:$F$32,2)","v":0.08},-1.9999999999999504E-2,"A3V","A3",{"$f":"+DEGREES(ACOS(SIN(Index!$H$6)*SIN(Base!N32)+COS(Index!$H$6)*COS(Base!N32)*COS(Index!$H$3-Base!H32)))","v":134.77781206717921}]
["HD 106911","12 18 20,82459","-79 18 44,0710",12,18,20.824590000000001,184.58676912500002,3.2216468768498627,"-",79,18,44.070999999999998,-79.312241944444395,-1.3842597590689043,301.33679999999998,-16.543099999999999,4.12,4.2350000000000003,-0.11500000000000021,{"$f":"+VLOOKUP(W33,Data!$E$5:$F$32,2)","v":-0.16},4.499999999999979E-2,"B5Vn","B5",{"$f":"+DEGREES(ACOS(SIN(Index!$H$6)*SIN(Base!N33)+COS(Index!$H$6)*COS(Base!N33)*COS(Index!$H$3-Base!H33)))","v":111.07829602020176}]
["HD 106983","12 18 26,24772","-64 00 11,0528",12,18,26.247720000000001,184.6093655,3.2220412579926276,"-",64,0,11.0528,-64.003070222222206,-1.1170643067629162,299.32479999999998,-1.3627,3.9,4.05,-0.14999999999999991,{"$f":"+VLOOKUP(W34,Data!$E$5:$F$32,2)","v":-0.24},9.000000000000008E-2,"B2,5V","B2,5",{"$f":"+DEGREES(ACOS(SIN(Index!$H$6)*SIN(Base!N34)+COS(Index!$H$6)*COS(Base!N34)*COS(Index!$H$3-Base!H34)))","v":122.59694956233065}]
["HD 107070","12 18 40,31778","-00 47 13,8652",12,18,40.317779999999999,184.66799075,3.2230644616299329,"-",0,47,13.8652,-0.78718477777777796,-1.3738966193802117E-2,285.84629999999999,60.993000000000002,6.0629999999999997,5.9080000000000004,0.15499999999999936,{"$f":"+VLOOKUP(W35,Data!$E$5:$F$32,2)","v":0.15},4.9999999999993661E-3,"A5Vn","A5",{"$f":"+DEGREES(ACOS(SIN(Index!$H$6)*SIN(Base!N35)+COS(Index!$H$6)*COS(Base!N35)*COS(Index!$H$3-Base!H35)))","v":141.55239603888822}]
["HD 107193","12 18 49,98448","+75 09 38,0207",12,18,49.984479999999998,184.7082686666667,3.2237674438916106,"+",75,9,38.020699999999998,75.160561305555603,1.3117992624289931,125.7236,41.790500000000002,5.516,5.4649999999999999,5.1000000000000156E-2,{"$f":"+VLOOKUP(W36,Data!$E$5:$F$32,2)","v":0.02},3.1000000000000156E-2,"A1V","A1",{"$f":"+DEGREES(ACOS(SIN(Index!$H$6)*SIN(Base!N36)+COS(Index!$H$6)*COS(Base!N36)*COS(Index!$H$3-Base!H36)))","v":89.337400824369951}]
["HD 107348","12 20 33,64200","-22 12 57,2410",12,20,33.642000000000003,185.140175,3.2313056314684929,"-",22,12,57.241,-22.215900277777799,-0.38774060614194544,293.57690000000002,40.094299999999997,5.1100000000000003,5.22,-0.10999999999999943,{"$f":"+VLOOKUP(W37,Data!$E$5:$F$32,2)","v":-0.11},5.6898930012039273E-16,"B8V","B8",{"$f":"+DEGREES(ACOS(SIN(Index!$H$6)*SIN(Base!N37)+COS(Index!$H$6)*COS(Base!N37)*COS(Index!$H$3-Base!H37)))","v":143.17551732258494}]
["HD 107566","12 22 07,34002","-67 31 19,5871",12,22,7.34002,185.53058341666667,3.2381195437668242,"-",67,31,19.5871,-67.522107527777806,-1.1784830942453712,300.12650000000002,-4.8102,5.3339999999999996,5.1609999999999996,0.17300000000000004,{"$f":"+VLOOKUP(W38,Data!$E$5:$F$32,2)","v":0.15},2.3000000000000048E-2,"A5V","A5",{"$f":"+DEGREES(ACOS(SIN(Index!$H$6)*SIN(Base!N38)+COS(Index!$H$6)*COS(Base!N38)*COS(Index!$H$3-Base!H38)))","v":119.79352517266913}]
["HD 107696","12 22 49,43192","-57 40 34,0725",12,22,49.431919999999998,185.70596633333335,3.2411805531144084,"-",57,40,34.072499999999998,-57.676131249999997,-1.0066383901248928,299.09949999999998,4.9824999999999999,5.2779999999999996,5.37,-9.2000000000000526E-2,{"$f":"+VLOOKUP(W39,Data!$E$5:$F$32,2)","v":-7.0000000000000007E-2},-2.2000000000000519E-2,"B9V","B9",{"$f":"+DEGREES(ACOS(SIN(Index!$H$6)*SIN(Base!N39)+COS(Index!$H$6)*COS(Base!N39)*COS(Index!$H$3-Base!H39)))","v":126.59572231111112}]
["HD 107860","12 23 44,74438","-38 54 40,9767",12,23,44.74438,185.93643491666666,3.2452029887159815,"-",38,54,40.976700000000001,-38.911382416666697,-0.67913173967346196,297.05529999999999,23.644200000000001,5.7210000000000001,5.7850000000000001,-6.4000000000000057E-2,{"$f":"+VLOOKUP(W40,Data!$E$5:$F$32,2)","v":-7.0000000000000007E-2},5.9999999999999498E-3,"B9V","B9",{"$f":"+DEGREES(ACOS(SIN(Index!$H$6)*SIN(Base!N40)+COS(Index!$H$6)*COS(Base!N40)*COS(Index!$H$3-Base!H40)))","v":137.23757870129259}]
["HD 107966","12 24 18,52125","+26 05 55,0346",12,24,18.521249999999998,186.077171875,3.2476593120181407,"+",26,5,55.034599999999998,26.098620722222201,0.45550686183199784,221.03710000000001,83.850300000000004,5.26,5.18,8.0000000000000071E-2,{"$f":"+VLOOKUP(W41,Data!$E$5:$F$32,2)","v":0.08},0,"A3V","A3",{"$f":"+DEGREES(ACOS(SIN(Index!$H$6)*SIN(Base!N41)+COS(Index!$H$6)*COS(Base!N41)*COS(Index!$H$3-Base!H41)))","v":126.25507540306116}]
["HD 108107","12 25 11,76485","-11 36 38,1204",12,25,11.764849999999999,186.29902020833333,3.251531295874869,"-",11,36,38.120399999999997,-11.610588999999999,-0.20264300614583589,292.74560000000002,50.741399999999999,5.9889999999999999,5.9489999999999998,4.0000000000000036E-2,{"$f":"+VLOOKUP(W42,Data!$E$5:$F$32,2)","v":0.02},2.0000000000000035E-2,"A1V","A1",{"$f":"+DEGREES(ACOS(SIN(Index!$H$6)*SIN(Base!N42)+COS(Index!$H$6)*COS(Base!N42)*COS(Index!$H$3-Base!H42)))","v":142.33761022535171}]
["HD 108249","12 26 36,151 "," -3 05 57,14    ",12,26,36.151000000000003,186.65062916666665,3.2576680298772929,"-",3,5,57.14,-3.0992055555555602,-5.4091341140544563E-2,300.12709999999998,-0.36280000000000001,2.2999999999999998,2.09,0.20999999999999996,{"$f":"+VLOOKUP(W43,Data!$E$5:$F$32,2)","v":-0.26},0.47,"B1V","B1",{"$f":"+DEGREES(ACOS(SIN(Index!$H$6)*SIN(Base!N43)+COS(Index!$H$6)*COS(Base!N43)*COS(Index!$H$3-Base!H43)))","v":140.37297437982426}]
["HD 108257","12 26 31,75955","-51 27 02,2899",12,26,31.759550000000001,186.63233145833334,3.2573486746213072,"-",51,27,2.2898999999999998,-51.450636083333301,-0.8979830018995657,298.98009999999999,11.229900000000001,4.665,4.8049999999999997,-0.13999999999999968,{"$f":"+VLOOKUP(W44,Data!$E$5:$F$32,2)","v":-0.2},6.0000000000000331E-2,"B3Vn","B3",{"$f":"+DEGREES(ACOS(SIN(Index!$H$6)*SIN(Base!N44)+COS(Index!$H$6)*COS(Base!N44)*COS(Index!$H$3-Base!H44)))","v":130.1193450937825}]
["HD 108323","12 26 51,69000","-32 49 48,4379",12,26,51.69,186.71537500000002,3.2587980578459077,"-",32,49,48.437899999999999,-32.830121638888897,-0.57299371642884811,296.98559999999998,29.7577,5.5709999999999997,5.5650000000000004,5.9999999999993392E-3,{"$f":"+VLOOKUP(W45,Data!$E$5:$F$32,2)","v":-7.0000000000000007E-2},7.5999999999999346E-2,"B9V","B9",{"$f":"+DEGREES(ACOS(SIN(Index!$H$6)*SIN(Base!N45)+COS(Index!$H$6)*COS(Base!N45)*COS(Index!$H$3-Base!H45)))","v":139.12327482786634}]
["HD 108382","12 26 59,29709","+26 49 32,5201",12,26,59.297089999999997,186.74707120833332,3.2593512610417221,"+",26,49,32.520099999999999,26.825700027777799,0.46819678963705691,214.72049999999999,84.544799999999995,5.0609999999999999,4.9649999999999999,9.6000000000000085E-2,{"$f":"+VLOOKUP(W46,Data!$E$5:$F$32,2)","v":0.12},-2.399999999999991E-2,"A4V","A4",{"$f":"+DEGREES(ACOS(SIN(Index!$H$6)*SIN(Base!N46)+COS(Index!$H$6)*COS(Base!N46)*COS(Index!$H$3-Base!H46)))","v":125.32469381595486}]
["HD 108483","12 28 02,38208","-50 13 50,2872",12,28,2.3820800000000002,187.00992533333331,3.2639389309754203,"-",50,13,50.287199999999999,-50.230635333333304,-0.87668997193526554,299.10340000000002,12.4671,3.7189999999999999,3.8969999999999998,-0.17799999999999994,{"$f":"+VLOOKUP(W47,Data!$E$5:$F$32,2)","v":-0.24},6.2000000000000055E-2,"B2V","B2",{"$f":"+DEGREES(ACOS(SIN(Index!$H$6)*SIN(Base!N47)+COS(Index!$H$6)*COS(Base!N47)*COS(Index!$H$3-Base!H47)))","v":130.64672793316413}]
["HD 108541","12 28 22,46490","-39 02 28,2168",12,28,22.4649,187.09360375,3.2653993948591098,"-",39,2,28.216799999999999,-39.041171333333303,-0.68139698360189072,298.04680000000002,23.611699999999999,5.3819999999999997,5.4480000000000004,-6.6000000000000725E-2,{"$f":"+VLOOKUP(W48,Data!$E$5:$F$32,2)","v":-0.11},4.3999999999999276E-2,"B8V","B8",{"$f":"+DEGREES(ACOS(SIN(Index!$H$6)*SIN(Base!N48)+COS(Index!$H$6)*COS(Base!N48)*COS(Index!$H$3-Base!H48)))","v":136.37616813367669}]
["HD 108765","12 29 43,23974","+20 53 45,9902",12,29,43.239739999999998,187.43016558333332,3.2712735069873249,"+",20,53,45.990200000000002,20.896108388888901,0.364705892239719,263.27789999999999,82.037999999999997,5.7670000000000003,5.68,8.7000000000000632E-2,{"$f":"+VLOOKUP(W49,Data!$E$5:$F$32,2)","v":0.08},7.0000000000006307E-3,"A3V","A3",{"$f":"+DEGREES(ACOS(SIN(Index!$H$6)*SIN(Base!N49)+COS(Index!$H$6)*COS(Base!N49)*COS(Index!$H$3-Base!H49)))","v":128.58959181716276}]
["HD 109026","12 32 28,01343","-72 07 58,7597",12,32,28.01343,188.11672262500002,3.2832561878671607,"-",72,7,58.759700000000002,-72.132988805555598,-1.258958153961157,301.45890000000003,-9.3155000000000001,3.694,3.83,-0.13600000000000012,{"$f":"+VLOOKUP(W50,Data!$E$5:$F$32,2)","v":-0.16},2.3999999999999883E-2,"B5V","B5",{"$f":"+DEGREES(ACOS(SIN(Index!$H$6)*SIN(Base!N50)+COS(Index!$H$6)*COS(Base!N50)*COS(Index!$H$3-Base!H50)))","v":115.86005930495456}]
["HD 109309","12 33 46,74789","-09 27 07,4775",12,33,46.747889999999998,188.44478287500002,3.2889819193745762,"-",9,27,7.4775,-9.4520770833333305,-0.16496986625646906,295.6549,53.17,5.45,5.48,-3.0000000000000249E-2,{"$f":"+VLOOKUP(W51,Data!$E$5:$F$32,2)","v":-0.01},-2.0000000000000247E-2,"A0V","A0",{"$f":"+DEGREES(ACOS(SIN(Index!$H$6)*SIN(Base!N51)+COS(Index!$H$6)*COS(Base!N51)*COS(Index!$H$3-Base!H51)))","v":139.97829348395081}]
["HD 10939 ","01 46 06,26346","-53 31 19,3279",1,46,6.2634600000000002,26.526097750000002,0.46296774344335972,"-",53,31,19.3279,-53.522035527777803,-0.93413574232910368,285.67599999999999,-61.736499999999999,5.0679999999999996,5.0389999999999997,2.8999999999999915E-2,{"$f":"+VLOOKUP(W52,Data!$E$5:$F$32,2)","v":0.02},8.9999999999999143E-3,"A1V","A1",{"$f":"+DEGREES(ACOS(SIN(Index!$H$6)*SIN(Base!N52)+COS(Index!$H$6)*COS(Base!N52)*COS(Index!$H$3-Base!H52)))","v":82.816418301497748}]
["HD 109536","12 35 45,53178","-41 01 19,0045",12,35,45.531779999999998,188.93971575,3.2976201276196875,"-",41,1,19.0045,-41.021945694444398,-0.71596801794236653,299.74869999999999,21.7529,5.3369999999999997,5.1269999999999998,0.20999999999999996,{"$f":"+VLOOKUP(W53,Data!$E$5:$F$32,2)","v":0.2},9.9999999999999534E-3,"A7V","A7",{"$f":"+DEGREES(ACOS(SIN(Index!$H$6)*SIN(Base!N53)+COS(Index!$H$6)*COS(Base!N53)*COS(Index!$H$3-Base!H53)))","v":134.23153967854523}]
["HD 109704","12 36 47,35421","-05 49 54,8412",12,36,47.354210000000002,189.19730920833331,3.3021159815992025,"-",5,49,54.841200000000001,-5.8319003333333299,-0.10178586246482142,296.25900000000001,56.849899999999998,5.94,5.88,6.0000000000000497E-2,{"$f":"+VLOOKUP(W54,Data!$E$5:$F$32,2)","v":0.08},-1.9999999999999504E-2,"A3V","A3",{"$f":"+DEGREES(ACOS(SIN(Index!$H$6)*SIN(Base!N54)+COS(Index!$H$6)*COS(Base!N54)*COS(Index!$H$3-Base!H54)))","v":138.58657494808847}]
["HD 109787","12 37 42,16377","-48 32 28,6899",12,37,42.16377,189.42568237500001,3.3061018452807422,"-",48,32,28.689900000000002,-48.54130275,-0.84720555619487792,300.58690000000001,14.267899999999999,3.907,3.8519999999999999,5.500000000000016E-2,{"$f":"+VLOOKUP(W55,Data!$E$5:$F$32,2)","v":0.05},5.0000000000001571E-3,"A2V","A2",{"$f":"+DEGREES(ACOS(SIN(Index!$H$6)*SIN(Base!N55)+COS(Index!$H$6)*COS(Base!N55)*COS(Index!$H$3-Base!H55)))","v":130.27337319916535}]
["HD 10982 ","01 48 10,93603","+16 57 19,9768",1,48,10.936030000000001,27.045566791666666,0.47203418858262258,"+",16,57,19.976800000000001,16.9555491111111,0.29593015847248655,141.8904,-43.817399999999999,5.8170000000000002,5.8540000000000001,-3.6999999999999922E-2,{"$f":"+VLOOKUP(W56,Data!$E$5:$F$32,2)","v":-7.0000000000000007E-2},3.3000000000000085E-2,"B9,5V","B9,5",{"$f":"+DEGREES(ACOS(SIN(Index!$H$6)*SIN(Base!N56)+COS(Index!$H$6)*COS(Base!N56)*COS(Index!$H$3-Base!H56)))","v":57.284833638955554}]
["HD 11031 ","01 49 15,54296","+47 53 48,9227",1,49,15.542960000000001,27.314762333333331,0.47673253711639552,"+",47,53,48.922699999999999,47.8969229722222,0.83595900743938589,132.85830000000001,-13.8573,6.11,5.82,0.29000000000000004,{"$f":"+VLOOKUP(W57,Data!$E$5:$F$32,2)","v":0.08},0.21000000000000002,"A3V","A3",{"$f":"+DEGREES(ACOS(SIN(Index!$H$6)*SIN(Base!N57)+COS(Index!$H$6)*COS(Base!N57)*COS(Index!$H$3-Base!H57)))","v":60.41757299565537}]
["HD 110411","12 41 53,05658","+10 14 08,2548",12,41,53.056579999999997,190.47106908333333,3.3243472852977445,"+",10,14,8.2547999999999995,10.2356263333333,0.17864538052050072,294.88799999999998,72.957999999999998,4.9509999999999996,4.8719999999999999,7.8999999999999737E-2,{"$f":"+VLOOKUP(W58,Data!$E$5:$F$32,2)","v":-0.01},8.8999999999999732E-2,"A0V","A0",{"$f":"+DEGREES(ACOS(SIN(Index!$H$6)*SIN(Base!N58)+COS(Index!$H$6)*COS(Base!N58)*COS(Index!$H$3-Base!H58)))","v":131.81625075161219}]
["HD 110423","12 41 57,11727","+06 48 23,8228",12,41,57.117269999999998,190.48798862500001,3.3246425870077565,"+",6,48,23.822800000000001,6.8066174444444396,0.11879788532923768,296.1773,69.553899999999999,5.5739999999999998,5.5720000000000001,1.9999999999997797E-3,{"$f":"+VLOOKUP(W59,Data!$E$5:$F$32,2)","v":0.05},-4.8000000000000223E-2,"A2V","A2",{"$f":"+DEGREES(ACOS(SIN(Index!$H$6)*SIN(Base!N59)+COS(Index!$H$6)*COS(Base!N59)*COS(Index!$H$3-Base!H59)))","v":133.30186925405837}]
["HD 110506","12 43 09,17897","-56 10 34,4108",12,43,9.1789699999999996,190.78824570833333,3.3298830617143578,"-",56,10,34.410800000000002,-56.1762252222222,-0.98046009146966062,301.7713,6.6768999999999998,5.9119999999999999,5.9850000000000003,-7.3000000000000398E-2,{"$f":"+VLOOKUP(W60,Data!$E$5:$F$32,2)","v":-0.13},5.6999999999999607E-2,"B7,5V","B7,5",{"$f":"+DEGREES(ACOS(SIN(Index!$H$6)*SIN(Base!N60)+COS(Index!$H$6)*COS(Base!N60)*COS(Index!$H$3-Base!H60)))","v":125.35552091818337}]
["HD 110879","12 46 16,80410","-68 06 29,2164",12,46,16.804099999999998,191.57001708333334,3.3435275462059511,"-",68,6,29.2164,-68.108115666666706,-1.1887108657124668,302.44920000000002,-5.2412000000000001,2.91,3.07,-0.1599999999999997,{"$f":"+VLOOKUP(W61,Data!$E$5:$F$32,2)","v":-0.24},8.0000000000000293E-2,"B2,5V","B2,5",{"$f":"+DEGREES(ACOS(SIN(Index!$H$6)*SIN(Base!N61)+COS(Index!$H$6)*COS(Base!N61)*COS(Index!$H$3-Base!H61)))","v":117.73422647288227}]
["HD 110956","12 46 22,71460","-56 29 19,7366",12,46,22.714600000000001,191.59464416666668,3.3439573698952811,"-",56,29,19.736599999999999,-56.488815722222199,-0.98591582490511598,302.22930000000002,6.3760000000000003,4.4690000000000003,4.6120000000000001,-0.14299999999999979,{"$f":"+VLOOKUP(W62,Data!$E$5:$F$32,2)","v":-0.2},5.7000000000000217E-2,"B3V","B3",{"$f":"+DEGREES(ACOS(SIN(Index!$H$6)*SIN(Base!N62)+COS(Index!$H$6)*COS(Base!N62)*COS(Index!$H$3-Base!H62)))","v":124.81003426156627}]
["HD 111270","12 47 18,95085","+62 46 52,1513",12,47,18.950849999999999,191.828961875,3.348046985401425,"+",62,46,52.151299999999999,62.781153138888897,1.0957378304723842,123.74039999999999,54.340600000000002,6.09,5.89,0.20000000000000018,{"$f":"+VLOOKUP(W63,Data!$E$5:$F$32,2)","v":0.3},-9.9999999999999811E-2,"A9V","A9",{"$f":"+DEGREES(ACOS(SIN(Index!$H$6)*SIN(Base!N63)+COS(Index!$H$6)*COS(Base!N63)*COS(Index!$H$3-Base!H63)))","v":97.256137850080449}]
["HD 111397","12 48 54,21284","+14 07 21,3146",12,48,54.21284,192.22588683333333,3.354974632807683,"+",14,7,21.314599999999999,14.122587388888901,0.24648564883674018,300.20339999999999,76.980900000000005,5.7270000000000003,5.702,2.5000000000000355E-2,{"$f":"+VLOOKUP(W64,Data!$E$5:$F$32,2)","v":0.02},5.0000000000003549E-3,"A1V","A1",{"$f":"+DEGREES(ACOS(SIN(Index!$H$6)*SIN(Base!N64)+COS(Index!$H$6)*COS(Base!N64)*COS(Index!$H$3-Base!H64)))","v":128.46298813194431}]
["HD 111469","12 49 17,45211","+27 33 08,5716",12,49,17.452110000000001,192.322717125,3.3566646402129328,"+",27,33,8.5716000000000001,27.552381,0.48087976521392778,171.1549,89.361900000000006,5.8040000000000003,5.7560000000000002,4.8000000000000043E-2,{"$f":"+VLOOKUP(W65,Data!$E$5:$F$32,2)","v":0.05},-1.9999999999999601E-3,"A2V","A2",{"$f":"+DEGREES(ACOS(SIN(Index!$H$6)*SIN(Base!N65)+COS(Index!$H$6)*COS(Base!N65)*COS(Index!$H$3-Base!H65)))","v":121.01616044553697}]
["HD 111588","12 50 57,87912","-52 47 14,7281",12,50,57.87912,192.74116300000003,3.3639678984730721,"-",52,47,14.7281,-52.787424472222199,-0.92131436068810735,302.85919999999999,10.084300000000001,5.83,5.7110000000000003,0.11899999999999977,{"$f":"+VLOOKUP(W66,Data!$E$5:$F$32,2)","v":0.15},-3.1000000000000222E-2,"A5V","A5",{"$f":"+DEGREES(ACOS(SIN(Index!$H$6)*SIN(Base!N66)+COS(Index!$H$6)*COS(Base!N66)*COS(Index!$H$3-Base!H66)))","v":126.26346296660881}]
["HD 111604","12 50 10,74028","+37 31 00,9727",12,50,10.74028,192.54475116666669,{"$f":"+RADIANS(G67)","v":3.3605398652915266},"+",37,31,0.97270000000000001,{"$f":"VALUE(CONCATENATE(I67,+J67+K67/60+L67/3600))","v":37.516936861111098},{"$f":"+RADIANS(M67)","v":0.65479407348921526},124.316,79.607900000000001,6.0430000000000001,5.8849999999999998,0.15800000000000036,{"$f":"+VLOOKUP(W67,Data!$E$5:$F$32,2)","v":0.08},{"$f":"+S67-T67","v":7.8000000000000361E-2},"A3V",{"$f":"IF(MID(V67,3,1)<>\",\",LEFT(V67,2),LEFT(V67,4))","v":"A3"},{"$f":"+DEGREES(ACOS(SIN(Index!$H$6)*SIN(Base!N67)+COS(Index!$H$6)*COS(Base!N67)*COS(Index!$H$3-Base!H67)))","v":114.59603105313015}]
["HD 111774","12 51 56,93048","-39 40 49,5532",12,51,56.930480000000003,192.98721033333334,3.3682622345554902,"-",39,40,49.553199999999997,-39.680431444444402,-0.69255417731744418,303.03890000000001,23.191199999999998,5.891,5.9740000000000002,-8.3000000000000185E-2,{"$f":"+VLOOKUP(W68,Data!$E$5:$F$32,2)","v":-0.11},2.6999999999999816E-2,"B8V","B8",{"$f":"+DEGREES(ACOS(SIN(Index!$H$6)*SIN(Base!N68)+COS(Index!$H$6)*COS(Base!N68)*COS(Index!$H$3-Base!H68)))","v":131.94985366916714}]
["HD 112014","12 49 06,63608","+83 25 04,1126",12,49,6.6360799999999998,192.27765033333333,3.3558780763150389,"+",83,25,4.1125999999999996,83.417809055555594,1.4559154228193865,123.0121,33.710099999999997,5.86,5.85,1.0000000000000675E-2,{"$f":"+VLOOKUP(W69,Data!$E$5:$F$32,2)","v":-0.01},2.0000000000000677E-2,"A0V+,,,","A0",{"$f":"+DEGREES(ACOS(SIN(Index!$H$6)*SIN(Base!N69)+COS(Index!$H$6)*COS(Base!N69)*COS(Index!$H$3-Base!H69)))","v":82.103550385909088}]
["HD 112078","12 54 39,18258","-59 08 48,1229",12,54,39.182580000000002,193.66326075000001,3.3800615402358032,"-",59,8,48.122900000000001,-59.146700805555597,-1.0323046707489276,303.34500000000003,3.7225000000000001,4.4619999999999997,4.6020000000000003,-0.14000000000000057,{"$f":"+VLOOKUP(W70,Data!$E$5:$F$32,2)","v":-0.18},3.9999999999999425E-2,"B4Vne","B4",{"$f":"+DEGREES(ACOS(SIN(Index!$H$6)*SIN(Base!N70)+COS(Index!$H$6)*COS(Base!N70)*COS(Index!$H$3-Base!H70)))","v":122.40347818368129}]
["HD 112091","12 54 36,88630","-57 10 07,2137",12,54,36.886299999999999,193.65369291666667,3.3798945500418545,"-",57,10,7.2137000000000002,-57.168670472222203,-0.9977815287279389,303.3646,5.7004000000000001,5.0190000000000001,5.1130000000000004,-9.4000000000000306E-2,{"$f":"+VLOOKUP(W71,Data!$E$5:$F$32,2)","v":-0.16},6.5999999999999698E-2,"B5Vne","B5",{"$f":"+DEGREES(ACOS(SIN(Index!$H$6)*SIN(Base!N71)+COS(Index!$H$6)*COS(Base!N71)*COS(Index!$H$3-Base!H71)))","v":123.49564608358448}]
["HD 112131","12 54 18,66003","-11 38 54,8473",12,54,18.660029999999999,193.57775012500002,3.3785690982841152,"-",11,38,54.847299999999997,-11.6485686944444,-0.20330587686279208,304.05509999999998,51.216900000000003,6.0640000000000001,5.9989999999999997,6.5000000000000391E-2,{"$f":"+VLOOKUP(W72,Data!$E$5:$F$32,2)","v":0.05},1.5000000000000388E-2,"A2V","A2",{"$f":"+DEGREES(ACOS(SIN(Index!$H$6)*SIN(Base!N72)+COS(Index!$H$6)*COS(Base!N72)*COS(Index!$H$3-Base!H72)))","v":135.25079962349128}]
["HD 112409","12 57 04,35244","-51 11 55,5058",12,57,4.3524399999999996,194.26813516666667,3.3906185903677164,"-",51,11,55.505800000000001,-51.198751611111099,-0.89358678852464013,303.83319999999998,11.6631,5.1020000000000003,5.1630000000000003,-6.0999999999999943E-2,{"$f":"+VLOOKUP(W73,Data!$E$5:$F$32,2)","v":-0.11},4.9000000000000057E-2,"B8,5V","B8,5",{"$f":"+DEGREES(ACOS(SIN(Index!$H$6)*SIN(Base!N73)+COS(Index!$H$6)*COS(Base!N73)*COS(Index!$H$3-Base!H73)))","v":126.24039948645577}]
["HD 11241 ","01 51 59,31962","+55 08 50,5767",1,51,59.31962,27.997165083333336,0.48864271192855929,"+",55,8,50.576700000000002,55.147382416666701,0.9625033970272614,131.57390000000001,-6.7050999999999998,5.3390000000000004,5.5110000000000001,-0.17199999999999971,{"$f":"+VLOOKUP(W74,Data!$E$5:$F$32,2)","v":-0.26},8.80000000000003E-2,"B1,5V","B1,5",{"$f":"+DEGREES(ACOS(SIN(Index!$H$6)*SIN(Base!N74)+COS(Index!$H$6)*COS(Base!N74)*COS(Index!$H$3-Base!H74)))","v":62.859150981914702}]
["HD 112846","12 59 39,51657","-03 48 42,9121",12,59,39.516570000000002,194.914652375,3.4019024443239352,"-",3,48,42.912100000000002,-3.8119200277777798,-6.6530555307435971E-2,306.9153,58.996200000000002,5.9640000000000004,5.8049999999999997,0.1590000000000007,{"$f":"+VLOOKUP(W75,Data!$E$5:$F$32,2)","v":0.08},7.9000000000000695E-2,"A3V","A3",{"$f":"+DEGREES(ACOS(SIN(Index!$H$6)*SIN(Base!N75)+COS(Index!$H$6)*COS(Base!N75)*COS(Index!$H$3-Base!H75)))","v":132.580051621141}]
["HD 113314","13 03 33,30528","-49 31 38,1518",13,3,33.305280000000003,195.88877200000002,3.4189040390884782,"-",49,31,38.151800000000001,-49.527264388888902,-0.8644138330918486,304.95179999999999,13.297000000000001,4.8570000000000002,4.83,2.7000000000000135E-2,{"$f":"+VLOOKUP(W76,Data!$E$5:$F$32,2)","v":-0.01},3.7000000000000137E-2,"A0V","A0",{"$f":"+DEGREES(ACOS(SIN(Index!$H$6)*SIN(Base!N76)+COS(Index!$H$6)*COS(Base!N76)*COS(Index!$H$3-Base!H76)))","v":126.08777413704956}]
["HD 113703","13 06 16,70411","-48 27 47,8460",13,6,16.70411,196.56960045833333,3.4307867373276713,"-",48,27,47.845999999999997,-48.463290555555602,-0.84584398654511717,305.47019999999998,14.3353,4.5640000000000001,4.694,-0.12999999999999989,{"$f":"+VLOOKUP(W77,Data!$E$5:$F$32,2)","v":-0.16},3.000000000000011E-2,"B5V","B5",{"$f":"+DEGREES(ACOS(SIN(Index!$H$6)*SIN(Base!N77)+COS(Index!$H$6)*COS(Base!N77)*COS(Index!$H$3-Base!H77)))","v":126.13797849543683}]
["HD 113791","13 06 54,63940","-49 54 22,4823",13,6,54.639400000000002,196.72766416666667,3.4335454694659999,"-",49,54,22.482299999999999,-49.906245083333303,-0.87102829401139803,305.48649999999998,12.8887,4.0839999999999996,4.2640000000000002,-0.1800000000000006,{"$f":"+VLOOKUP(W78,Data!$E$5:$F$32,2)","v":-0.26},7.9999999999999405E-2,"B1,5V","B1,5",{"$f":"+DEGREES(ACOS(SIN(Index!$H$6)*SIN(Base!N78)+COS(Index!$H$6)*COS(Base!N78)*COS(Index!$H$3-Base!H78)))","v":125.43475230035453}]
["HD 113797","13 05 44,43582","+35 47 56,0374",13,5,44.43582,196.43514924999999,3.4284401210589697,"+",35,47,56.037399999999998,35.798899277777799,0.62480866098704269,104.4654,80.810699999999997,5.133,5.1909999999999998,-5.7999999999999829E-2,{"$f":"+VLOOKUP(W79,Data!$E$5:$F$32,2)","v":-7.0000000000000007E-2},1.2000000000000177E-2,"B9V","B9",{"$f":"+DEGREES(ACOS(SIN(Index!$H$6)*SIN(Base!N79)+COS(Index!$H$6)*COS(Base!N79)*COS(Index!$H$3-Base!H79)))","v":113.25038096855518}]
["HD 113902","13 07 38,28392","-53 27 35,1498",13,7,38.283920000000002,196.90951633333336,3.4367193885262193,"-",53,27,35.149799999999999,-53.459763833333298,-0.93304889623025111,305.37430000000001,9.3351000000000006,5.64,5.7009999999999996,-6.0999999999999943E-2,{"$f":"+VLOOKUP(W80,Data!$E$5:$F$32,2)","v":-0.11},4.9000000000000057E-2,"B8V","B8",{"$f":"+DEGREES(ACOS(SIN(Index!$H$6)*SIN(Base!N80)+COS(Index!$H$6)*COS(Base!N80)*COS(Index!$H$3-Base!H80)))","v":123.75340958919364}]
["HD 11413 ","01 50 54,43472","-50 12 22,0966",1,50,54.434719999999999,27.726811333333334,0.48392414884594565,"-",50,12,22.096599999999999,-50.2061379444444,-0.87626241184101272,280.69920000000002,-64.277100000000004,6.0860000000000003,5.9429999999999996,0.14300000000000068,{"$f":"+VLOOKUP(W81,Data!$E$5:$F$32,2)","v":0.02},0.12300000000000068,"A1V","A1",{"$f":"+DEGREES(ACOS(SIN(Index!$H$6)*SIN(Base!N81)+COS(Index!$H$6)*COS(Base!N81)*COS(Index!$H$3-Base!H81)))","v":81.684360418217807}]
["HD 114570","13 12 48,80347","-66 13 36,2897",13,12,48.803469999999997,198.20334779166666,3.4593010074400152,"-",66,13,36.289700000000003,-66.226747138888896,-1.1558747904593456,305.0874,-3.4445000000000001,5.95,5.9050000000000002,4.4999999999999929E-2,{"$f":"+VLOOKUP(W82,Data!$E$5:$F$32,2)","v":-0.01},5.4999999999999931E-2,"A0Vm,,,","A0",{"$f":"+DEGREES(ACOS(SIN(Index!$H$6)*SIN(Base!N82)+COS(Index!$H$6)*COS(Base!N82)*COS(Index!$H$3-Base!H82)))","v":116.77815461568787}]
["HD 114772","13 13 23,35287","-50 41 59,3747",13,13,23.352869999999999,198.347303625,3.4618135107091339,"-",50,41,59.374699999999997,-50.699826305555597,-0.88487889922117779,306.48259999999999,12.0205,5.8959999999999999,5.9080000000000004,-1.2000000000000455E-2,{"$f":"+VLOOKUP(W83,Data!$E$5:$F$32,2)","v":-7.0000000000000007E-2},5.7999999999999552E-2,"B9V","B9",{"$f":"+DEGREES(ACOS(SIN(Index!$H$6)*SIN(Base!N83)+COS(Index!$H$6)*COS(Base!N83)*COS(Index!$H$3-Base!H83)))","v":124.16252056156894}]
["HD 114911","13 15 14,94123","-67 53 40,5276",13,15,14.941229999999999,198.81225512500001,3.4699284452462207,"-",67,53,40.5276,-67.894591000000005,-1.1849841572449096,305.17750000000001,-5.1266999999999996,4.6970000000000001,4.774,-7.6999999999999957E-2,{"$f":"+VLOOKUP(W84,Data!$E$5:$F$32,2)","v":-0.11},3.3000000000000043E-2,"B8V","B8",{"$f":"+DEGREES(ACOS(SIN(Index!$H$6)*SIN(Base!N84)+COS(Index!$H$6)*COS(Base!N84)*COS(Index!$H$3-Base!H84)))","v":115.67951948078729}]
["HD 11502 ","01 53 31,80"," +19 17 45,0      ",1,53,31.8,28.382499999999997,0.49536807494729052,"+",19,17,45,19.295833333333299,0.33677582358273855,142.5472,-41.198900000000002,4.8,4.7,9.9999999999999645E-2,{"$f":"+VLOOKUP(W85,Data!$E$5:$F$32,2)","v":-7.0000000000000007E-2},0.16999999999999965,"B9V","B9",{"$f":"+DEGREES(ACOS(SIN(Index!$H$6)*SIN(Base!N85)+COS(Index!$H$6)*COS(Base!N85)*COS(Index!$H$3-Base!H85)))","v":58.39823394569958}]
["HD 115271","13 15 31,95290","+40 51 18,7208",13,15,31.9529,198.88313708333334,3.4711655687993987,"+",40,51,18.720800000000001,40.855200222222201,0.71305776043929636,104.5748,75.402699999999996,5.96,5.7779999999999996,0.18200000000000038,{"$f":"+VLOOKUP(W86,Data!$E$5:$F$32,2)","v":0.2},-1.7999999999999627E-2,"A7V","A7",{"$f":"+DEGREES(ACOS(SIN(Index!$H$6)*SIN(Base!N86)+COS(Index!$H$6)*COS(Base!N86)*COS(Index!$H$3-Base!H86)))","v":108.67810687075695}]
["HD 115735","13 18 14,50965","+49 40 55,4234",13,18,14.509650000000001,199.56045687500003,3.4829870292529046,"+",49,40,55.423400000000001,49.682062055555598,0.86711556204958717,111.8527,66.865600000000001,5.08,5.15,-7.0000000000000284E-2,{"$f":"+VLOOKUP(W87,Data!$E$5:$F$32,2)","v":-0.01},-6.0000000000000282E-2,"A0V","A0",{"$f":"+DEGREES(ACOS(SIN(Index!$H$6)*SIN(Base!N87)+COS(Index!$H$6)*COS(Base!N87)*COS(Index!$H$3-Base!H87)))","v":102.93079792762806}]
["HD 115823","13 20 37,82506","-52 44 52,1702",13,20,37.825060000000001,200.15760441666669,3.4934092199751778,"-",52,44,52.170200000000001,-52.747825055555602,-0.92062322048540612,307.4085,9.8699999999999992,5.3280000000000003,5.4470000000000001,-0.11899999999999977,{"$f":"+VLOOKUP(W88,Data!$E$5:$F$32,2)","v":-0.14000000000000001},2.1000000000000241E-2,"B6V","B6",{"$f":"+DEGREES(ACOS(SIN(Index!$H$6)*SIN(Base!N88)+COS(Index!$H$6)*COS(Base!N88)*COS(Index!$H$3-Base!H88)))","v":122.30284166645797}]
["HD 116087","13 22 37,93612","-60 59 18,2178",13,22,37.936120000000003,200.65806716666668,3.5021439427462631,"-",60,59,18.2178,-60.988393833333298,-1.0644482778946718,306.70679999999999,1.6545000000000001,4.38,4.5049999999999999,-0.125,{"$f":"+VLOOKUP(W89,Data!$E$5:$F$32,2)","v":-0.2},7.5000000000000011E-2,"B3V","B3",{"$f":"+DEGREES(ACOS(SIN(Index!$H$6)*SIN(Base!N89)+COS(Index!$H$6)*COS(Base!N89)*COS(Index!$H$3-Base!H89)))","v":118.46533890949623}]
["HD 116160","13 21 41,64387","+02 05 14,0741",13,21,41.64387,200.42351612499999,3.4980502548051966,"+",2,5,14.0741,2.0872428055555599,3.6429259245508314E-2,320.35000000000002,63.931100000000001,5.7350000000000003,5.6929999999999996,4.2000000000000703E-2,{"$f":"+VLOOKUP(W90,Data!$E$5:$F$32,2)","v":0.05},-7.9999999999992993E-3,"A2V","A2",{"$f":"+DEGREES(ACOS(SIN(Index!$H$6)*SIN(Base!N90)+COS(Index!$H$6)*COS(Base!N90)*COS(Index!$H$3-Base!H90)))","v":125.6936845022814}]
["HD 11636 ","01 54 38,41099","+20 48 28,9133",1,54,38.410989999999998,28.660045791666665,0.50021216283692815,"+",20,48,28.9133,20.808031472222201,0.36316866004888043,142.2449,-39.681699999999999,2.77,2.64,0.12999999999999989,{"$f":"+VLOOKUP(W91,Data!$E$5:$F$32,2)","v":0.15},-2.0000000000000101E-2,"A5V","A5",{"$f":"+DEGREES(ACOS(SIN(Index!$H$6)*SIN(Base!N91)+COS(Index!$H$6)*COS(Base!N91)*COS(Index!$H$3-Base!H91)))","v":58.584271028386894}]
["HD 116656","13 23 55,2 "," + 54 55 25         ",13,23,55.2,200.98,3.5077627306582033,"+",54,55,25,54.9236111111111,0.95859785097382988,113.1112,61.581000000000003,2.08,2.06,2.0000000000000018E-2,{"$f":"+VLOOKUP(W92,Data!$E$5:$F$32,2)","v":0.05},-2.9999999999999985E-2,"A2V","A2",{"$f":"+DEGREES(ACOS(SIN(Index!$H$6)*SIN(Base!N92)+COS(Index!$H$6)*COS(Base!N92)*COS(Index!$H$3-Base!H92)))","v":99.02485135271283}]
["HD 116656","13 23 55,54048","+54 55 31,2671",13,23,55.540480000000002,200.98141866666666,3.5077874910625249,"+",54,55,31.267099999999999,54.925351972222202,0.95862823473203851,113.1105,61.579099999999997,2.29,2.27,2.0000000000000018E-2,{"$f":"+VLOOKUP(W93,Data!$E$5:$F$32,2)","v":0.05},-2.9999999999999985E-2,"A2V","A2",{"$f":"+DEGREES(ACOS(SIN(Index!$H$6)*SIN(Base!N93)+COS(Index!$H$6)*COS(Base!N93)*COS(Index!$H$3-Base!H93)))","v":99.02314197287798}]
["HD 117150","13 29 25,25383","-51 09 54,4823",13,29,25.253830000000001,202.35522429166667,3.5317649225011936,"-",51,9,54.482300000000002,-51.1651339722222,-0.89300005003928229,308.98689999999999,11.259499999999999,5.1050000000000004,5.05,5.5000000000000604E-2,{"$f":"+VLOOKUP(W94,Data!$E$5:$F$32,2)","v":0.02},3.50000000000006E-2,"A1V","A1",{"$f":"+DEGREES(ACOS(SIN(Index!$H$6)*SIN(Base!N94)+COS(Index!$H$6)*COS(Base!N94)*COS(Index!$H$3-Base!H94)))","v":121.65211606547921}]
["HD 117376","13 28 27,08646","+59 56 44,8349",13,28,27.086459999999999,202.11286024999998,3.5275348719856692,"+",59,56,44.834899999999998,59.9457874722222,1.0462513640910462,114.52549999999999,56.574300000000001,5.39,5.4,-1.0000000000000675E-2,{"$f":"+VLOOKUP(W95,Data!$E$5:$F$32,2)","v":0.02},-3.0000000000000675E-2,"A1Vn","A1",{"$f":"+DEGREES(ACOS(SIN(Index!$H$6)*SIN(Base!N95)+COS(Index!$H$6)*COS(Base!N95)*COS(Index!$H$3-Base!H95)))","v":95.486527844916679}]
["HD 11753 ","01 54 22,03347","-42 29 49,0183",1,54,22.033470000000001,28.591806124999998,0.49902115597313135,"-",42,29,49.018300000000004,-42.496949527777801,-0.74171169131357206,267.17419999999998,-69.994299999999996,5.0640000000000001,5.1120000000000001,-4.8000000000000043E-2,{"$f":"+VLOOKUP(W96,Data!$E$5:$F$32,2)","v":0.08},-0.12800000000000006,"A3V","A3",{"$f":"+DEGREES(ACOS(SIN(Index!$H$6)*SIN(Base!N96)+COS(Index!$H$6)*COS(Base!N96)*COS(Index!$H$3-Base!H96)))","v":78.288843117643054}]
["HD 118054","13 34 40,45020","-13 12 51,5716",13,34,40.450200000000002,203.6685425,3.5546866493630032,"-",13,12,51.571599999999997,-13.2143254444444,-0.23063348743561782,318.86590000000001,48.315199999999997,5.94,5.9219999999999997,1.8000000000000682E-2,{"$f":"+VLOOKUP(W97,Data!$E$5:$F$32,2)","v":-0.01},2.8000000000000684E-2,"A0V","A0",{"$f":"+DEGREES(ACOS(SIN(Index!$H$6)*SIN(Base!N97)+COS(Index!$H$6)*COS(Base!N97)*COS(Index!$H$3-Base!H97)))","v":125.62099060973527}]
["HD 118098","13 34 41,59115","-00 35 44,9487",13,34,41.591149999999999,203.67329645833334,3.5547696215884224,"-",0,35,44.948700000000002,-0.595819083333333,-1.0399004750381132E-2,325.24590000000001,60.388399999999997,3.48,3.4,8.0000000000000071E-2,{"$f":"+VLOOKUP(W98,Data!$E$5:$F$32,2)","v":0.08},0,"A3V","A3",{"$f":"+DEGREES(ACOS(SIN(Index!$H$6)*SIN(Base!N98)+COS(Index!$H$6)*COS(Base!N98)*COS(Index!$H$3-Base!H98)))","v":123.30619148464834}]
["HD 118214","13 34 07,30510","+55 20 54,3673",13,34,7.3051000000000004,203.53043791666667,3.5522762696717418,"+",55,20,54.3673,55.3484353611111,0.96601243287864536,110.49379999999999,60.737099999999998,5.5789999999999997,5.5940000000000003,-1.5000000000000568E-2,{"$f":"+VLOOKUP(W99,Data!$E$5:$F$32,2)","v":-0.01},-5.0000000000005682E-3,"A0V","A0",{"$f":"+DEGREES(ACOS(SIN(Index!$H$6)*SIN(Base!N99)+COS(Index!$H$6)*COS(Base!N99)*COS(Index!$H$3-Base!H99)))","v":97.601231248862959}]
["HD 118232","13 34 27,25928","+49 00 57,5065",13,34,27.25928,203.61358033333332,3.5537273785906396,"+",49,0,57.506500000000003,49.015974027777801,0.85549013285674913,104.9944,66.587000000000003,4.82,4.7,0.12000000000000011,{"$f":"+VLOOKUP(W100,Data!$E$5:$F$32,2)","v":0.15},-2.9999999999999888E-2,"A5V","A5",{"$f":"+DEGREES(ACOS(SIN(Index!$H$6)*SIN(Base!N100)+COS(Index!$H$6)*COS(Base!N100)*COS(Index!$H$3-Base!H100)))","v":101.19870993437057}]
["HD 118354","13 37 23,47424","-46 25 40,3741",13,37,23.474240000000002,204.34780933333334,3.5665420921042656,"-",46,25,40.374099999999999,-46.427881694444402,-0.8103194002944587,311.13069999999999,15.711,5.7939999999999996,5.891,-9.7000000000000419E-2,{"$f":"+VLOOKUP(W101,Data!$E$5:$F$32,2)","v":-0.11},1.2999999999999581E-2,"B8V","B8",{"$f":"+DEGREES(ACOS(SIN(Index!$H$6)*SIN(Base!N101)+COS(Index!$H$6)*COS(Base!N101)*COS(Index!$H$3-Base!H101)))","v":121.91885039086247}]
["HD 118991","13 41 44,77217","-54 33 33,9275",13,41,44.772170000000003,205.43655070833333,3.5855442138007056,"-",54,33,33.927500000000002,-54.559424305555602,-0.95224159212456605,310.25029999999998,7.5959000000000003,4.96,5.01,-4.9999999999999822E-2,{"$f":"+VLOOKUP(W102,Data!$E$5:$F$32,2)","v":-0.11},6.0000000000000178E-2,"B8Vn","B8",{"$f":"+DEGREES(ACOS(SIN(Index!$H$6)*SIN(Base!N102)+COS(Index!$H$6)*COS(Base!N102)*COS(Index!$H$3-Base!H102)))","v":118.72573037334489}]
["HD 119024","13 39 30,44761","+52 55 16,3533",13,39,30.447610000000001,204.87686504166669,3.5757758561411532,"+",52,55,16.353300000000001,52.921209249999997,0.92364934554937883,107.0478,62.699399999999997,5.5730000000000004,5.4669999999999996,0.10600000000000076,{"$f":"+VLOOKUP(W103,Data!$E$5:$F$32,2)","v":0.08},2.6000000000000759E-2,"A3Vn","A3",{"$f":"+DEGREES(ACOS(SIN(Index!$H$6)*SIN(Base!N103)+COS(Index!$H$6)*COS(Base!N103)*COS(Index!$H$3-Base!H103)))","v":98.338621953508493}]
["HD 119055","13 40 40,46962","+19 57 20,5859",13,40,40.469619999999999,205.16862341666666,3.5808680004051712,"+",19,57,20.585899999999999,19.9557183055556,0.34829298903244904,3.0796999999999999,76.641599999999997,5.774,5.7530000000000001,2.0999999999999908E-2,{"$f":"+VLOOKUP(W104,Data!$E$5:$F$32,2)","v":0.02},9.9999999999990721E-4,"A1V","A1",{"$f":"+DEGREES(ACOS(SIN(Index!$H$6)*SIN(Base!N104)+COS(Index!$H$6)*COS(Base!N104)*COS(Index!$H$3-Base!H104)))","v":114.79895953734483}]
["HD 11946 ","01 59 38,03766","+64 37 17,7623",1,59,38.037660000000002,29.90849025,0.52200162916312198,"+",64,37,17.7623,64.621600638888907,1.1278596990574827,130.15889999999999,2.7109999999999999,5.2839999999999998,5.2830000000000004,9.9999999999944578E-4,{"$f":"+VLOOKUP(W105,Data!$E$5:$F$32,2)","v":-0.01},1.0999999999999446E-2,"A0Vn","A0",{"$f":"+DEGREES(ACOS(SIN(Index!$H$6)*SIN(Base!N105)+COS(Index!$H$6)*COS(Base!N105)*COS(Index!$H$3-Base!H105)))","v":66.867184033640271}]
["HD 119476","13 41 29,89279","+64 49 20,6778",13,41,29.892790000000002,205.37455329166667,3.5844621547521416,"+",64,49,20.677800000000001,64.822410500000004,1.1313644923043438,114.4212,51.470700000000001,5.93,5.85,8.0000000000000071E-2,{"$f":"+VLOOKUP(W106,Data!$E$5:$F$32,2)","v":0.05},3.0000000000000068E-2,"A2V","A2",{"$f":"+DEGREES(ACOS(SIN(Index!$H$6)*SIN(Base!N106)+COS(Index!$H$6)*COS(Base!N106)*COS(Index!$H$3-Base!H106)))","v":91.405584076780741}]
["HD 119752","13 45 36,89030","-26 06 57,6301",13,45,36.890300000000003,206.40370958333332,3.6024243205593396,"-",26,6,57.630099999999999,-26.116008361111099,-0.4558103333797569,317.84100000000001,35.182400000000001,5.8259999999999996,5.8049999999999997,2.0999999999999908E-2,{"$f":"+VLOOKUP(W107,Data!$E$5:$F$32,2)","v":-0.01},3.099999999999991E-2,"A0V","A0",{"$f":"+DEGREES(ACOS(SIN(Index!$H$6)*SIN(Base!N107)+COS(Index!$H$6)*COS(Base!N107)*COS(Index!$H$3-Base!H107)))","v":123.51307622529818}]
["HD 119921","13 46 56,35225","-36 15 06,9573",13,46,56.352249999999998,206.73480104166669,3.6082029566324865,"-",36,15,6.9573,-36.2519325833333,-0.63271558379017967,315.2817,25.285299999999999,5.1470000000000002,5.1550000000000002,-8.0000000000000071E-3,{"$f":"+VLOOKUP(W108,Data!$E$5:$F$32,2)","v":-0.01},1.9999999999999931E-3,"A0V","A0",{"$f":"+DEGREES(ACOS(SIN(Index!$H$6)*SIN(Base!N108)+COS(Index!$H$6)*COS(Base!N108)*COS(Index!$H$3-Base!H108)))","v":122.33209748998884}]
["HD 120047","13 46 13,54556","+41 05 19,4774",13,46,13.54556,206.55643983333334,3.6050899662892344,"+",41,5,19.477399999999999,41.088743722222198,0.71713386346092767,87.5214,72.061300000000003,6.0839999999999996,5.891,0.19299999999999962,{"$f":"+VLOOKUP(W109,Data!$E$5:$F$32,2)","v":0.15},4.2999999999999622E-2,"A5V","A5",{"$f":"+DEGREES(ACOS(SIN(Index!$H$6)*SIN(Base!N109)+COS(Index!$H$6)*COS(Base!N109)*COS(Index!$H$3-Base!H109)))","v":103.73051663144975}]
["HD 120315","13 47 32,43776","+49 18 47,7602",13,47,32.437759999999997,206.88515733333332,3.6108271689731581,"+",49,18,47.760199999999998,49.313266722222203,0.86067886921692938,100.6956,65.322500000000005,1.7549999999999999,1.8520000000000001,-9.7000000000000197E-2,{"$f":"+VLOOKUP(W110,Data!$E$5:$F$32,2)","v":-0.2},0.10299999999999981,"B3V","B3",{"$f":"+DEGREES(ACOS(SIN(Index!$H$6)*SIN(Base!N110)+COS(Index!$H$6)*COS(Base!N110)*COS(Index!$H$3-Base!H110)))","v":99.247056177445899}]
["HD 120324","13 49 36,98863","-42 28 25,4296",13,49,36.988630000000001,207.40411929166666,3.6198847638386726,"-",42,28,25.429600000000001,-42.473730444444399,-0.7413064418601093,314.23770000000002,19.1172,3.274,3.456,-0.18199999999999994,{"$f":"+VLOOKUP(W111,Data!$E$5:$F$32,2)","v":-0.24},5.8000000000000052E-2,"B2Vnpe","B2",{"$f":"+DEGREES(ACOS(SIN(Index!$H$6)*SIN(Base!N111)+COS(Index!$H$6)*COS(Base!N111)*COS(Index!$H$3-Base!H111)))","v":120.75160964157976}]
["HD 120640","13 51 47,21507","-46 53 55,2079",13,51,47.215069999999997,207.94672945833332,3.6293550978018012,"-",46,53,55.207900000000002,-46.898668861111098,-0.81853618642892789,313.52870000000001,14.727600000000001,5.5990000000000002,5.75,-0.1509999999999998,{"$f":"+VLOOKUP(W112,Data!$E$5:$F$32,2)","v":-0.24},8.900000000000019E-2,"B2Vp","B2",{"$f":"+DEGREES(ACOS(SIN(Index!$H$6)*SIN(Base!N112)+COS(Index!$H$6)*COS(Base!N112)*COS(Index!$H$3-Base!H112)))","v":119.4114129285569}]
["HD 120642","13 52 04,86066","-52 48 41,5086",13,52,4.8606600000000002,208.02025275,3.6306383213182887,"-",52,48,41.508600000000001,-52.811530166666699,-0.92173508442464358,312.14089999999999,8.9725000000000001,5.165,5.2480000000000002,-8.3000000000000185E-2,{"$f":"+VLOOKUP(W113,Data!$E$5:$F$32,2)","v":-7.0000000000000007E-2},-1.3000000000000178E-2,"B9V","B9",{"$f":"+DEGREES(ACOS(SIN(Index!$H$6)*SIN(Base!N113)+COS(Index!$H$6)*COS(Base!N113)*COS(Index!$H$3-Base!H113)))","v":117.82054484077119}]
["HD 121164","13 53 10,28171","+28 38 53,2793",13,53,10.28171,208.29284045833333,3.6353958743291712,"+",28,38,53.279299999999999,28.648133138888898,0.50000424782330921,42.8782,76.284400000000005,6.0979999999999999,5.9109999999999996,0.18700000000000028,{"$f":"+VLOOKUP(W114,Data!$E$5:$F$32,2)","v":0.2},-1.2999999999999734E-2,"A7V","A7",{"$f":"+DEGREES(ACOS(SIN(Index!$H$6)*SIN(Base!N114)+COS(Index!$H$6)*COS(Base!N114)*COS(Index!$H$3-Base!H114)))","v":108.44826333962915}]
["HD 121190","13 55 12,14182","-52 09 38,9581",13,55,12.141819999999999,208.80059091666666,3.6442577916055985,"-",52,9,38.958100000000002,-52.160821694444401,-0.91037807911374247,312.76740000000001,9.4890000000000008,5.5880000000000001,5.6539999999999999,-6.5999999999999837E-2,{"$f":"+VLOOKUP(W115,Data!$E$5:$F$32,2)","v":-7.0000000000000007E-2},4.0000000000001701E-3,"B9V","B9",{"$f":"+DEGREES(ACOS(SIN(Index!$H$6)*SIN(Base!N115)+COS(Index!$H$6)*COS(Base!N115)*COS(Index!$H$3-Base!H115)))","v":117.54506571231764}]
["HD 121409","13 53 51,01399","+53 43 43,2299",13,53,51.01399,208.46255829166665,3.6383580093201888,"+",53,43,43.229900000000001,53.728674972222201,0.93774228099915025,103.76139999999999,61.015099999999997,5.6660000000000004,5.6980000000000004,-3.2000000000000028E-2,{"$f":"+VLOOKUP(W116,Data!$E$5:$F$32,2)","v":-0.01},-2.2000000000000026E-2,"A0V","A0",{"$f":"+DEGREES(ACOS(SIN(Index!$H$6)*SIN(Base!N116)+COS(Index!$H$6)*COS(Base!N116)*COS(Index!$H$3-Base!H116)))","v":96.099801589357639}]
["HD 121607","13 56 27,87652","+01 03 02,0940",13,56,27.876519999999999,209.11615216666667,3.6497653744098071,"+",1,3,2.0939999999999999,1.0505816666666701,1.8336109144422953E-2,336.5265,59.612099999999998,6.1040000000000001,5.9059999999999997,0.1980000000000004,{"$f":"+VLOOKUP(W117,Data!$E$5:$F$32,2)","v":0.27},-7.199999999999962E-2,"A8V","A8",{"$f":"+DEGREES(ACOS(SIN(Index!$H$6)*SIN(Base!N117)+COS(Index!$H$6)*COS(Base!N117)*COS(Index!$H$3-Base!H117)))","v":117.62349629011712}]
["HD 121847","13 58 31,14642","-24 58 20,0979",13,58,31.146419999999999,209.62977674999999,3.6587298145081579,"-",24,58,20.097899999999999,-24.972249416666699,-0.43584797395006725,321.65989999999999,35.448099999999997,5.05,5.15,-0.10000000000000053,{"$f":"+VLOOKUP(W118,Data!$E$5:$F$32,2)","v":-0.11},9.9999999999994676E-3,"B8V","B8",{"$f":"+DEGREES(ACOS(SIN(Index!$H$6)*SIN(Base!N118)+COS(Index!$H$6)*COS(Base!N118)*COS(Index!$H$3-Base!H118)))","v":120.61857196039735}]
["HD 121996","13 58 38,92201","+21 41 46,3749",13,58,38.92201,209.66217504166667,3.6592952713697628,"+",21,41,46.374899999999997,21.696215250000002,0.37867039133390468,17.019300000000001,73.781499999999994,5.7530000000000001,5.7560000000000002,-3.0000000000001137E-3,{"$f":"+VLOOKUP(W119,Data!$E$5:$F$32,2)","v":-0.01},6.9999999999998865E-3,"A0Vs","A0",{"$f":"+DEGREES(ACOS(SIN(Index!$H$6)*SIN(Base!N119)+COS(Index!$H$6)*COS(Base!N119)*COS(Index!$H$3-Base!H119)))","v":110.25511234367441}]
["HD 12216 ","02 03 26,10618","+72 25 16,6578",2,3,26.106179999999998,30.858775749999996,0.53858723997208247,"+",72,25,16.657800000000002,72.421293833333294,1.2639900259459316,128.375,10.3147,3.9710000000000001,3.948,2.3000000000000131E-2,{"$f":"+VLOOKUP(W120,Data!$E$5:$F$32,2)","v":0.05},-2.6999999999999871E-2,"A2V","A2",{"$f":"+DEGREES(ACOS(SIN(Index!$H$6)*SIN(Base!N120)+COS(Index!$H$6)*COS(Base!N120)*COS(Index!$H$3-Base!H120)))","v":70.019041989432395}]
["HD 122365","14 01 20,42877","+08 53 41,6655",14,1,20.42877,210.335119875,3.6710403743957141,"+",8,53,41.665500000000002,8.8949070833333295,0.15524541526313224,348.37900000000002,65.395899999999997,6.0620000000000003,5.9809999999999999,8.1000000000000405E-2,{"$f":"+VLOOKUP(W121,Data!$E$5:$F$32,2)","v":0.05},3.1000000000000402E-2,"A2V","A2",{"$f":"+DEGREES(ACOS(SIN(Index!$H$6)*SIN(Base!N121)+COS(Index!$H$6)*COS(Base!N121)*COS(Index!$H$3-Base!H121)))","v":114.21858947391789}]
["HD 122408","14 01 38,79341","+01 32 40,3145",14,1,38.793410000000002,210.41163920833336,3.672375888703812,"+",1,32,40.314500000000002,1.5445318055555599,2.6957165408717367E-2,339.21769999999998,59.3767,4.3410000000000002,4.2439999999999998,9.7000000000000419E-2,{"$f":"+VLOOKUP(W122,Data!$E$5:$F$32,2)","v":0.08},1.7000000000000418E-2,"A3V","A3",{"$f":"+DEGREES(ACOS(SIN(Index!$H$6)*SIN(Base!N122)+COS(Index!$H$6)*COS(Base!N122)*COS(Index!$H$3-Base!H122)))","v":116.24494247657373}]
["HD 12279 ","02 02 52,47648","+64 54 05,2688",2,2,52.476480000000002,30.718651999999999,0.53614161917434111,"+",64,54,5.2687999999999997,64.901463555555594,1.1327442284075508,130.41730000000001,3.073,6.0259999999999998,5.9989999999999997,2.7000000000000135E-2,{"$f":"+VLOOKUP(W123,Data!$E$5:$F$32,2)","v":0.02},7.0000000000001346E-3,"A1Vn","A1",{"$f":"+DEGREES(ACOS(SIN(Index!$H$6)*SIN(Base!N123)+COS(Index!$H$6)*COS(Base!N123)*COS(Index!$H$3-Base!H123)))","v":67.287273999523777}]
["HD 122980","14 06 02,76824","-41 10 46,6788",14,6,2.76824,211.51153433333332,3.6915726800616957,"-",41,10,46.678800000000003,-41.179633000000003,-0.7187201806129101,317.73039999999997,19.5383,4.157,4.343,-0.18599999999999994,{"$f":"+VLOOKUP(W124,Data!$E$5:$F$32,2)","v":-0.24},5.4000000000000048E-2,"B2V","B2",{"$f":"+DEGREES(ACOS(SIN(Index!$H$6)*SIN(Base!N124)+COS(Index!$H$6)*COS(Base!N124)*COS(Index!$H$3-Base!H124)))","v":117.95110403964902}]
["HD 124224","14 12 15,80548","+02 24 33,9534",14,12,15.805479999999999,213.06585616666663,3.7187007136889969,"+",2,24,33.953400000000002,2.4094315000000002,4.205251277626576E-2,344.42720000000003,58.610300000000002,4.8899999999999997,5.01,-0.12000000000000011,{"$f":"+VLOOKUP(W125,Data!$E$5:$F$32,2)","v":-0.01},-0.11000000000000011,"A0Vp,,,","A0",{"$f":"+DEGREES(ACOS(SIN(Index!$H$6)*SIN(Base!N125)+COS(Index!$H$6)*COS(Base!N125)*COS(Index!$H$3-Base!H125)))","v":113.45915162851945}]
["HD 124367","14 14 57,13838","-57 05 10,0544",14,14,57.138379999999998,213.73807658333334,3.7304331732589588,"-",57,5,10.054399999999999,-57.086126222222198,-0.9963408597868495,314.12509999999997,3.9596,4.97,5.0439999999999996,-7.3999999999999844E-2,{"$f":"+VLOOKUP(W126,Data!$E$5:$F$32,2)","v":-0.18},0.10600000000000015,"B4Vne","B4",{"$f":"+DEGREES(ACOS(SIN(Index!$H$6)*SIN(Base!N126)+COS(Index!$H$6)*COS(Base!N126)*COS(Index!$H$3-Base!H126)))","v":113.53644663597808}]
["HD 124683","14 15 24,08494","-18 12 02,4879",14,15,24.08494,213.85035391666665,3.7323927824009844,"-",18,12,2.4878999999999998,-18.2006910833333,-0.31766198554253972,329.43599999999998,40.310400000000001,5.53,5.53,0,{"$f":"+VLOOKUP(W127,Data!$E$5:$F$32,2)","v":-0.01},0.01,"A0V","A0",{"$f":"+DEGREES(ACOS(SIN(Index!$H$6)*SIN(Base!N127)+COS(Index!$H$6)*COS(Base!N127)*COS(Index!$H$3-Base!H127)))","v":116.3564340545942}]
["HD 12471 ","02 02 57,95579","+33 17 02,8813",2,2,57.95579,30.74148245833333,0.53654008584199708,"+",33,17,2.8813,33.2841336944444,0.58091772164203903,139.71340000000001,-27.245999999999999,5.5549999999999997,5.516,3.8999999999999702E-2,{"$f":"+VLOOKUP(W128,Data!$E$5:$F$32,2)","v":0.05},-1.1000000000000301E-2,"A2V","A2",{"$f":"+DEGREES(ACOS(SIN(Index!$H$6)*SIN(Base!N128)+COS(Index!$H$6)*COS(Base!N128)*COS(Index!$H$3-Base!H128)))","v":60.626071100626774}]
["HD 124771","14 22 23,16467","-80 06 32,2053",14,22,23.164670000000001,215.59651945833332,3.7628691203879381,"-",80,6,32.205300000000001,-80.108945916666698,-1.398164866547901,306.93380000000002,-17.9513,4.944,5.0510000000000002,-0.10700000000000021,{"$f":"+VLOOKUP(W129,Data!$E$5:$F$32,2)","v":-0.18},7.2999999999999787E-2,"B4V","B4",{"$f":"+DEGREES(ACOS(SIN(Index!$H$6)*SIN(Base!N129)+COS(Index!$H$6)*COS(Base!N129)*COS(Index!$H$3-Base!H129)))","v":106.17432348166352}]
["HD 124953","14 16 04,1396 "," +18 54 42,457  ",14,16,4.1395999999999997,214.01724833333336,3.7353056394750137,"+",18,54,2.4569999999999999,18.900682499999998,0.32987914049907313,14.494400000000001,68.904200000000003,6.2210000000000001,5.9690000000000003,0.25199999999999978,{"$f":"+VLOOKUP(W130,Data!$E$5:$F$32,2)","v":0.27},-1.8000000000000238E-2,"A8V","A8",{"$f":"+DEGREES(ACOS(SIN(Index!$H$6)*SIN(Base!N130)+COS(Index!$H$6)*COS(Base!N130)*COS(Index!$H$3-Base!H130)))","v":107.51049158248749}]
["HD 125161","14 16 09,92995","+51 22 02,0267",14,16,9.9299499999999998,214.04137479166667,{"$f":"+RADIANS(G131)","v":3.7357267256097755},"+",51,22,2.0266999999999999,{"$f":"VALUE(CONCATENATE(I131,+J131+K131/60+L131/3600))","v":51.367229638888901},{"$f":"+RADIANS(M131)","v":0.89652728482662924},95.237200000000001,60.962299999999999,4.96,4.75,0.20999999999999996,{"$f":"+VLOOKUP(W131,Data!$E$5:$F$32,2)","v":0.2},{"$f":"+S131-T131","v":9.9999999999999534E-3},"A7V",{"$f":"IF(MID(V131,3,1)<>\",\",LEFT(V131,2),LEFT(V131,4))","v":"A7"},{"$f":"+DEGREES(ACOS(SIN(Index!$H$6)*SIN(Base!N131)+COS(Index!$H$6)*COS(Base!N131)*COS(Index!$H$3-Base!H131)))","v":94.26080642179997}]
["HD 125283","14 19 23,87945","-37 00 10,4639",14,19,23.879449999999999,214.84949770833333,3.7498311312664283,"-",37,0,10.463900000000001,-37.002906638888902,-0.64582255365667973,321.834,22.619199999999999,6.0090000000000003,5.9320000000000004,7.6999999999999957E-2,{"$f":"+VLOOKUP(W132,Data!$E$5:$F$32,2)","v":0.05},2.6999999999999955E-2,"A2Vn","A2",{"$f":"+DEGREES(ACOS(SIN(Index!$H$6)*SIN(Base!N132)+COS(Index!$H$6)*COS(Base!N132)*COS(Index!$H$3-Base!H132)))","v":115.77920992130099}]
["HD 125337","14 19 06,59235","-13 22 15,9459",14,19,6.5923499999999997,214.77746812500001,3.7485739778784222,"-",13,22,15.9459,-13.371096083333301,-0.2333696512546842,333.3974,44.253,4.66,4.5199999999999996,0.14000000000000057,{"$f":"+VLOOKUP(W133,Data!$E$5:$F$32,2)","v":0.02},0.12000000000000056,"A1V","A1",{"$f":"+DEGREES(ACOS(SIN(Index!$H$6)*SIN(Base!N133)+COS(Index!$H$6)*COS(Base!N133)*COS(Index!$H$3-Base!H133)))","v":114.910487662626}]
["HD 12534 ","02 03 54,75"," +42 19 51,6      ",2,3,54.75,30.978124999999995,0.54067027734436834,"+",42,19,51.6,42.331000000000003,0.7388153256617197,136.9667,-18.557099999999998,4.87,4.84,3.0000000000000249E-2,{"$f":"+VLOOKUP(W134,Data!$E$5:$F$32,2)","v":-0.11},0.14000000000000024,"B8V+,,,","B8",{"$f":"+DEGREES(ACOS(SIN(Index!$H$6)*SIN(Base!N134)+COS(Index!$H$6)*COS(Base!N134)*COS(Index!$H$3-Base!H134)))","v":61.820905157229973}]
["HD 125745","14 22 19,71948","-34 47 12,4568",14,22,19.719480000000001,215.5821645,3.7626185791010349,"-",34,47,12.456799999999999,-34.786793555555597,-0.60714408375599016,323.32839999999999,24.459499999999998,5.476,5.5629999999999997,-8.6999999999999744E-2,{"$f":"+VLOOKUP(W135,Data!$E$5:$F$32,2)","v":-0.11},2.3000000000000256E-2,"B8V","B8",{"$f":"+DEGREES(ACOS(SIN(Index!$H$6)*SIN(Base!N135)+COS(Index!$H$6)*COS(Base!N135)*COS(Index!$H$3-Base!H135)))","v":115.29027305436635}]
["HD 126129","14 23 22,69526","+08 26 47,8351",14,23,22.695260000000001,215.84456358333333,3.7671983070594166,"+",8,26,47.835099999999997,8.4466208611111107,0.14742134469402754,356.55810000000002,61.332700000000003,5.0999999999999996,5.12,-2.0000000000000462E-2,{"$f":"+VLOOKUP(W136,Data!$E$5:$F$32,2)","v":-0.01},-1.0000000000000462E-2,"A0V","A0",{"$f":"+DEGREES(ACOS(SIN(Index!$H$6)*SIN(Base!N136)+COS(Index!$H$6)*COS(Base!N136)*COS(Index!$H$3-Base!H136)))","v":109.15516917858314}]
["HD 126200","14 24 00,87671","+08 14 38,2990",14,24,0.87670999999999999,216.00365295833336,3.7699749404581073,"+",8,14,38.298999999999999,8.2439719444444393,0.14388445387259452,356.47899999999998,61.079000000000001,5.9969999999999999,5.9349999999999996,6.2000000000000277E-2,{"$f":"+VLOOKUP(W137,Data!$E$5:$F$32,2)","v":0.08},-1.7999999999999725E-2,"A3V","A3",{"$f":"+DEGREES(ACOS(SIN(Index!$H$6)*SIN(Base!N137)+COS(Index!$H$6)*COS(Base!N137)*COS(Index!$H$3-Base!H137)))","v":109.06195328131355}]
["HD 126248","14 24 11,34434","+05 49 12,4679",14,24,11.344340000000001,216.04726808333334,3.7707361679930256,"+",5,49,12.4679,5.8201299722222197,0.10158043090928384,353.09980000000002,59.329700000000003,5.2279999999999998,5.1029999999999998,0.125,{"$f":"+VLOOKUP(W138,Data!$E$5:$F$32,2)","v":0.15},-2.4999999999999994E-2,"A5V","A5",{"$f":"+DEGREES(ACOS(SIN(Index!$H$6)*SIN(Base!N138)+COS(Index!$H$6)*COS(Base!N138)*COS(Index!$H$3-Base!H138)))","v":109.6913657151099}]
["HD 126769","14 28 10,42638","-29 29 29,8884",14,28,10.42638,217.04344325,3.7881227045779622,"-",29,29,29.888400000000001,-29.491635666666699,-0.51472614418192686,326.95060000000001,28.8293,4.899,4.9720000000000004,-7.3000000000000398E-2,{"$f":"+VLOOKUP(W139,Data!$E$5:$F$32,2)","v":-0.11},3.6999999999999603E-2,"B8V","B8",{"$f":"+DEGREES(ACOS(SIN(Index!$H$6)*SIN(Base!N139)+COS(Index!$H$6)*COS(Base!N139)*COS(Index!$H$3-Base!H139)))","v":114.08209337002322}]
["HD 126981","14 30 08,62940","-45 19 16,8792",14,30,8.6294000000000004,217.53595583333333,3.7967186707646317,"-",45,19,16.879200000000001,-45.321355333333301,-0.79100687203295827,320.55369999999999,14.1463,5.4210000000000003,5.4989999999999997,-7.7999999999999403E-2,{"$f":"+VLOOKUP(W140,Data!$E$5:$F$32,2)","v":-0.11},3.2000000000000597E-2,"B8Vn","B8",{"$f":"+DEGREES(ACOS(SIN(Index!$H$6)*SIN(Base!N140)+COS(Index!$H$6)*COS(Base!N140)*COS(Index!$H$3-Base!H140)))","v":113.11588124949571}]
["HD 126983","14 30 20,94970","-49 31 08,4922",14,30,20.9497,217.58729041666666,3.7976146282639376,"-",49,31,8.4922000000000004,-49.519025611111097,-0.86427003929328583,318.95170000000002,10.251300000000001,5.4359999999999999,5.383,5.2999999999999936E-2,{"$f":"+VLOOKUP(W141,Data!$E$5:$F$32,2)","v":0.02},3.2999999999999932E-2,"A1V+,,,","A1",{"$f":"+DEGREES(ACOS(SIN(Index!$H$6)*SIN(Base!N141)+COS(Index!$H$6)*COS(Base!N141)*COS(Index!$H$3-Base!H141)))","v":112.62511052021416}]
["HD 127971","14 35 31,48057","-41 31 02,7746",14,35,31.48057,218.88116904166668,3.820197070391365,"-",41,31,2.7746,-41.517437388888901,-0.72461597942670875,323.05040000000002,17.252400000000002,5.7960000000000003,5.8689999999999998,-7.299999999999951E-2,{"$f":"+VLOOKUP(W142,Data!$E$5:$F$32,2)","v":-0.13},5.7000000000000495E-2,"B7V","B7",{"$f":"+DEGREES(ACOS(SIN(Index!$H$6)*SIN(Base!N142)+COS(Index!$H$6)*COS(Base!N142)*COS(Index!$H$3-Base!H142)))","v":112.41284771768217}]
["HD 127972","14 35 30,42416","-42 09 28,1708",14,35,30.424160000000001,218.87676733333333,3.8201202460882357,"-",42,9,28.1708,-42.157825222222201,-0.73579285560808749,322.774,16.6691,2.1680000000000001,2.3220000000000001,-0.15399999999999991,{"$f":"+VLOOKUP(W143,Data!$E$5:$F$32,2)","v":-0.26},0.10600000000000009,"B1,5Vne","B1,5",{"$f":"+DEGREES(ACOS(SIN(Index!$H$6)*SIN(Base!N143)+COS(Index!$H$6)*COS(Base!N143)*COS(Index!$H$3-Base!H143)))","v":112.3830404160399}]
["HD 1280  ","00 17 05,49885","+38 40 53,8902",0,17,5.49885,4.2729118750000001,7.4576380866314379E-2,"+",38,40,53.8902,38.681636166666699,0.67512191116685194,115.619,-23.701899999999998,4.6790000000000003,4.6189999999999998,6.0000000000000497E-2,{"$f":"+VLOOKUP(W144,Data!$E$5:$F$32,2)","v":0.05},1.0000000000000495E-2,"A2V","A2",{"$f":"+DEGREES(ACOS(SIN(Index!$H$6)*SIN(Base!N144)+COS(Index!$H$6)*COS(Base!N144)*COS(Index!$H$3-Base!H144)))","v":41.510374943226964}]
["HD 128207","14 36 44,13347","-40 12 41,6900",14,36,44.133470000000003,219.18388945833334,3.8254805383752073,"-",40,12,41.69,-40.211580555555599,-0.70182447812537585,323.83499999999998,18.3477,5.6269999999999998,5.7309999999999999,-0.10400000000000009,{"$f":"+VLOOKUP(W145,Data!$E$5:$F$32,2)","v":-0.11},5.9999999999999082E-3,"B8V","B8",{"$f":"+DEGREES(ACOS(SIN(Index!$H$6)*SIN(Base!N145)+COS(Index!$H$6)*COS(Base!N145)*COS(Index!$H$3-Base!H145)))","v":112.24013455394594}]
["HD 128345","14 37 53,22583","-49 25 32,9798",14,37,53.225830000000002,219.47177429166666,3.830505076583429,"-",49,25,32.979799999999997,-49.425827722222202,-0.86264342927626669,320.13310000000001,9.8575999999999997,3.8980000000000001,4.0339999999999998,-0.13599999999999968,{"$f":"+VLOOKUP(W146,Data!$E$5:$F$32,2)","v":-0.16},2.4000000000000327E-2,"B5V","B5",{"$f":"+DEGREES(ACOS(SIN(Index!$H$6)*SIN(Base!N146)+COS(Index!$H$6)*COS(Base!N146)*COS(Index!$H$3-Base!H146)))","v":111.41833384532458}]
["HD 128898","14 42 30,41958","-64 58 30,4934",14,42,30.41958,220.62674824999999,3.8506631749311375,"-",64,58,30.493400000000001,-64.975137055555606,-1.1340300735540192,314.3349,-4.5917000000000003,3.43,3.19,0.24000000000000021,{"$f":"+VLOOKUP(W147,Data!$E$5:$F$32,2)","v":0.2},4.0000000000000202E-2,"A7VpSrCrEu","A7",{"$f":"+DEGREES(ACOS(SIN(Index!$H$6)*SIN(Base!N147)+COS(Index!$H$6)*COS(Base!N147)*COS(Index!$H$3-Base!H147)))","v":108.64184138393337}]
["HD 128998","14 38 15,22227","+54 01 24,0221",14,38,15.22227,219.56342612499998,3.8321047028405846,"+",54,1,24.022099999999998,54.023339472222197,0.94288514671289303,94.168700000000001,56.727600000000002,5.83,5.83,0,{"$f":"+VLOOKUP(W148,Data!$E$5:$F$32,2)","v":0.02},-0.02,"A1V","A1",{"$f":"+DEGREES(ACOS(SIN(Index!$H$6)*SIN(Base!N148)+COS(Index!$H$6)*COS(Base!N148)*COS(Index!$H$3-Base!H148)))","v":90.120904492758882}]
["HD 129002","14 38 50,22633","+44 24 16,1988",14,38,50.226329999999997,219.70927637499997,3.8346502699179412,"+",44,24,16.198799999999999,44.404499666666702,0.77500472188405856,78.757000000000005,62.416699999999999,5.423,5.3949999999999996,2.8000000000000469E-2,{"$f":"+VLOOKUP(W149,Data!$E$5:$F$32,2)","v":0.02},8.0000000000004685E-3,"A1V","A1",{"$f":"+DEGREES(ACOS(SIN(Index!$H$6)*SIN(Base!N149)+COS(Index!$H$6)*COS(Base!N149)*COS(Index!$H$3-Base!H149)))","v":93.61496498971384}]
["HD 129116","14 41 57,59068","-37 47 36,5940",14,41,57.590679999999999,220.48996116666669,3.8482757899527713,"-",37,47,36.594000000000001,-37.793498333333297,-0.65962098176365547,325.90179999999998,20.099399999999999,3.831,3.9849999999999999,-0.15399999999999991,{"$f":"+VLOOKUP(W150,Data!$E$5:$F$32,2)","v":-0.2},4.6000000000000096E-2,"B3V","B3",{"$f":"+DEGREES(ACOS(SIN(Index!$H$6)*SIN(Base!N150)+COS(Index!$H$6)*COS(Base!N150)*COS(Index!$H$3-Base!H150)))","v":111.27544217947111}]
["HD 129175","14 40 43,94"," +16 25 03,9      ",14,40,43.94,220.18308333333331,3.8429197613597177," ",1,2,3.9,1.0344166666666701,1.8053976670838072E-2,15.642799999999999,62.5396,6.12,5.82,0.29999999999999982,{"$f":"+VLOOKUP(W151,Data!$E$5:$F$32,2)","v":0.17},0.12999999999999981,"A6V","A6",{"$f":"+DEGREES(ACOS(SIN(Index!$H$6)*SIN(Base!N151)+COS(Index!$H$6)*COS(Base!N151)*COS(Index!$H$3-Base!H151)))","v":106.89751790277116}]
["HD 129422","14 45 17,33642","-62 52 32,3401",14,45,17.33642,221.32223508333334,3.8628017100770733,"-",62,52,32.3401,-62.875650027777802,-1.0973871123163867,315.49709999999999,-2.8151999999999999,5.6369999999999996,5.3639999999999999,0.27299999999999969,{"$f":"+VLOOKUP(W152,Data!$E$5:$F$32,2)","v":0.3},-2.7000000000000302E-2,"A9V","A9",{"$f":"+DEGREES(ACOS(SIN(Index!$H$6)*SIN(Base!N152)+COS(Index!$H$6)*COS(Base!N152)*COS(Index!$H$3-Base!H152)))","v":108.68838569941175}]
["HD 129433","14 43 13,55130","-24 59 51,9093",14,43,13.551299999999999,220.80646375000001,3.8537998021230053,"-",24,59,51.909300000000002,-24.997752583333298,-0.43629308817808427,332.74829999999997,31.322900000000001,5.72,5.73,-1.0000000000000675E-2,{"$f":"+VLOOKUP(W153,Data!$E$5:$F$32,2)","v":-7.0000000000000007E-2},5.9999999999999332E-2,"B9,5V","B9,5",{"$f":"+DEGREES(ACOS(SIN(Index!$H$6)*SIN(Base!N153)+COS(Index!$H$6)*COS(Base!N153)*COS(Index!$H$3-Base!H153)))","v":110.50148633540879}]
["HD 129685","14 44 59,20161","-35 11 30,5745",14,44,59.201610000000002,221.246673375,3.8614829094782248,"-",35,11,30.5745,-35.191826249999998,-0.61421323785226911,327.73489999999998,22.1526,4.9390000000000001,4.923,1.6000000000000014E-2,{"$f":"+VLOOKUP(W154,Data!$E$5:$F$32,2)","v":-0.01},2.6000000000000016E-2,"A0V","A0",{"$f":"+DEGREES(ACOS(SIN(Index!$H$6)*SIN(Base!N154)+COS(Index!$H$6)*COS(Base!N154)*COS(Index!$H$3-Base!H154)))","v":110.64748452300422}]
["HD 129858","14 46 28,99366","-47 26 28,0161",14,46,28.993659999999998,221.62080691666668,3.8680127716224559,"-",47,26,28.016100000000002,-47.4411155833333,-0.82800366774835643,322.29719999999998,11.0585,5.8079999999999998,5.7350000000000003,7.299999999999951E-2,{"$f":"+VLOOKUP(W155,Data!$E$5:$F$32,2)","v":0.02},5.2999999999999506E-2,"A1V","A1",{"$f":"+DEGREES(ACOS(SIN(Index!$H$6)*SIN(Base!N155)+COS(Index!$H$6)*COS(Base!N155)*COS(Index!$H$3-Base!H155)))","v":110.14769865572082}]
["HD 129954","14 48 44,55115","-66 35 36,8221",14,48,44.55115,222.18562979166668,3.8778707904817864,"-",66,35,36.822099999999999,-66.593561694444404,-1.162276912198029,314.221,-6.3281000000000001,5.7750000000000004,5.88,-0.10499999999999954,{"$f":"+VLOOKUP(W156,Data!$E$5:$F$32,2)","v":-0.24},0.13500000000000045,"B2,5Ve","B2,5",{"$f":"+DEGREES(ACOS(SIN(Index!$H$6)*SIN(Base!N156)+COS(Index!$H$6)*COS(Base!N156)*COS(Index!$H$3-Base!H156)))","v":107.7376564256046}]
["HD 129956","14 45 30,20425","+00 43 02,1895",14,45,30.204249999999998,221.37585104166669,3.8637374850816024,"+",0,43,2.1894999999999998,0.71727486111111105,1.2518807968173921E-2,353.72070000000002,51.967599999999997,5.6609999999999996,5.673,-1.2000000000000455E-2,{"$f":"+VLOOKUP(W157,Data!$E$5:$F$32,2)","v":-7.0000000000000007E-2},5.7999999999999552E-2,"B9,5V","B9,5",{"$f":"+DEGREES(ACOS(SIN(Index!$H$6)*SIN(Base!N157)+COS(Index!$H$6)*COS(Base!N157)*COS(Index!$H$3-Base!H157)))","v":105.81120282045764}]
["HD 129988","14 44 59,2 "," +27 04 27         ",14,44,59.2,221.24666666666664,3.8614827923957207,"+",27,4,27,27.074166666666699,0.472533350567032,39.384500000000003,64.784199999999998,5.2,5.12,8.0000000000000071E-2,{"$f":"+VLOOKUP(W158,Data!$E$5:$F$32,2)","v":0.05},3.0000000000000068E-2,"A2V","A2",{"$f":"+DEGREES(ACOS(SIN(Index!$H$6)*SIN(Base!N158)+COS(Index!$H$6)*COS(Base!N158)*COS(Index!$H$3-Base!H158)))","v":98.479785559828045}]
["HD 130109","14 46 14,92536","+01 53 34,3845",14,46,14.92536,221.56218900000002,3.8669896959759629,"+",1,53,34.384500000000003,1.8928845833333301,3.3037068339407595E-2,355.28050000000002,52.680300000000003,3.71,3.72,-1.0000000000000231E-2,{"$f":"+VLOOKUP(W159,Data!$E$5:$F$32,2)","v":-0.01},-2.3071822230491534E-16,"A0V","A0",{"$f":"+DEGREES(ACOS(SIN(Index!$H$6)*SIN(Base!N159)+COS(Index!$H$6)*COS(Base!N159)*COS(Index!$H$3-Base!H159)))","v":105.35576004903328}]
["HD 130274","14 47 57,55833","-26 38 46,1560",14,47,57.558329999999998,221.98982637500001,3.8744533761742983,"-",26,38,46.155999999999999,-26.646154444444399,-0.46506312805047523,332.88139999999999,29.363700000000001,5.76,5.7679999999999998,-8.0000000000000071E-3,{"$f":"+VLOOKUP(W160,Data!$E$5:$F$32,2)","v":-7.0000000000000007E-2},6.2E-2,"B9V","B9",{"$f":"+DEGREES(ACOS(SIN(Index!$H$6)*SIN(Base!N160)+COS(Index!$H$6)*COS(Base!N160)*COS(Index!$H$3-Base!H160)))","v":109.57514292785909}]
["HD 130917","14 49 58,39878","+28 36 56,9950",14,49,58.398780000000002,222.49332824999999,3.8832411416830133,"+",28,36,56.994999999999997,28.615831944444398,0.49944048562792581,43.159700000000001,63.828000000000003,5.85,5.8,4.9999999999999822E-2,{"$f":"+VLOOKUP(W161,Data!$E$5:$F$32,2)","v":0.12},-7.0000000000000173E-2,"A4V","A4",{"$f":"+DEGREES(ACOS(SIN(Index!$H$6)*SIN(Base!N161)+COS(Index!$H$6)*COS(Base!N161)*COS(Index!$H$3-Base!H161)))","v":96.941076580885664}]
["HD 131492","14 56 43,98738","-62 46 51,6579",14,56,43.987380000000002,224.18328074999999,3.9127363770103227,"-",62,46,51.657899999999998,-62.781016083333299,-1.0957354384016809,316.71129999999999,-3.3107000000000002,5.1100000000000003,5.1100000000000003,0,{"$f":"+VLOOKUP(W162,Data!$E$5:$F$32,2)","v":-0.18},0.18,"B4Vnpe","B4",{"$f":"+DEGREES(ACOS(SIN(Index!$H$6)*SIN(Base!N162)+COS(Index!$H$6)*COS(Base!N162)*COS(Index!$H$3-Base!H162)))","v":107.40575077022872}]
["HD 131596","15 11 08,81659","-84 47 16,1255",15,11,8.8165899999999997,227.78673579166667,3.9756285319349955,"-",84,47,16.125499999999999,-84.787812638888894,-1.4798264961126733,306.16669999999999,-22.818300000000001,5.843,5.8739999999999997,-3.0999999999999694E-2,{"$f":"+VLOOKUP(W163,Data!$E$5:$F$32,2)","v":-7.0000000000000007E-2},3.9000000000000312E-2,"B9,5V","B9,5",{"$f":"+DEGREES(ACOS(SIN(Index!$H$6)*SIN(Base!N163)+COS(Index!$H$6)*COS(Base!N163)*COS(Index!$H$3-Base!H163)))","v":103.47525423601681}]
["HD 131625","14 55 44,70874","-33 51 20,8212",14,55,44.708739999999999,223.93628641666666,3.9084255126598877,"-",33,51,20.821200000000001,-33.855783666666703,-0.59089489582625232,330.52679999999998,22.270299999999999,5.3620000000000001,5.3179999999999996,4.4000000000000483E-2,{"$f":"+VLOOKUP(W164,Data!$E$5:$F$32,2)","v":-0.01},5.4000000000000485E-2,"A0V","A0",{"$f":"+DEGREES(ACOS(SIN(Index!$H$6)*SIN(Base!N164)+COS(Index!$H$6)*COS(Base!N164)*COS(Index!$H$3-Base!H164)))","v":108.38321718560508}]
["HD 131657","14 56 32,05337","-47 52 45,1065",14,56,32.053370000000001,224.13355570833335,3.9118685113125484,"-",47,52,45.106499999999997,-47.87919625,-0.83564961777102209,323.63010000000003,9.9016999999999999,5.6,5.64,-4.0000000000000036E-2,{"$f":"+VLOOKUP(W165,Data!$E$5:$F$32,2)","v":-7.0000000000000007E-2},2.9999999999999971E-2,"B9V","B9",{"$f":"+DEGREES(ACOS(SIN(Index!$H$6)*SIN(Base!N165)+COS(Index!$H$6)*COS(Base!N165)*COS(Index!$H$3-Base!H165)))","v":108.43909544914375}]
["HD 131951","14 56 13,22999","+14 26 46,5513",14,56,13.229990000000001,224.05512495833332,3.9104996364902394,"+",14,26,46.551299999999998,14.44626425,0.25213487577564925,15.6877,58.318800000000003,5.87,5.9009999999999998,-3.0999999999999694E-2,{"$f":"+VLOOKUP(W166,Data!$E$5:$F$32,2)","v":-0.01},-2.0999999999999693E-2,"A0V","A0",{"$f":"+DEGREES(ACOS(SIN(Index!$H$6)*SIN(Base!N166)+COS(Index!$H$6)*COS(Base!N166)*COS(Index!$H$3-Base!H166)))","v":99.748533237605159}]
["HD 132219","14 58 39,25472","-27 39 26,3319",14,58,39.254719999999999,224.66356133333335,3.9211188545228888,"-",27,39,26.331900000000001,-27.657314416666701,-0.48271119883012881,334.61340000000001,27.2761,5.9169999999999998,5.673,0.24399999999999977,{"$f":"+VLOOKUP(W167,Data!$E$5:$F$32,2)","v":0.12},0.12399999999999978,"A4V+,,,","A4",{"$f":"+DEGREES(ACOS(SIN(Index!$H$6)*SIN(Base!N167)+COS(Index!$H$6)*COS(Base!N167)*COS(Index!$H$3-Base!H167)))","v":107.2944155310504}]
["HD 132742","15 00 58,35013","-08 31 08,2063",15,0,58.35013,225.24312554166664,3.9312341581850192,"-",8,31,8.2063000000000006,-8.5189461944444496,-0.14868365989329671,348.86720000000003,42.511499999999998,4.9400000000000004,4.95,-9.9999999999997868E-3,{"$f":"+VLOOKUP(W168,Data!$E$5:$F$32,2)","v":-7.0000000000000007E-2},6.000000000000022E-2,"B9,5V","B9,5",{"$f":"+DEGREES(ACOS(SIN(Index!$H$6)*SIN(Base!N168)+COS(Index!$H$6)*COS(Base!N168)*COS(Index!$H$3-Base!H168)))","v":103.97529547871251}]
["HD 132955","15 02 59,27632","-32 38 35,8600",15,2,59.276319999999998,225.74698466666666,3.940028158882487,"-",32,38,35.86,-32.6432944444444,-0.56973296675352803,332.60449999999997,22.5412,5.3159999999999998,5.4269999999999996,-0.11099999999999977,{"$f":"+VLOOKUP(W169,Data!$E$5:$F$32,2)","v":-0.2},8.9000000000000246E-2,"B3V","B3",{"$f":"+DEGREES(ACOS(SIN(Index!$H$6)*SIN(Base!N169)+COS(Index!$H$6)*COS(Base!N169)*COS(Index!$H$3-Base!H169)))","v":106.79202086396917}]
["HD 133242","15 05 07,18"," -47 03 04,0      ",15,5,7.18,226.27991666666668,3.9493295769717256,"-",4,3,4,-4.0511111111111102,-7.0705227253014716E-2,325.32580000000002,9.9251000000000005,4.45,4.59,-0.13999999999999968,{"$f":"+VLOOKUP(W170,Data!$E$5:$F$32,2)","v":-0.16},2.0000000000000323E-2,"B5V","B5",{"$f":"+DEGREES(ACOS(SIN(Index!$H$6)*SIN(Base!N170)+COS(Index!$H$6)*COS(Base!N170)*COS(Index!$H$3-Base!H170)))","v":102.07205563198357}]
["HD 133388","15 01 27,09371","+60 12 16,0367",15,1,27.093710000000002,225.36289045833334,3.9333244503092297,"+",60,12,16.0367,60.204454638888897,1.050765957816185,98.258799999999994,50.2348,6.03,5.92,0.11000000000000032,{"$f":"+VLOOKUP(W171,Data!$E$5:$F$32,2)","v":0.12},-9.9999999999996758E-3,"A4V","A4",{"$f":"+DEGREES(ACOS(SIN(Index!$H$6)*SIN(Base!N171)+COS(Index!$H$6)*COS(Base!N171)*COS(Index!$H$3-Base!H171)))","v":85.089517697892589}]
["HD 133937","15 08 39,19745","-42 52 04,5125",15,8,39.197450000000003,227.16332270833334,3.9647479210308192,"-",42,52,4.5125000000000002,-42.867920138888898,-0.74818634990559618,328.03829999999999,13.215999999999999,5.7149999999999999,5.82,-0.10500000000000043,{"$f":"+VLOOKUP(W172,Data!$E$5:$F$32,2)","v":-0.13},2.4999999999999578E-2,"B7V","B7",{"$f":"+DEGREES(ACOS(SIN(Index!$H$6)*SIN(Base!N172)+COS(Index!$H$6)*COS(Base!N172)*COS(Index!$H$3-Base!H172)))","v":106.27222377034191}]
["HD 133955","15 08 50,61639","-45 16 47,4950",15,8,50.616390000000003,227.21090162499999,3.9655783297811844,"-",45,16,47.494999999999997,-45.279859722222199,-0.79028263699394241,326.80130000000003,11.1288,3.89,4.0439999999999996,-0.15399999999999947,{"$f":"+VLOOKUP(W173,Data!$E$5:$F$32,2)","v":-0.2},4.600000000000054E-2,"B3V","B3",{"$f":"+DEGREES(ACOS(SIN(Index!$H$6)*SIN(Base!N173)+COS(Index!$H$6)*COS(Base!N173)*COS(Index!$H$3-Base!H173)))","v":106.31976516271803}]
["HD 133962","15 05 25,83428","+48 09 03,5027",15,5,25.83428,226.35764283333336,3.9506861544950134,"+",48,9,3.5026999999999999,48.150972972222199,0.84039301640407749,80.9542,56.596499999999999,5.577,5.5810000000000004,-4.0000000000004476E-3,{"$f":"+VLOOKUP(W174,Data!$E$5:$F$32,2)","v":0.02},-2.4000000000000448E-2,"A1V","A1",{"$f":"+DEGREES(ACOS(SIN(Index!$H$6)*SIN(Base!N174)+COS(Index!$H$6)*COS(Base!N174)*COS(Index!$H$3-Base!H174)))","v":88.044003445503094}]
["HD 134481","15 11 56,07286","-48 44 16,1692",15,11,56.072859999999999,227.98363691666668,3.9790651048671268,"-",48,44,16.1692,-48.737824777777803,-0.85063551263229631,325.45620000000002,7.8921999999999999,3.819,3.8490000000000002,-3.0000000000000249E-2,{"$f":"+VLOOKUP(W175,Data!$E$5:$F$32,2)","v":-7.0000000000000007E-2},3.9999999999999758E-2,"B9,5Vne","B9,5",{"$f":"+DEGREES(ACOS(SIN(Index!$H$6)*SIN(Base!N175)+COS(Index!$H$6)*COS(Base!N175)*COS(Index!$H$3-Base!H175)))","v":105.87647340573315}]
["HD 135160","15 16 36,69225","-60 54 14,3783",15,16,36.692250000000001,229.15288437500001,3.9994723227856186,"-",60,54,14.378299999999999,-60.903993972222203,-1.0629752224300573,319.6816,-2.8443999999999998,5.65,5.73,-8.0000000000000071E-2,{"$f":"+VLOOKUP(W176,Data!$E$5:$F$32,2)","v":-0.3},0.21999999999999992,"B0,5Ve","B0,5",{"$f":"+DEGREES(ACOS(SIN(Index!$H$6)*SIN(Base!N176)+COS(Index!$H$6)*COS(Base!N176)*COS(Index!$H$3-Base!H176)))","v":105.1885548721513}]
["HD 135240","15 16 56,89610","-60 57 26,1072",15,16,56.896099999999997,229.23706708333333,4.0009415882192814,"-",60,57,26.107199999999999,-60.957251999999997,-1.0639047503678984,319.68819999999999,-2.9112,4.9800000000000004,5.07,-8.9999999999999858E-2,{"$f":"+VLOOKUP(W177,Data!$E$5:$F$32,2)","v":-0.04},-4.9999999999999857E-2,"O8,5V","O8,5",{"$f":"+DEGREES(ACOS(SIN(Index!$H$6)*SIN(Base!N177)+COS(Index!$H$6)*COS(Base!N177)*COS(Index!$H$3-Base!H177)))","v":105.14651509908954}]
["HD 135382","15 18 54,58198","-68 40 46,3654",15,18,54.581980000000001,229.72742491666668,4.0094999469238939,"-",68,40,46.365400000000001,-68.679545944444499,-1.1986842055052751,315.71179999999998,-9.5495999999999999,2.9079999999999999,2.8809999999999998,2.7000000000000135E-2,{"$f":"+VLOOKUP(W178,Data!$E$5:$F$32,2)","v":0.02},7.0000000000001346E-3,"A1V","A1",{"$f":"+DEGREES(ACOS(SIN(Index!$H$6)*SIN(Base!N178)+COS(Index!$H$6)*COS(Base!N178)*COS(Index!$H$3-Base!H178)))","v":104.66613876257419}]
["HD 135502","15 14 29,15853","+29 09 51,4577",15,14,29.158529999999999,228.621493875,3.9901978089467995,"+",29,9,51.457700000000003,29.164293805555602,0.50901295092593213,45.160499999999999,58.521500000000003,5.3390000000000004,5.2809999999999997,5.8000000000000718E-2,{"$f":"+VLOOKUP(W179,Data!$E$5:$F$32,2)","v":0.05},8.0000000000007149E-3,"A2V","A2",{"$f":"+DEGREES(ACOS(SIN(Index!$H$6)*SIN(Base!N179)+COS(Index!$H$6)*COS(Base!N179)*COS(Index!$H$3-Base!H179)))","v":91.649804086204909}]
["HD 135559","15 15 49,07705","+00 22 19,7028",15,15,49.07705,228.95448770833332,3.9960096477273033,"+",0,22,19.7028,0.37213966666666698,6.4950624606075298E-3,1.3149999999999999,46.227600000000002,5.7960000000000003,5.6289999999999996,0.1670000000000007,{"$f":"+VLOOKUP(W180,Data!$E$5:$F$32,2)","v":0.12},4.7000000000000708E-2,"A4V","A4",{"$f":"+DEGREES(ACOS(SIN(Index!$H$6)*SIN(Base!N180)+COS(Index!$H$6)*COS(Base!N180)*COS(Index!$H$3-Base!H180)))","v":98.506788607185669}]
["HD 135734","15 18 32,02296","-47 52 30,9957",15,18,32.022959999999998,229.63342900000001,4.00785940869463,"-",47,52,30.995699999999999,-47.875276583333303,-0.83558120668210756,326.85700000000003,8.0459999999999994,4.18,4.274,-9.4000000000000306E-2,{"$f":"+VLOOKUP(W181,Data!$E$5:$F$32,2)","v":-0.11},1.5999999999999695E-2,"B8Ve","B8",{"$f":"+DEGREES(ACOS(SIN(Index!$H$6)*SIN(Base!N181)+COS(Index!$H$6)*COS(Base!N181)*COS(Index!$H$3-Base!H181)))","v":104.75114854268871}]
["HD 135742","15 17 00,41382","-09 22 58,4919",15,17,0.41382000000000002,229.25172425,4.0011974040366276,"-",9,22,58.491900000000001,-9.3829144166666705,-0.16376275000367652,352.02210000000002,39.234299999999998,2.5350000000000001,2.605,-6.999999999999984E-2,{"$f":"+VLOOKUP(W182,Data!$E$5:$F$32,2)","v":-0.11},4.000000000000016E-2,"B8V","B8",{"$f":"+DEGREES(ACOS(SIN(Index!$H$6)*SIN(Base!N182)+COS(Index!$H$6)*COS(Base!N182)*COS(Index!$H$3-Base!H182)))","v":100.25613332407488}]
["HD 135876","15 18 56,37578","-40 47 17,5967",15,18,56.375779999999999,229.73489908333335,4.0096303957410697,"-",40,47,17.596699999999998,-40.788221305555602,-0.71188875781404537,330.84629999999999,13.954499999999999,5.49,5.5869999999999997,-9.6999999999999531E-2,{"$f":"+VLOOKUP(W183,Data!$E$5:$F$32,2)","v":-0.13},3.3000000000000473E-2,"B7V","B7",{"$f":"+DEGREES(ACOS(SIN(Index!$H$6)*SIN(Base!N183)+COS(Index!$H$6)*COS(Base!N183)*COS(Index!$H$3-Base!H183)))","v":104.23573570879608}]
["HD 136664","15 23 09,35005","-36 51 30,5521",15,23,9.3500499999999995,230.78895854166666,4.0280272038007743,"-",36,51,30.552099999999999,-36.858486694444402,-0.643301950120576,333.83670000000001,16.747900000000001,4.3810000000000002,4.5199999999999996,-0.13899999999999935,{"$f":"+VLOOKUP(W184,Data!$E$5:$F$32,2)","v":-0.18},4.1000000000000647E-2,"B4V","B4",{"$f":"+DEGREES(ACOS(SIN(Index!$H$6)*SIN(Base!N184)+COS(Index!$H$6)*COS(Base!N184)*COS(Index!$H$3-Base!H184)))","v":103.05281352807117}]
["HD 136729","15 20 05,15121","+51 57 30,6548",15,20,5.1512099999999998,230.021463375,4.0146318861492984,"+",51,57,30.654800000000002,51.958515222222204,0.90684716507537066,84.963200000000001,52.767299999999999,5.7670000000000003,5.6520000000000001,0.11500000000000021,{"$f":"+VLOOKUP(W185,Data!$E$5:$F$32,2)","v":0.12},-4.9999999999997824E-3,"A4V","A4",{"$f":"+DEGREES(ACOS(SIN(Index!$H$6)*SIN(Base!N185)+COS(Index!$H$6)*COS(Base!N185)*COS(Index!$H$3-Base!H185)))","v":84.767765242097823}]
["HD 136849","15 21 48,57532","+32 56 01,3005",15,21,48.575319999999998,230.45239716666666,4.0221530996719848,"+",32,56,1.3005,32.933694583333299,0.57480140532538815,52.362400000000001,57.116300000000003,5.3239999999999998,5.375,-5.1000000000000156E-2,{"$f":"+VLOOKUP(W186,Data!$E$5:$F$32,2)","v":-7.0000000000000007E-2},1.899999999999985E-2,"B9Vn","B9",{"$f":"+DEGREES(ACOS(SIN(Index!$H$6)*SIN(Base!N186)+COS(Index!$H$6)*COS(Base!N186)*COS(Index!$H$3-Base!H186)))","v":89.158565532585527}]
["HD 13709 ","02 12 54,46962","-30 43 25,7732",2,12,54.469619999999999,33.226956749999999,0.57991979570525443,"-",30,43,25.773199999999999,-30.7238258888889,-0.53623192057058477,229.18450000000001,-71.841700000000003,5.25,5.2610000000000001,-1.1000000000000121E-2,{"$f":"+VLOOKUP(W187,Data!$E$5:$F$32,2)","v":-7.0000000000000007E-2},5.8999999999999886E-2,"B9V","B9",{"$f":"+DEGREES(ACOS(SIN(Index!$H$6)*SIN(Base!N187)+COS(Index!$H$6)*COS(Base!N187)*COS(Index!$H$3-Base!H187)))","v":76.31339045415416}]
["HD 137333","15 43 16,93158","-84 27 54,9932",15,43,16.93158,235.82054825,4.1158450108206521,"-",84,27,54.993200000000002,-84.465275888888897,-1.4741971678664914,307.02730000000003,-23.019200000000001,5.6859999999999999,5.5750000000000002,0.11099999999999977,{"$f":"+VLOOKUP(W188,Data!$E$5:$F$32,2)","v":0.05},6.0999999999999763E-2,"A2V","A2",{"$f":"+DEGREES(ACOS(SIN(Index!$H$6)*SIN(Base!N188)+COS(Index!$H$6)*COS(Base!N188)*COS(Index!$H$3-Base!H188)))","v":102.75264106285324}]
["HD 137432","15 27 18,12996","-36 46 03,2081",15,27,18.129960000000001,231.82554149999999,4.0461189893937535,"-",36,46,3.2081,-36.767557805555597,-0.64171494162428622,334.59840000000003,16.3431,5.3010000000000002,5.4420000000000002,-0.14100000000000001,{"$f":"+VLOOKUP(W189,Data!$E$5:$F$32,2)","v":-0.18},3.8999999999999979E-2,"B4Vp","B4",{"$f":"+DEGREES(ACOS(SIN(Index!$H$6)*SIN(Base!N189)+COS(Index!$H$6)*COS(Base!N189)*COS(Index!$H$3-Base!H189)))","v":102.21797189289786}]
["HD 138485","15 32 55,22151","-16 51 10,2522",15,32,55.221510000000002,233.23008962500001,4.0706329786777173,"-",16,51,10.2522,-16.8528478333333,-0.29413768302925863,349.32380000000001,31.113700000000001,5.36,5.4909999999999997,-0.13099999999999934,{"$f":"+VLOOKUP(W190,Data!$E$5:$F$32,2)","v":-0.2},6.9000000000000672E-2,"B3V","B3",{"$f":"+DEGREES(ACOS(SIN(Index!$H$6)*SIN(Base!N190)+COS(Index!$H$6)*COS(Base!N190)*COS(Index!$H$3-Base!H190)))","v":97.880082929202587}]
["HD 138629","15 31 46,98182","+40 53 57,6125",15,31,46.981819999999999,232.94575758333335,4.0656704483817157,"+",40,53,57.612499999999997,40.899336805555599,0.71382808913904505,66.173599999999993,54.411700000000003,5.093,4.9969999999999999,9.6000000000000085E-2,{"$f":"+VLOOKUP(W191,Data!$E$5:$F$32,2)","v":0.15},-5.3999999999999909E-2,"A5V","A5",{"$f":"+DEGREES(ACOS(SIN(Index!$H$6)*SIN(Base!N191)+COS(Index!$H$6)*COS(Base!N191)*COS(Index!$H$3-Base!H191)))","v":85.340649409543119}]
["HD 13869 ","02 15 56,28521","+33 21 32,0226",2,15,56.285209999999999,33.984521708333332,0.59314179852590465,"+",33,21,32.022599999999997,33.358895166666699,0.58222255548595647,142.54750000000001,-26.273900000000001,5.2450000000000001,5.2489999999999997,-3.9999999999995595E-3,{"$f":"+VLOOKUP(W192,Data!$E$5:$F$32,2)","v":-0.01},6.0000000000004407E-3,"A0V","A0",{"$f":"+DEGREES(ACOS(SIN(Index!$H$6)*SIN(Base!N192)+COS(Index!$H$6)*COS(Base!N192)*COS(Index!$H$3-Base!H192)))","v":63.335959049239982}]
["HD 138749","15 32 55,78214","+31 21 32,8762",15,32,55.782139999999998,233.23242558333331,4.0706737488418225,"+",31,21,32.876199999999997,31.3591322777778,0.54732010881565163,49.685000000000002,54.714199999999998,4.0359999999999996,4.1529999999999996,-0.11699999999999999,{"$f":"+VLOOKUP(W193,Data!$E$5:$F$32,2)","v":-0.14000000000000001},2.300000000000002E-2,"B6Vnne","B6",{"$f":"+DEGREES(ACOS(SIN(Index!$H$6)*SIN(Base!N193)+COS(Index!$H$6)*COS(Base!N193)*COS(Index!$H$3-Base!H193)))","v":87.248930450268062}]
["HD 138867","15 41 54,68382","-76 04 55,0619",15,41,54.683819999999997,235.47784924999999,4.1098637849273594,"-",76,4,55.061900000000001,-76.081961638888899,-1.3278807319746324,312.71499999999997,-16.5627,5.9080000000000004,5.9420000000000002,-3.3999999999999808E-2,{"$f":"+VLOOKUP(W194,Data!$E$5:$F$32,2)","v":-7.0000000000000007E-2},3.6000000000000199E-2,"B9V","B9",{"$f":"+DEGREES(ACOS(SIN(Index!$H$6)*SIN(Base!N194)+COS(Index!$H$6)*COS(Base!N194)*COS(Index!$H$3-Base!H194)))","v":102.79721530378383}]
["HD 139006","15 34 41,26800","+26 42 52,8940",15,34,41.268000000000001,233.67195000000001,{"$f":"+RADIANS(G195)","v":4.0783448970555636},"+",26,42,52.893999999999998,{"$f":"VALUE(CONCATENATE(I195,+J195+K195/60+L195/3600))","v":26.714692777777799},{"$f":"+RADIANS(M195)","v":0.46625934763097243},41.869700000000002,53.772300000000001,2.2440000000000002,2.214,3.0000000000000249E-2,{"$f":"+VLOOKUP(W195,Data!$E$5:$F$32,2)","v":-0.01},{"$f":"+S195-T195","v":4.0000000000000251E-2},"A0V",{"$f":"IF(MID(V195,3,1)<>\",\",LEFT(V195,2),LEFT(V195,4))","v":"A0"},{"$f":"+DEGREES(ACOS(SIN(Index!$H$6)*SIN(Base!N195)+COS(Index!$H$6)*COS(Base!N195)*COS(Index!$H$3-Base!H195)))","v":87.928370377618123}]
["HD 139129","15 38 49,47043","-52 22 21,7043",15,38,49.47043,234.70612679166666,4.0963946871178587,"-",52,22,21.7043,-52.372695638888899,-0.91407597704348653,326.99180000000001,2.5004,5.4290000000000003,5.4260000000000002,3.0000000000001137E-3,{"$f":"+VLOOKUP(W196,Data!$E$5:$F$32,2)","v":-0.01},1.3000000000000114E-2,"A0V","A0",{"$f":"+DEGREES(ACOS(SIN(Index!$H$6)*SIN(Base!N196)+COS(Index!$H$6)*COS(Base!N196)*COS(Index!$H$3-Base!H196)))","v":101.81984058053209}]
["HD 139365","15 38 39,36950","-29 46 39,8956",15,38,39.369500000000002,234.66403958333333,4.0956601267594692,"-",29,46,39.895600000000002,-29.777748777777798,-0.51971976000393982,341.06439999999998,20.4482,3.49,3.6440000000000001,-0.15399999999999991,{"$f":"+VLOOKUP(W197,Data!$E$5:$F$32,2)","v":-0.24},8.6000000000000076E-2,"B2,5V","B2,5",{"$f":"+DEGREES(ACOS(SIN(Index!$H$6)*SIN(Base!N197)+COS(Index!$H$6)*COS(Base!N197)*COS(Index!$H$3-Base!H197)))","v":98.874564525255835}]
["HD 139493","15 35 57,03842","+54 37 50,0443",15,35,57.038420000000002,233.98766008333334,4.0838550774914761,"+",54,37,50.0443,54.630567861111103,0.95348328141058503,87.081100000000006,49.4527,5.84,5.79,4.9999999999999822E-2,{"$f":"+VLOOKUP(W198,Data!$E$5:$F$32,2)","v":0.05},-1.8041124150158794E-16,"A2V","A2",{"$f":"+DEGREES(ACOS(SIN(Index!$H$6)*SIN(Base!N198)+COS(Index!$H$6)*COS(Base!N198)*COS(Index!$H$3-Base!H198)))","v":81.888946329070009}]
["HD 139892","15 39 22,67317","+36 38 08,9396",15,39,22.673169999999999,234.84447154166668,4.098809258508207,"+",36,38,8.9396000000000004,36.6358165555556,0.63941562305109334,58.697800000000001,53.4129,4.95,5,-4.9999999999999822E-2,{"$f":"+VLOOKUP(W199,Data!$E$5:$F$32,2)","v":-0.13},8.0000000000000182E-2,"B7V","B7",{"$f":"+DEGREES(ACOS(SIN(Index!$H$6)*SIN(Base!N199)+COS(Index!$H$6)*COS(Base!N199)*COS(Index!$H$3-Base!H199)))","v":84.800268402773241}]
["HD 140008","15 42 41,02206","-34 42 37,4617",15,42,41.022060000000003,235.67092524999998,4.1132335968339406,"-",34,42,37.4617,-34.7104060277778,-0.60581086988880894,338.48160000000001,16.084299999999999,4.5910000000000002,4.7169999999999996,-0.12599999999999945,{"$f":"+VLOOKUP(W200,Data!$E$5:$F$32,2)","v":-0.16},3.4000000000000558E-2,"B5V","B5",{"$f":"+DEGREES(ACOS(SIN(Index!$H$6)*SIN(Base!N200)+COS(Index!$H$6)*COS(Base!N200)*COS(Index!$H$3-Base!H200)))","v":98.840352045892175}]
["HD 140159","15 41 33,05469","+19 40 13,4380",15,41,33.054690000000001,235.387727875,4.1082908702071856,"+",19,40,13.438000000000001,19.670399444444399,0.34331323548801818,31.415800000000001,50.451500000000003,4.5670000000000002,4.5090000000000003,5.7999999999999829E-2,{"$f":"+VLOOKUP(W201,Data!$E$5:$F$32,2)","v":0.02},3.7999999999999826E-2,"A1V","A1",{"$f":"+DEGREES(ACOS(SIN(Index!$H$6)*SIN(Base!N201)+COS(Index!$H$6)*COS(Base!N201)*COS(Index!$H$3-Base!H201)))","v":87.961563975191552}]
["HD 140285","15 44 22,67415","-41 49 08,7181",15,44,22.674150000000001,236.094475625,4.120625945425747,"-",41,49,8.7180999999999997,-41.819088361111099,-0.72988078208382812,334.18979999999999,10.322100000000001,5.93,5.93,0,{"$f":"+VLOOKUP(W202,Data!$E$5:$F$32,2)","v":-0.01},0.01,"A0V+,,,","A0",{"$f":"+DEGREES(ACOS(SIN(Index!$H$6)*SIN(Base!N202)+COS(Index!$H$6)*COS(Base!N202)*COS(Index!$H$3-Base!H202)))","v":99.605227588115184}]
["HD 1404  ","00 18 19,65745","+36 47 06,8107",0,18,19.657450000000001,4.5819060416666666,7.996934644410382E-2,"+",36,47,6.8106999999999998,36.785225194444401,0.64202329573062611,115.5855,-25.613800000000001,4.57,4.5199999999999996,5.0000000000000711E-2,{"$f":"+VLOOKUP(W203,Data!$E$5:$F$32,2)","v":0.05},7.0776717819853729E-16,"A2V","A2",{"$f":"+DEGREES(ACOS(SIN(Index!$H$6)*SIN(Base!N203)+COS(Index!$H$6)*COS(Base!N203)*COS(Index!$H$3-Base!H203)))","v":40.844900251840976}]
["HD 14055 ","02 17 18,86703","+33 50 49,8950",2,17,18.86703,34.328612624999998,0.5991473179479434,"+",33,50,49.895000000000003,33.8471930555556,0.59074496137760524,142.64959999999999,-25.715199999999999,4.03,4,3.0000000000000249E-2,{"$f":"+VLOOKUP(W204,Data!$E$5:$F$32,2)","v":0.02},1.0000000000000248E-2,"A1Vnn","A1",{"$f":"+DEGREES(ACOS(SIN(Index!$H$6)*SIN(Base!N204)+COS(Index!$H$6)*COS(Base!N204)*COS(Index!$H$3-Base!H204)))","v":63.64098425527871}]
["HD 140775","15 45 23,48332","+05 26 50,3292",15,45,23.483319999999999,236.34784716666667,4.1250481130586847,"+",5,26,50.3292,5.4473136666666697,9.5073558872218272E-2,13.266,43.319800000000001,5.601,5.57,3.0999999999999694E-2,{"$f":"+VLOOKUP(W205,Data!$E$5:$F$32,2)","v":-0.01},4.0999999999999696E-2,"A0V","A0",{"$f":"+DEGREES(ACOS(SIN(Index!$H$6)*SIN(Base!N205)+COS(Index!$H$6)*COS(Base!N205)*COS(Index!$H$3-Base!H205)))","v":90.181044046295952}]
["HD 140784","15 46 44,21774","-34 40 56,8218",15,46,44.217739999999999,236.68424058333335,4.1309192857615509,"-",34,40,56.821800000000003,-34.682450500000002,-0.60532295388495361,339.16919999999999,15.577199999999999,5.4909999999999997,5.5990000000000002,-0.10800000000000054,{"$f":"+VLOOKUP(W206,Data!$E$5:$F$32,2)","v":-0.13},2.1999999999999464E-2,"B7Vn","B7",{"$f":"+DEGREES(ACOS(SIN(Index!$H$6)*SIN(Base!N206)+COS(Index!$H$6)*COS(Base!N206)*COS(Index!$H$3-Base!H206)))","v":98.014167301175618}]
["HD 141003","15 46 11,25435","+15 25 18,5959",15,46,11.254350000000001,236.546893125,4.1285221203943889,"+",15,25,18.5959,15.4218321944444,0.26916174848311714,25.98,47.872300000000003,3.7330000000000001,3.66,7.2999999999999954E-2,{"$f":"+VLOOKUP(W207,Data!$E$5:$F$32,2)","v":0.08},-7.0000000000000479E-3,"A3V","A3",{"$f":"+DEGREES(ACOS(SIN(Index!$H$6)*SIN(Base!N207)+COS(Index!$H$6)*COS(Base!N207)*COS(Index!$H$3-Base!H207)))","v":87.80852592650055}]
["HD 141168","15 50 07,08404","-53 12 35,1712",15,50,7.0840399999999999,237.52951683333333,4.1456721394129614,"-",53,12,35.171199999999999,-53.209769777777801,-0.92868567685039416,327.83420000000001,0.79569999999999996,5.72,5.78,-6.0000000000000497E-2,{"$f":"+VLOOKUP(W208,Data!$E$5:$F$32,2)","v":-7.0000000000000007E-2},9.9999999999995093E-3,"B9Vn,,,","B9",{"$f":"+DEGREES(ACOS(SIN(Index!$H$6)*SIN(Base!N208)+COS(Index!$H$6)*COS(Base!N208)*COS(Index!$H$3-Base!H208)))","v":100.21708701576604}]
["HD 141187","15 47 17,31882","+14 06 55,2617",15,47,17.318819999999999,236.82216174999999,4.1333264642280758,"+",14,6,55.261699999999998,14.1153504722222,0.24635934081321378,24.378399999999999,47.093600000000002,5.8079999999999998,5.7119999999999997,9.6000000000000085E-2,{"$f":"+VLOOKUP(W209,Data!$E$5:$F$32,2)","v":0.08},1.6000000000000084E-2,"A3V","A3",{"$f":"+DEGREES(ACOS(SIN(Index!$H$6)*SIN(Base!N209)+COS(Index!$H$6)*COS(Base!N209)*COS(Index!$H$3-Base!H209)))","v":87.831085645581979}]
["HD 141194","15 49 57,49566","-48 54 44,6680",15,49,57.495660000000001,237.48956525,4.1449748527424104,"-",48,54,44.667999999999999,-48.912407777777801,-0.85368256080030558,330.50830000000002,4.1620999999999997,5.9240000000000004,5.8559999999999999,6.8000000000000504E-2,{"$f":"+VLOOKUP(W210,Data!$E$5:$F$32,2)","v":0.02},4.8000000000000501E-2,"A1V","A1",{"$f":"+DEGREES(ACOS(SIN(Index!$H$6)*SIN(Base!N210)+COS(Index!$H$6)*COS(Base!N210)*COS(Index!$H$3-Base!H210)))","v":99.657110066534713}]
["HD 141513","15 49 37,20696","-03 25 48,7358",15,49,37.206960000000002,237.40502900000001,4.1434994168426211,"-",3,25,48.735799999999998,-3.4302043888888898,-5.9868360602471124E-2,4.5929000000000002,37.291400000000003,3.5289999999999999,3.548,-1.9000000000000128E-2,{"$f":"+VLOOKUP(W211,Data!$E$5:$F$32,2)","v":-0.01},-9.0000000000001277E-3,"A0V","A0",{"$f":"+DEGREES(ACOS(SIN(Index!$H$6)*SIN(Base!N211)+COS(Index!$H$6)*COS(Base!N211)*COS(Index!$H$3-Base!H211)))","v":91.09342509539799}]
["HD 141637","15 50 58,74452","-25 45 04,6649",15,50,58.744520000000001,237.74476883333335,4.149428995534465,"-",25,45,4.6649000000000003,-25.7512958055556,-0.44944489846195074,346.09789999999998,21.7059,4.5659999999999998,4.6379999999999999,-7.2000000000000064E-2,{"$f":"+VLOOKUP(W212,Data!$E$5:$F$32,2)","v":-0.26},0.18799999999999994,"B1,5Vn","B1,5",{"$f":"+DEGREES(ACOS(SIN(Index!$H$6)*SIN(Base!N212)+COS(Index!$H$6)*COS(Base!N212)*COS(Index!$H$3-Base!H212)))","v":95.461192036651482}]
["HD 141851","15 51 15,59418","-03 05 25,7938",15,51,15.59418,237.81497574999997,4.1506543373879712,"-",3,5,25.793800000000001,-3.0904982777777801,-5.3939370474436567E-2,5.2458999999999998,37.178899999999999,5.23,5.0999999999999996,0.13000000000000078,{"$f":"+VLOOKUP(W213,Data!$E$5:$F$32,2)","v":0.08},5.000000000000078E-2,"A3Vn","A3",{"$f":"+DEGREES(ACOS(SIN(Index!$H$6)*SIN(Base!N213)+COS(Index!$H$6)*COS(Base!N213)*COS(Index!$H$3-Base!H213)))","v":90.619904736642795}]
["HD 14191 ","02 18 07,53838","+19 54 04,1862",2,18,7.5383800000000001,34.531409916666661,0.60268679840165396,"+",19,54,4.1862000000000004,19.901162833333299,0.34734081641718956,149.2704,-38.496699999999997,5.5839999999999996,5.5750000000000002,8.9999999999994529E-3,{"$f":"+VLOOKUP(W214,Data!$E$5:$F$32,2)","v":0.02},-1.1000000000000548E-2,"A1Vn","A1",{"$f":"+DEGREES(ACOS(SIN(Index!$H$6)*SIN(Base!N214)+COS(Index!$H$6)*COS(Base!N214)*COS(Index!$H$3-Base!H214)))","v":64.134636040636011}]
["HD 142096","15 53 20,05463","-20 10 01,4177",15,53,20.05463,238.33356095833332,4.159705356725528,"-",20,10,1.4177,-20.1670604722222,-0.35198160568907982,350.72430000000003,25.380099999999999,5.0019999999999998,5.0289999999999999,-2.7000000000000135E-2,{"$f":"+VLOOKUP(W215,Data!$E$5:$F$32,2)","v":-0.2},0.17299999999999988,"B3V","B3",{"$f":"+DEGREES(ACOS(SIN(Index!$H$6)*SIN(Base!N215)+COS(Index!$H$6)*COS(Base!N215)*COS(Index!$H$3-Base!H215)))","v":93.793415266758913}]
["HD 142105","15 44 03,51891","+77 47 40,1788",15,44,3.51891,236.01466212499997,4.1192329370632059,"+",77,47,40.178800000000003,77.794494111111106,1.3577700621622282,112.6802,35.657600000000002,4.3289999999999997,4.2830000000000004,4.5999999999999375E-2,{"$f":"+VLOOKUP(W216,Data!$E$5:$F$32,2)","v":0.08},-3.4000000000000627E-2,"A3Vn","A3",{"$f":"+DEGREES(ACOS(SIN(Index!$H$6)*SIN(Base!N216)+COS(Index!$H$6)*COS(Base!N216)*COS(Index!$H$3-Base!H216)))","v":78.032247354117274}]
["HD 142114","15 53 36,71880","-25 19 37,7087",15,53,36.718800000000002,238.402995,4.1609172093655786,"-",25,19,37.7087,-25.3271413055556,-0.44204200589980042,346.8768,21.613399999999999,4.5199999999999996,4.59,-7.0000000000000284E-2,{"$f":"+VLOOKUP(W217,Data!$E$5:$F$32,2)","v":-0.24},0.16999999999999971,"B2,5Vn","B2,5",{"$f":"+DEGREES(ACOS(SIN(Index!$H$6)*SIN(Base!N217)+COS(Index!$H$6)*COS(Base!N217)*COS(Index!$H$3-Base!H217)))","v":94.794350125536155}]
["HD 14212 ","02 19 16,79595","+47 22 47,9081",2,19,16.795950000000001,34.819983125,0.60772335102011432,"+",47,22,47.908099999999997,47.379974472222202,0.82693655405114008,137.98949999999999,-12.907299999999999,5.3179999999999996,5.3140000000000001,3.9999999999995595E-3,{"$f":"+VLOOKUP(W218,Data!$E$5:$F$32,2)","v":-0.01},1.399999999999956E-2,"A0V","A0",{"$f":"+DEGREES(ACOS(SIN(Index!$H$6)*SIN(Base!N218)+COS(Index!$H$6)*COS(Base!N218)*COS(Index!$H$3-Base!H218)))","v":65.268447861670211}]
["HD 142139","15 56 05,91176","-60 28 56,9522",15,56,5.9117600000000001,239.02463233333336,4.1717668275855635,"-",60,28,56.952199999999998,-60.482486722222198,-1.0556185330965304,323.84469999999999,-5.3426,5.8369999999999997,5.7539999999999996,8.3000000000000185E-2,{"$f":"+VLOOKUP(W219,Data!$E$5:$F$32,2)","v":0.08},3.0000000000001831E-3,"A3V","A3",{"$f":"+DEGREES(ACOS(SIN(Index!$H$6)*SIN(Base!N219)+COS(Index!$H$6)*COS(Base!N219)*COS(Index!$H$3-Base!H219)))","v":100.34546869910795}]
["HD 142165","15 53 53,91520","-24 31 59,3673",15,53,53.915199999999999,238.47464666666667,4.1621677668634538,"-",24,31,59.3673,-24.533157583333299,-0.42818437573978119,347.51389999999998,22.147300000000001,5.3579999999999997,5.3760000000000003,-1.8000000000000682E-2,{"$f":"+VLOOKUP(W220,Data!$E$5:$F$32,2)","v":-0.16},0.14199999999999932,"B5V","B5",{"$f":"+DEGREES(ACOS(SIN(Index!$H$6)*SIN(Base!N220)+COS(Index!$H$6)*COS(Base!N220)*COS(Index!$H$3-Base!H220)))","v":94.568944351334522}]
["HD 142184","15 53 55,86404","-23 58 41,1522",15,53,55.864040000000003,238.48276683333333,4.1623094905075977,"-",23,58,41.152200000000001,-23.978097833333301,-0.41849675555698462,347.9325,22.545200000000001,5.36,5.4,-4.0000000000000036E-2,{"$f":"+VLOOKUP(W221,Data!$E$5:$F$32,2)","v":-0.24},0.19999999999999996,"B2V","B2",{"$f":"+DEGREES(ACOS(SIN(Index!$H$6)*SIN(Base!N221)+COS(Index!$H$6)*COS(Base!N221)*COS(Index!$H$3-Base!H221)))","v":94.447934598566746}]
["HD 142445","15 55 30,07935","-26 15 57,5781",15,55,30.079350000000002,238.875330625,4.1691610211962944,"-",26,15,57.578099999999999,-26.265993916666702,-0.45842807515463507,346.5213,20.637499999999999,5.7619999999999996,5.633,0.12899999999999956,{"$f":"+VLOOKUP(W222,Data!$E$5:$F$32,2)","v":0.08},4.8999999999999558E-2,"A3V","A3",{"$f":"+DEGREES(ACOS(SIN(Index!$H$6)*SIN(Base!N222)+COS(Index!$H$6)*COS(Base!N222)*COS(Index!$H$3-Base!H222)))","v":94.569572852287678}]
["HD 14252 ","02 18 56,99321","+28 38 33,6266",2,18,56.993209999999998,34.737471708333331,0.60628325512879599,"+",28,38,33.626600000000003,28.642674055555599,0.49990896884500241,145.21709999999999,-30.414300000000001,5.32,5.2939999999999996,2.6000000000000689E-2,{"$f":"+VLOOKUP(W223,Data!$E$5:$F$32,2)","v":0.05},-2.3999999999999314E-2,"A2V","A2",{"$f":"+DEGREES(ACOS(SIN(Index!$H$6)*SIN(Base!N223)+COS(Index!$H$6)*COS(Base!N223)*COS(Index!$H$3-Base!H223)))","v":63.916255676153973}]
["HD 142629","15 56 53,49808","-33 57 58,0129",15,56,53.498080000000002,239.22290866666668,4.1752274024310116,"-",33,57,58.012900000000002,-33.9661146944444,-0.59282053552808245,341.2989,14.750400000000001,5.2080000000000002,5.0949999999999998,0.11300000000000043,{"$f":"+VLOOKUP(W224,Data!$E$5:$F$32,2)","v":0.08},3.3000000000000432E-2,"A3V","A3",{"$f":"+DEGREES(ACOS(SIN(Index!$H$6)*SIN(Base!N224)+COS(Index!$H$6)*COS(Base!N224)*COS(Index!$H$3-Base!H224)))","v":95.821753774285881}]
["HD 142630","15 56 54,12100","-33 57 51,3448",15,56,54.121000000000002,239.22550416666667,4.1752727024517471,"-",33,57,51.344799999999999,-33.9642624444445,-0.59278820766701423,341.30180000000001,14.750400000000001,5.649,5.58,6.899999999999995E-2,{"$f":"+VLOOKUP(W225,Data!$E$5:$F$32,2)","v":-7.0000000000000007E-2},0.13899999999999996,"B9V","B9",{"$f":"+DEGREES(ACOS(SIN(Index!$H$6)*SIN(Base!N225)+COS(Index!$H$6)*COS(Base!N225)*COS(Index!$H$3-Base!H225)))","v":95.819279491187515}]
["HD 142883","15 57 40,46391","-20 58 59,0949",15,57,40.463909999999998,239.41859962499998,4.1786428539703113,"-",20,58,59.094900000000003,-20.983081916666698,-0.3662238666615163,350.88400000000001,24.0852,5.851,5.8410000000000002,9.9999999999997868E-3,{"$f":"+VLOOKUP(W226,Data!$E$5:$F$32,2)","v":-0.2},0.2099999999999998,"B3V","B3",{"$f":"+DEGREES(ACOS(SIN(Index!$H$6)*SIN(Base!N226)+COS(Index!$H$6)*COS(Base!N226)*COS(Index!$H$3-Base!H226)))","v":92.9733897647601}]
["HD 142990","15 58 34,86636","-24 49 53,3628",15,58,34.86636,239.64527650000002,4.1825991117771935,"-",24,49,53.3628,-24.831489666666702,-0.43339125285828317,348.11919999999998,21.1965,5.34,5.44,-0.10000000000000053,{"$f":"+VLOOKUP(W227,Data!$E$5:$F$32,2)","v":-0.16},5.999999999999947E-2,"B5V","B5",{"$f":"+DEGREES(ACOS(SIN(Index!$H$6)*SIN(Base!N227)+COS(Index!$H$6)*COS(Base!N227)*COS(Index!$H$3-Base!H227)))","v":93.590799033133649}]
["HD 143018","15 58 51,11324","-26 06 50,7886",15,58,51.113239999999998,239.71297183333334,4.1837806182320945,"-",26,6,50.788600000000002,-26.114107944444399,-0.45577716485176323,347.21480000000003,20.230499999999999,2.7,2.89,-0.18999999999999995,{"$f":"+VLOOKUP(W228,Data!$E$5:$F$32,2)","v":-0.26},7.0000000000000062E-2,"B1V+,,,","B1",{"$f":"+DEGREES(ACOS(SIN(Index!$H$6)*SIN(Base!N228)+COS(Index!$H$6)*COS(Base!N228)*COS(Index!$H$3-Base!H228)))","v":93.802778686471925}]
["HD 143459","16 00 47,63255","-08 24 40,8864",16,0,47.632550000000002,240.19846895833336,4.1922541415723114,"-",8,24,40.886400000000002,-8.4113573333333296,-0.14680588002843678,2.0038,32.000100000000003,5.57,5.53,4.0000000000000036E-2,{"$f":"+VLOOKUP(W229,Data!$E$5:$F$32,2)","v":-0.01},5.0000000000000037E-2,"A0Vs","A0",{"$f":"+DEGREES(ACOS(SIN(Index!$H$6)*SIN(Base!N229)+COS(Index!$H$6)*COS(Base!N229)*COS(Index!$H$3-Base!H229)))","v":89.477031759085818}]
["HD 143894","16 02 17,69166","+22 48 16,0302",16,2,17.691659999999999,240.57371525000002,4.1988034248677932,"+",22,48,16.030200000000001,22.804452833333301,0.3980127860574158,38.137500000000003,46.780500000000004,4.8940000000000001,4.8170000000000002,7.6999999999999957E-2,{"$f":"+VLOOKUP(W230,Data!$E$5:$F$32,2)","v":0.08},-3.0000000000000443E-3,"A3V","A3",{"$f":"+DEGREES(ACOS(SIN(Index!$H$6)*SIN(Base!N230)+COS(Index!$H$6)*COS(Base!N230)*COS(Index!$H$3-Base!H230)))","v":82.593747090045767}]
["HD 144208","16 03 19,36420","+36 37 54,4272",16,3,19.3642,240.83068416666669,4.2032883785389101,"+",36,37,54.427199999999999,36.631785333333298,0.63934526495043453,58.566600000000001,48.610700000000001,6.3570000000000002,5.8159999999999998,0.54100000000000037,{"$f":"+VLOOKUP(W231,Data!$E$5:$F$32,2)","v":0.05},0.49100000000000038,"A2V+,,,","A2",{"$f":"+DEGREES(ACOS(SIN(Index!$H$6)*SIN(Base!N231)+COS(Index!$H$6)*COS(Base!N231)*COS(Index!$H$3-Base!H231)))","v":80.073081117881443}]
["HD 144217","16 05 26,23198","-19 48 19,6300",16,5,26.23198,241.35929991666663,4.2125144638543084,"-",19,48,19.63,-19.805452777777798,-0.34567036082047942,353.19290000000001,23.599599999999999,2.5499999999999998,2.62,-7.0000000000000284E-2,{"$f":"+VLOOKUP(W232,Data!$E$5:$F$32,2)","v":-0.3},0.2299999999999997,"B0,5V","B0,5",{"$f":"+DEGREES(ACOS(SIN(Index!$H$6)*SIN(Base!N232)+COS(Index!$H$6)*COS(Base!N232)*COS(Index!$H$3-Base!H232)))","v":90.939438180267842}]
["HD 144217","16 05 26,23"," -19 48 19,9      ",16,5,26.23,241.35929166666665,4.2125143198646455,"-",19,48,19.899999999999999,-19.805527777777801,-0.34567166981741843,353.19279999999998,23.599599999999999,5.2,5.6,-0.39999999999999947,{"$f":"+VLOOKUP(W233,Data!$E$5:$F$32,2)","v":-0.24},-0.15999999999999948,"B2V","B2",{"$f":"+DEGREES(ACOS(SIN(Index!$H$6)*SIN(Base!N233)+COS(Index!$H$6)*COS(Base!N233)*COS(Index!$H$3-Base!H233)))","v":90.939462724171577}]
["HD 144218","16 05 26,57128","-19 48 06,8556",16,5,26.571280000000002,241.36071366666664,4.2125391384466084,"-",19,48,6.8555999999999999,-19.801904333333301,-0.34560842878159881,353.19670000000002,23.601099999999999,4.87,4.8899999999999997,-1.9999999999999574E-2,{"$f":"+VLOOKUP(W234,Data!$E$5:$F$32,2)","v":-0.24},0.22000000000000042,"B2V","B2",{"$f":"+DEGREES(ACOS(SIN(Index!$H$6)*SIN(Base!N234)+COS(Index!$H$6)*COS(Base!N234)*COS(Index!$H$3-Base!H234)))","v":90.937339043455097}]
["HD 144294","16 06 35,54525","-36 48 08,2653",16,6,35.545250000000003,241.64810520833333,4.2175550670910749,"-",36,48,8.2652999999999999,-36.802295916666701,-0.64232123603909863,340.83420000000001,11.3231,4.0369999999999999,4.2050000000000001,-0.16800000000000015,{"$f":"+VLOOKUP(W235,Data!$E$5:$F$32,2)","v":-0.24},7.1999999999999842E-2,"B2,5Vn","B2,5",{"$f":"+DEGREES(ACOS(SIN(Index!$H$6)*SIN(Base!N235)+COS(Index!$H$6)*COS(Base!N235)*COS(Index!$H$3-Base!H235)))","v":94.469895931912916}]
["HD 144334","16 06 06,37611","-23 36 22,7222",16,6,6.3761099999999997,241.52656712500001,4.2154338273703447,"-",23,36,22.722200000000001,-23.606311722222198,-0.41200786380491045,350.34780000000001,20.854299999999999,5.8230000000000004,5.8929999999999998,-6.9999999999999396E-2,{"$f":"+VLOOKUP(W236,Data!$E$5:$F$32,2)","v":-0.11},4.0000000000000605E-2,"B8V","B8",{"$f":"+DEGREES(ACOS(SIN(Index!$H$6)*SIN(Base!N236)+COS(Index!$H$6)*COS(Base!N236)*COS(Index!$H$3-Base!H236)))","v":91.648249560644373}]
["HD 144470","16 06 48,42692","-20 40 09,0902",16,6,48.426920000000003,241.70177883333338,4.2184918485688065,"-",20,40,9.0901999999999994,-20.669191722222202,-0.36074544927873464,352.74970000000002,22.773,3.9,3.9460000000000002,-4.6000000000000263E-2,{"$f":"+VLOOKUP(W237,Data!$E$5:$F$32,2)","v":-0.26},0.21399999999999975,"B1V","B1",{"$f":"+DEGREES(ACOS(SIN(Index!$H$6)*SIN(Base!N237)+COS(Index!$H$6)*COS(Base!N237)*COS(Index!$H$3-Base!H237)))","v":90.822866570789017}]
["HD 144480","16 09 18,54876","-57 56 03,5420",16,9,18.548760000000001,242.32728649999996,4.2294090168486056,"-",57,56,3.5419999999999998,-57.934317222222198,-1.0111445854226326,326.80900000000003,-4.5518999999999998,5.5460000000000003,5.5709999999999997,-2.4999999999999467E-2,{"$f":"+VLOOKUP(W238,Data!$E$5:$F$32,2)","v":-7.0000000000000007E-2},4.500000000000054E-2,"B9,5V","B9,5",{"$f":"+DEGREES(ACOS(SIN(Index!$H$6)*SIN(Base!N238)+COS(Index!$H$6)*COS(Base!N238)*COS(Index!$H$3-Base!H238)))","v":98.277301777029223}]
["HD 144708","16 07 36,41532","-12 44 43,4616",16,7,36.415320000000001,241.90173050000001,4.2219816634969893,"-",12,44,43.461599999999997,-12.745405999999999,-0.22244929920344039,359.41320000000002,27.9315,5.7629999999999999,5.7569999999999997,6.0000000000002274E-3,{"$f":"+VLOOKUP(W239,Data!$E$5:$F$32,2)","v":-7.0000000000000007E-2},7.6000000000000234E-2,"B9V","B9",{"$f":"+DEGREES(ACOS(SIN(Index!$H$6)*SIN(Base!N239)+COS(Index!$H$6)*COS(Base!N239)*COS(Index!$H$3-Base!H239)))","v":88.822628637077273}]
["HD 144844","16 08 43,72037","-23 41 07,4950",16,8,43.720370000000003,242.18216820833331,4.2268762248541529,"-",23,41,7.4950000000000001,-23.6854152777778,-0.41338848129938993,350.73410000000001,20.368300000000001,5.875,5.8570000000000002,1.7999999999999794E-2,{"$f":"+VLOOKUP(W240,Data!$E$5:$F$32,2)","v":-7.0000000000000007E-2},8.7999999999999801E-2,"B9V","B9",{"$f":"+DEGREES(ACOS(SIN(Index!$H$6)*SIN(Base!N240)+COS(Index!$H$6)*COS(Base!N240)*COS(Index!$H$3-Base!H240)))","v":91.081600775369921}]
["HD 144874","16 07 37,53919","+09 53 30,2655",16,7,37.539189999999998,241.90641329166667,4.2220633936297576,"+",9,53,30.265499999999999,9.8917404166666696,0.17264343902342916,22.160900000000002,40.767800000000001,5.8289999999999997,5.6390000000000002,0.1899999999999995,{"$f":"+VLOOKUP(W241,Data!$E$5:$F$32,2)","v":0.2},-1.0000000000000508E-2,"A7V","A7",{"$f":"+DEGREES(ACOS(SIN(Index!$H$6)*SIN(Base!N241)+COS(Index!$H$6)*COS(Base!N241)*COS(Index!$H$3-Base!H241)))","v":83.852585083760957}]
["HD 144987","16 09 52,58938","-33 32 44,8979",16,9,52.589379999999998,242.46912241666666,4.2318845205920237,"-",33,32,44.8979,-33.5458049722222,-0.58548474699716235,343.62970000000001,13.218999999999999,5.4210000000000003,5.4960000000000004,-7.5000000000000178E-2,{"$f":"+VLOOKUP(W242,Data!$E$5:$F$32,2)","v":-0.11},3.4999999999999823E-2,"B8V","B8",{"$f":"+DEGREES(ACOS(SIN(Index!$H$6)*SIN(Base!N242)+COS(Index!$H$6)*COS(Base!N242)*COS(Index!$H$3-Base!H242)))","v":93.095107923091348}]
["HD 145454","16 06 19,67620","+67 48 36,4805",16,6,19.676200000000001,241.5819841666667,4.2164010372091436,"+",67,48,36.480499999999999,67.810133472222205,1.1835100953070923,101.155,40.087600000000002,5.4130000000000003,5.4390000000000001,-2.5999999999999801E-2,{"$f":"+VLOOKUP(W243,Data!$E$5:$F$32,2)","v":-0.01},-1.5999999999999799E-2,"A0Vn","A0",{"$f":"+DEGREES(ACOS(SIN(Index!$H$6)*SIN(Base!N243)+COS(Index!$H$6)*COS(Base!N243)*COS(Index!$H$3-Base!H243)))","v":76.881372507369363}]
["HD 145482","16 12 18,20490","-27 55 34,9457",16,12,18.204899999999999,243.07585374999999,4.2424739800337052,"-",27,55,34.945700000000002,-27.926373805555599,-0.48740717104964393,348.11660000000001,16.8354,4.4210000000000003,4.5670000000000002,-0.14599999999999991,{"$f":"+VLOOKUP(W244,Data!$E$5:$F$32,2)","v":-0.24},9.4000000000000083E-2,"B2V","B2",{"$f":"+DEGREES(ACOS(SIN(Index!$H$6)*SIN(Base!N244)+COS(Index!$H$6)*COS(Base!N244)*COS(Index!$H$3-Base!H244)))","v":91.287194520421494}]
["HD 145483","16 12 16,03911","-28 25 02,3122",16,12,16.039110000000001,243.066829625,4.2423164793403441,"-",28,25,2.3121999999999998,-28.4173089444444,-0.49597560563698917,347.74489999999997,16.497299999999999,5.68,5.67,9.9999999999997868E-3,{"$f":"+VLOOKUP(W245,Data!$E$5:$F$32,2)","v":-7.0000000000000007E-2},7.9999999999999793E-2,"B9Vv","B9",{"$f":"+DEGREES(ACOS(SIN(Index!$H$6)*SIN(Base!N245)+COS(Index!$H$6)*COS(Base!N245)*COS(Index!$H$3-Base!H245)))","v":91.41049705853186}]
["HD 145607","16 12 07,31598","-08 32 51,2823",16,12,7.3159799999999997,243.03048324999997,4.2416821154254292,"-",8,32,51.282299999999999,-8.5475784166666706,-0.14918338644323717,3.9241999999999999,29.731200000000001,5.5449999999999999,5.4349999999999996,0.11000000000000032,{"$f":"+VLOOKUP(W246,Data!$E$5:$F$32,2)","v":0.12},-9.9999999999996758E-3,"A4V","A4",{"$f":"+DEGREES(ACOS(SIN(Index!$H$6)*SIN(Base!N246)+COS(Index!$H$6)*COS(Base!N246)*COS(Index!$H$3-Base!H246)))","v":86.77925333697408}]
["HD 145622","16 03 31,34985","+76 47 38,1834",16,3,31.34985,240.88062437500002,4.2041599996034584,"+",76,47,38.183399999999999,76.793939833333297,1.3403070956700915,110.8995,35.444800000000001,5.78,5.73,4.9999999999999822E-2,{"$f":"+VLOOKUP(W247,Data!$E$5:$F$32,2)","v":0.08},-3.0000000000000179E-2,"A3V","A3",{"$f":"+DEGREES(ACOS(SIN(Index!$H$6)*SIN(Base!N247)+COS(Index!$H$6)*COS(Base!N247)*COS(Index!$H$3-Base!H247)))","v":77.000560183998346}]
["HD 145689","16 17 05,41058","-67 56 28,6213",16,17,5.4105800000000004,244.27254408333337,4.2633601664771614,"-",67,56,28.621300000000002,-67.941283694444493,-1.1857990984995934,320.42140000000001,-12.365,6.101,5.9530000000000003,0.14799999999999969,{"$f":"+VLOOKUP(W248,Data!$E$5:$F$32,2)","v":0.12},2.7999999999999692E-2,"A4V","A4",{"$f":"+DEGREES(ACOS(SIN(Index!$H$6)*SIN(Base!N248)+COS(Index!$H$6)*COS(Base!N248)*COS(Index!$H$3-Base!H248)))","v":99.265050323121713}]
["HD 145842","16 15 15,31780","-47 22 19,2677",16,15,15.3178,243.81382416666665,4.2553539935868532,"-",47,22,19.267700000000001,-47.372018805555598,-0.82679770147361664,334.7002,2.5325000000000002,5.0199999999999996,5.1239999999999997,-0.10400000000000009,{"$f":"+VLOOKUP(W249,Data!$E$5:$F$32,2)","v":-0.11},5.9999999999999082E-3,"B8V","B8",{"$f":"+DEGREES(ACOS(SIN(Index!$H$6)*SIN(Base!N249)+COS(Index!$H$6)*COS(Base!N249)*COS(Index!$H$3-Base!H249)))","v":95.227284782188292}]
["HD 146624","16 18 17,90017","-28 36 50,4768",16,18,17.900169999999999,244.57458404166667,4.2686317582226634,"-",28,36,50.476799999999997,-28.614021333333302,-0.49940888450256399,348.55560000000003,15.408099999999999,4.8220000000000001,4.7919999999999998,3.0000000000000249E-2,{"$f":"+VLOOKUP(W250,Data!$E$5:$F$32,2)","v":-0.01},4.0000000000000251E-2,"A0V","A0",{"$f":"+DEGREES(ACOS(SIN(Index!$H$6)*SIN(Base!N250)+COS(Index!$H$6)*COS(Base!N250)*COS(Index!$H$3-Base!H250)))","v":90.172274750079026}]
["HD 146667","16 19 17,64661","-42 40 26,3014",16,19,17.646609999999999,244.82352754166664,4.2729766419491018,"-",42,40,26.301400000000001,-42.673972611111097,-0.74480132696977042,338.49930000000001,5.3994,5.5380000000000003,5.4409999999999998,9.7000000000000419E-2,{"$f":"+VLOOKUP(W251,Data!$E$5:$F$32,2)","v":0.08},1.7000000000000418E-2,"A3Vn","A3",{"$f":"+DEGREES(ACOS(SIN(Index!$H$6)*SIN(Base!N251)+COS(Index!$H$6)*COS(Base!N251)*COS(Index!$H$3-Base!H251)))","v":93.434791876877952}]
["HD 146738","16 16 44,78703","+29 09 00,9474",16,16,44.787030000000001,244.18661262499998,4.2618603795982031,"+",29,9,0.94740000000000002,29.150263166666701,0.50876807008116254,48.086399999999998,45.0565,5.8460000000000001,5.7850000000000001,6.0999999999999943E-2,{"$f":"+VLOOKUP(W252,Data!$E$5:$F$32,2)","v":0.08},-1.9000000000000059E-2,"A3V","A3",{"$f":"+DEGREES(ACOS(SIN(Index!$H$6)*SIN(Base!N252)+COS(Index!$H$6)*COS(Base!N252)*COS(Index!$H$3-Base!H252)))","v":78.352689731898664}]
["HD 146926","16 10 49,52447","+75 52 39,2250",16,10,49.524470000000001,242.70635195833333,4.2360249571771043,"+",75,52,39.225000000000001,75.877562499999996,1.3243132940127798,109.67140000000001,35.607500000000002,5.3780000000000001,5.4710000000000001,-9.2999999999999972E-2,{"$f":"+VLOOKUP(W253,Data!$E$5:$F$32,2)","v":-0.11},1.7000000000000029E-2,"B8V","B8",{"$f":"+DEGREES(ACOS(SIN(Index!$H$6)*SIN(Base!N253)+COS(Index!$H$6)*COS(Base!N253)*COS(Index!$H$3-Base!H253)))","v":76.555139631668084}]
["HD 147934","16 25 35,05"," -23 26 46,0      ",16,25,35.049999999999997,246.39604166666666,4.3004221909644702,"-",23,26,46,-23.446111111111101,-0.40921183567731478,353.6866,17.6876,5.26,5.92,-0.66000000000000014,{"$f":"+VLOOKUP(W254,Data!$E$5:$F$32,2)","v":-0.24},-0.42000000000000015,"B2V","B2",{"$f":"+DEGREES(ACOS(SIN(Index!$H$6)*SIN(Base!N254)+COS(Index!$H$6)*COS(Base!N254)*COS(Index!$H$3-Base!H254)))","v":87.278220310772682}]
["HD 147971","16 27 11,03611","-47 33 17,2226",16,27,11.036110000000001,246.79598379166669,4.3074024978631433,"-",47,33,17.2226,-47.554784055555601,-0.82998755684434722,335.99990000000003,0.98009999999999997,4.4509999999999996,4.5250000000000004,-7.4000000000000732E-2,{"$f":"+VLOOKUP(W255,Data!$E$5:$F$32,2)","v":-0.18},0.10599999999999926,"B4V","B4",{"$f":"+DEGREES(ACOS(SIN(Index!$H$6)*SIN(Base!N255)+COS(Index!$H$6)*COS(Base!N255)*COS(Index!$H$3-Base!H255)))","v":93.316041176617205}]
["HD 148184","16 27 01,43499","-18 27 22,4938",16,27,1.43499,246.75597912500001,4.3067042847136463,"-",18,27,22.4938,-18.456248277777799,-0.3221223000127556,357.93279999999999,20.676600000000001,4.7,4.42,0.28000000000000025,{"$f":"+VLOOKUP(W256,Data!$E$5:$F$32,2)","v":-0.24},0.52000000000000024,"B2Vne","B2",{"$f":"+DEGREES(ACOS(SIN(Index!$H$6)*SIN(Base!N256)+COS(Index!$H$6)*COS(Base!N256)*COS(Index!$H$3-Base!H256)))","v":85.666225972852757}]
["HD 148283","16 25 24,16746","+37 23 38,6775",16,25,24.167459999999998,246.35069774999999,4.2996307903228868,"+",37,23,38.677500000000002,37.3940770833333,0.65264976584872414,59.902299999999997,44.233800000000002,5.71,5.54,0.16999999999999993,{"$f":"+VLOOKUP(W257,Data!$E$5:$F$32,2)","v":0.15},1.9999999999999934E-2,"A5V","A5",{"$f":"+DEGREES(ACOS(SIN(Index!$H$6)*SIN(Base!N257)+COS(Index!$H$6)*COS(Base!N257)*COS(Index!$H$3-Base!H257)))","v":75.607048262762063}]
["HD 148479","16 29 24,2 "," -26 25 51         ",16,29,24.2,247.35083333333336,4.317086449218408,"-",26,25,51,-26.4308333333333,-0.46130506571253399,351.94740000000002,15.065799999999999,5,5.2,-0.20000000000000018,{"$f":"+VLOOKUP(W258,Data!$E$5:$F$32,2)","v":-0.24},3.9999999999999813E-2,"B2,5V","B2,5",{"$f":"+DEGREES(ACOS(SIN(Index!$H$6)*SIN(Base!N258)+COS(Index!$H$6)*COS(Base!N258)*COS(Index!$H$3-Base!H258)))","v":87.230316807769157}]
["HD 148605","16 30 12,47514","-25 06 54,8043",16,30,12.47514,247.55197974999999,{"$f":"+RADIANS(G259)","v":4.3205971164678285},"-",25,6,54.804299999999998,{"$f":"VALUE(CONCATENATE(I259,+J259+K259/60+L259/3600))","v":-25.115223416666701},{"$f":"+RADIANS(M259)","v":-0.43834334099481365},353.09820000000002,15.7959,4.6589999999999998,4.7809999999999997,-0.12199999999999989,{"$f":"+VLOOKUP(W259,Data!$E$5:$F$32,2)","v":-0.2},{"$f":"+S259-T259","v":7.8000000000000125E-2},"B3V",{"$f":"IF(MID(V259,3,1)<>\",\",LEFT(V259,2),LEFT(V259,4))","v":"B3"},{"$f":"+DEGREES(ACOS(SIN(Index!$H$6)*SIN(Base!N259)+COS(Index!$H$6)*COS(Base!N259)*COS(Index!$H$3-Base!H259)))","v":86.702416095908589}]
["HD 148857","16 30 54,82314","+01 59 02,1209",16,30,54.823140000000002,247.72842975,4.3236767499329734,"+",1,59,2.1208999999999998,1.98392247222222,3.462597924458348E-2,17.122800000000002,31.844899999999999,3.94,3.9,4.0000000000000036E-2,{"$f":"+VLOOKUP(W260,Data!$E$5:$F$32,2)","v":-0.01},5.0000000000000037E-2,"A0V+,,,","A0",{"$f":"+DEGREES(ACOS(SIN(Index!$H$6)*SIN(Base!N260)+COS(Index!$H$6)*COS(Base!N260)*COS(Index!$H$3-Base!H260)))","v":79.838975248612613}]
["HD 149303","16 31 47,22659","+45 35 53,7948",16,31,47.226590000000002,247.94677745833332,4.3274876363575734,"+",45,35,53.794800000000002,45.598276333333303,0.79584005525087353,71.239800000000002,43.0137,5.77,5.66,0.10999999999999943,{"$f":"+VLOOKUP(W261,Data!$E$5:$F$32,2)","v":0.12},-1.0000000000000564E-2,"A4Vn","A4",{"$f":"+DEGREES(ACOS(SIN(Index!$H$6)*SIN(Base!N261)+COS(Index!$H$6)*COS(Base!N261)*COS(Index!$H$3-Base!H261)))","v":73.922497895190816}]
["HD 14943 ","02 22 54,67489","-51 05 31,6654",2,22,54.674889999999998,35.727812041666667,0.62356795466076087,"-",51,5,31.665400000000002,-51.092129277777801,-0.89172587775181511,273.27550000000002,-60.443100000000001,6.101,5.9059999999999997,0.19500000000000028,{"$f":"+VLOOKUP(W262,Data!$E$5:$F$32,2)","v":0.15},4.500000000000029E-2,"A5V","A5",{"$f":"+DEGREES(ACOS(SIN(Index!$H$6)*SIN(Base!N262)+COS(Index!$H$6)*COS(Base!N262)*COS(Index!$H$3-Base!H262)))","v":86.571513404810332}]
["HD 149438","16 35 52,95285","-28 12 57,6615",16,35,52.952849999999998,248.97063687499997,4.3453573542559552,"-",28,12,57.661499999999997,-28.216017083333298,-0.49246239990313329,351.53480000000002,12.8081,2.613,2.8140000000000001,-0.20100000000000007,{"$f":"+VLOOKUP(W263,Data!$E$5:$F$32,2)","v":-0.3},9.8999999999999921E-2,"B0,2V","B0,2",{"$f":"+DEGREES(ACOS(SIN(Index!$H$6)*SIN(Base!N263)+COS(Index!$H$6)*COS(Base!N263)*COS(Index!$H$3-Base!H263)))","v":86.338929605549424}]
["HD 149630","16 34 06,18334","+42 26 13,3455",16,34,6.1833400000000003,248.52576391666665,4.3375928563799517,"+",42,26,13.345499999999999,42.437040416666697,0.74066608007274015,66.910899999999998,42.699100000000001,4.1870000000000003,4.2,-1.2999999999999901E-2,{"$f":"+VLOOKUP(W264,Data!$E$5:$F$32,2)","v":-7.0000000000000007E-2},5.7000000000000106E-2,"B9V","B9",{"$f":"+DEGREES(ACOS(SIN(Index!$H$6)*SIN(Base!N264)+COS(Index!$H$6)*COS(Base!N264)*COS(Index!$H$3-Base!H264)))","v":73.618065764658539}]
["HD 149650","16 32 25,68054","+60 49 23,9622",16,32,25.680540000000001,248.10700225000002,4.3302840865154799,"+",60,49,23.962199999999999,60.8233228333333,1.0615672454451124,91.3035,40.1995,5.95,5.91,4.0000000000000036E-2,{"$f":"+VLOOKUP(W265,Data!$E$5:$F$32,2)","v":0.05},-9.9999999999999672E-3,"A2V","A2",{"$f":"+DEGREES(ACOS(SIN(Index!$H$6)*SIN(Base!N265)+COS(Index!$H$6)*COS(Base!N265)*COS(Index!$H$3-Base!H265)))","v":73.96029413018482}]
["HD 149757","16 37 09,53905","-10 34 01,5295",16,37,9.5390499999999996,249.28974604166666,4.3509268598875845,"-",10,34,1.5295000000000001,-10.5670915277778,-0.18443053951932045,6.2812000000000001,23.587700000000002,2.5950000000000002,2.5779999999999998,1.7000000000000348E-2,{"$f":"+VLOOKUP(W266,Data!$E$5:$F$32,2)","v":-0.04},5.7000000000000349E-2,"O9V","O9",{"$f":"+DEGREES(ACOS(SIN(Index!$H$6)*SIN(Base!N266)+COS(Index!$H$6)*COS(Base!N266)*COS(Index!$H$3-Base!H266)))","v":81.275684174856437}]
["HD 149886","16 39 05,22667","-37 13 02,5488",16,39,5.2266700000000004,249.77177779166664,4.3593399010242342,"-",37,13,2.5488,-37.2173746666667,-0.64956572688166103,345.10449999999997,6.3798000000000004,5.9009999999999998,5.92,-1.9000000000000128E-2,{"$f":"+VLOOKUP(W267,Data!$E$5:$F$32,2)","v":-7.0000000000000007E-2},5.0999999999999879E-2,"B9,5V+,,,","B9,5",{"$f":"+DEGREES(ACOS(SIN(Index!$H$6)*SIN(Base!N267)+COS(Index!$H$6)*COS(Base!N267)*COS(Index!$H$3-Base!H267)))","v":88.307212356018326}]
["HD 15008 ","02 21 44,94286","-68 39 33,9038",2,21,44.942860000000003,35.437261916666671,0.61849689833742982,"-",68,39,33.903799999999997,-68.659417722222202,-1.1983329017549229,291.24990000000003,-46.366900000000001,4.1219999999999999,4.0810000000000004,4.0999999999999481E-2,{"$f":"+VLOOKUP(W268,Data!$E$5:$F$32,2)","v":0.08},-3.900000000000052E-2,"A3V","A3",{"$f":"+DEGREES(ACOS(SIN(Index!$H$6)*SIN(Base!N268)+COS(Index!$H$6)*COS(Base!N268)*COS(Index!$H$3-Base!H268)))","v":93.940617713679217}]
["HD 150100","16 36 11,41982","+52 54 00,1704",16,36,11.41982,249.04758258333334,4.3467003102116522,"+",52,54,0.1704,52.900047333333298,0.92328000042751235,80.94,41.484999999999999,5.47,5.52,-4.9999999999999822E-2,{"$f":"+VLOOKUP(W269,Data!$E$5:$F$32,2)","v":-7.0000000000000007E-2},2.0000000000000184E-2,"B9,5Vn","B9,5",{"$f":"+DEGREES(ACOS(SIN(Index!$H$6)*SIN(Base!N269)+COS(Index!$H$6)*COS(Base!N269)*COS(Index!$H$3-Base!H269)))","v":73.168015622212394}]
["HD 150117","16 36 13,40"," +52 55 26,0      ",16,36,13.4,249.05583333333337,4.3468443129649117,"+",52,55,26,52.923888888888897,0.92369611407075469,80.970399999999998,41.476300000000002,5.03,5.08,-4.9999999999999822E-2,{"$f":"+VLOOKUP(W270,Data!$E$5:$F$32,2)","v":-7.0000000000000007E-2},2.0000000000000184E-2,"B9V","B9",{"$f":"+DEGREES(ACOS(SIN(Index!$H$6)*SIN(Base!N270)+COS(Index!$H$6)*COS(Base!N270)*COS(Index!$H$3-Base!H270)))","v":73.163555093487332}]
["HD 150117","16 36 13,72001","+52 55 27,9100",16,36,13.72001,249.05716670833337,4.346867584748825,"+",52,55,27.91,52.924419444444403,0.92370537401206299,80.9709,41.4754,5.6,5.5,9.9999999999999645E-2,{"$f":"+VLOOKUP(W271,Data!$E$5:$F$32,2)","v":-7.0000000000000007E-2},0.16999999999999965,"B9V","B9",{"$f":"+DEGREES(ACOS(SIN(Index!$H$6)*SIN(Base!N271)+COS(Index!$H$6)*COS(Base!N271)*COS(Index!$H$3-Base!H271)))","v":73.16276293325636}]
["HD 150378","16 40 38,68818","+04 13 11,2324",16,40,38.688180000000003,250.16120075000001,4.3661366138300082,"+",4,13,11.2324,4.21978677777778,7.3649173004344551E-2,20.815300000000001,30.866099999999999,5.766,5.7720000000000002,-6.0000000000002274E-3,{"$f":"+VLOOKUP(W272,Data!$E$5:$F$32,2)","v":0.02},-2.6000000000000228E-2,"A1V","A1",{"$f":"+DEGREES(ACOS(SIN(Index!$H$6)*SIN(Base!N272)+COS(Index!$H$6)*COS(Base!N272)*COS(Index!$H$3-Base!H272)))","v":76.990782272161866}]
["HD 150742","16 44 42,59332","-40 50 22,8251",16,44,42.593319999999999,251.17747216666669,4.383873896144749,"-",40,50,22.825099999999999,-40.839673638888897,-0.71278677043854499,343.08190000000002,3.1781000000000001,5.5339999999999998,5.6360000000000001,-0.10200000000000031,{"$f":"+VLOOKUP(W273,Data!$E$5:$F$32,2)","v":-0.2},9.7999999999999698E-2,"B3V","B3",{"$f":"+DEGREES(ACOS(SIN(Index!$H$6)*SIN(Base!N273)+COS(Index!$H$6)*COS(Base!N273)*COS(Index!$H$3-Base!H273)))","v":88.373143808948811}]
["HD 15130 ","02 25 57,00560","-12 17 25,7104",2,25,57.005600000000001,36.487523333333336,0.63682741806492316,"-",12,17,25.7104,-12.2904751111111,-0.21450925732330459,183.7466,-63.348799999999997,4.8470000000000004,4.8689999999999998,-2.1999999999999353E-2,{"$f":"+VLOOKUP(W274,Data!$E$5:$F$32,2)","v":-0.01},-1.1999999999999353E-2,"A0V","A0",{"$f":"+DEGREES(ACOS(SIN(Index!$H$6)*SIN(Base!N274)+COS(Index!$H$6)*COS(Base!N274)*COS(Index!$H$3-Base!H274)))","v":72.580790664303095}]
["HD 15144 ","02 26 00,34762","-15 20 28,5078",2,26,0.34761999999999998,36.501448416666669,0.63707045661770445,"-",15,20,28.5078,-15.341252166666701,-0.26775536168704778,189.53030000000001,-65.077399999999997,5.9980000000000002,5.86,0.1379999999999999,{"$f":"+VLOOKUP(W275,Data!$E$5:$F$32,2)","v":0.17},-3.2000000000000112E-2,"A6Vsp,,,","A6",{"$f":"+DEGREES(ACOS(SIN(Index!$H$6)*SIN(Base!N275)+COS(Index!$H$6)*COS(Base!N275)*COS(Index!$H$3-Base!H275)))","v":73.539968788866929}]
["HD 151862","16 49 34,65738","+13 15 40,1014",16,49,34.657380000000003,252.39440574999998,4.405113393952008,"+",13,15,40.101399999999998,13.261139277777801,0.23145054296276552,31.506799999999998,32.942799999999998,5.94,5.91,3.0000000000000249E-2,{"$f":"+VLOOKUP(W276,Data!$E$5:$F$32,2)","v":0.02},1.0000000000000248E-2,"A1V","A1",{"$f":"+DEGREES(ACOS(SIN(Index!$H$6)*SIN(Base!N276)+COS(Index!$H$6)*COS(Base!N276)*COS(Index!$H$3-Base!H276)))","v":73.13394408196433}]
["HD 151890","16 51 52,23111","-38 02 50,5694",16,51,52.231110000000001,252.967629625,4.4151180379217987,"-",38,2,50.569400000000002,-38.047380388888897,-0.66405205954483182,346.11520000000002,3.9140000000000001,2.82,2.98,-0.16000000000000014,{"$f":"+VLOOKUP(W277,Data!$E$5:$F$32,2)","v":-0.26},9.9999999999999867E-2,"B1,5Vp+,,,","B1,5",{"$f":"+DEGREES(ACOS(SIN(Index!$H$6)*SIN(Base!N277)+COS(Index!$H$6)*COS(Base!N277)*COS(Index!$H$3-Base!H277)))","v":86.164608638797247}]
["HD 152107","16 49 14,21821","+45 58 59,9620",16,49,14.218209999999999,252.30924254166669,4.4036270155650303,"+",45,58,59.962000000000003,45.983322777777801,0.80256038347952741,71.605999999999995,39.960299999999997,4.9139999999999997,4.8230000000000004,9.0999999999999304E-2,{"$f":"+VLOOKUP(W278,Data!$E$5:$F$32,2)","v":0.05},4.0999999999999301E-2,"A2Vspe,,,","A2",{"$f":"+DEGREES(ACOS(SIN(Index!$H$6)*SIN(Base!N278)+COS(Index!$H$6)*COS(Base!N278)*COS(Index!$H$3-Base!H278)))","v":70.880049553334061}]
["HD 152127","16 51 24,92852","+01 12 57,4107",16,51,24.928519999999999,252.85386883333337,4.4131325375475408,"+",1,12,57.410699999999999,1.2159474166666699,2.1222285951952764E-2,19.354500000000002,27.042100000000001,5.56,5.51,4.9999999999999822E-2,{"$f":"+VLOOKUP(W279,Data!$E$5:$F$32,2)","v":0.05},-1.8041124150158794E-16,"A2Vs","A2",{"$f":"+DEGREES(ACOS(SIN(Index!$H$6)*SIN(Base!N279)+COS(Index!$H$6)*COS(Base!N279)*COS(Index!$H$3-Base!H279)))","v":75.006180011063719}]
["HD 152527","16 56 28,76899","-52 17 01,4884",16,56,28.768989999999999,254.11987079166667,4.4352284400571529,"-",52,17,1.4883999999999999,-52.2837467777778,-0.91252352655119862,335.54989999999998,-5.6768000000000001,5.86,5.9290000000000003,-6.899999999999995E-2,{"$f":"+VLOOKUP(W280,Data!$E$5:$F$32,2)","v":-7.0000000000000007E-2},1.0000000000000564E-3,"B9V","B9",{"$f":"+DEGREES(ACOS(SIN(Index!$H$6)*SIN(Base!N280)+COS(Index!$H$6)*COS(Base!N280)*COS(Index!$H$3-Base!H280)))","v":90.271821817612292}]
["HD 152614","16 54 00,47151","+10 09 55,2982",16,54,0.47150999999999998,253.501964625,4.4244439429804423,"+",10,9,55.298200000000001,10.165360611111099,0.17741901231643156,28.734100000000002,30.660499999999999,4.3,4.38,-8.0000000000000071E-2,{"$f":"+VLOOKUP(W281,Data!$E$5:$F$32,2)","v":-0.11},2.999999999999993E-2,"B8V","B8",{"$f":"+DEGREES(ACOS(SIN(Index!$H$6)*SIN(Base!N281)+COS(Index!$H$6)*COS(Base!N281)*COS(Index!$H$3-Base!H281)))","v":72.590749062069747}]
["HD 152849","16 56 48,03471","-23 09 01,2316",16,56,48.034709999999997,254.20014462500001,4.436629482752017,"-",23,9,1.2316,-23.150342111111101,-0.40404969280198366,358.60309999999998,12.31,5.59,5.58,9.9999999999997868E-3,{"$f":"+VLOOKUP(W282,Data!$E$5:$F$32,2)","v":-0.01},1.9999999999999789E-2,"A0V","A0",{"$f":"+DEGREES(ACOS(SIN(Index!$H$6)*SIN(Base!N282)+COS(Index!$H$6)*COS(Base!N282)*COS(Index!$H$3-Base!H282)))","v":80.326980396255593}]
["HD 153613","17 01 52,64371","-32 08 36,6857",17,1,52.643709999999999,255.46934879166665,4.4587812743403799,"-",32,8,36.685699999999997,-32.143523805555603,-0.56101032360012282,352.03609999999998,5.9737999999999998,4.9269999999999996,5.0140000000000002,-8.7000000000000632E-2,{"$f":"+VLOOKUP(W283,Data!$E$5:$F$32,2)","v":-0.11},2.2999999999999368E-2,"B8V","B8",{"$f":"+DEGREES(ACOS(SIN(Index!$H$6)*SIN(Base!N283)+COS(Index!$H$6)*COS(Base!N283)*COS(Index!$H$3-Base!H283)))","v":82.237623070674218}]
["HD 153808","17 00 17,37378","+30 55 35,0565",17,0,17.37378,255.07239074999998,4.451853049521028,"+",30,55,35.0565,30.926404583333301,0.53976758578303119,52.8536,36.1755,3.9,3.9060000000000001,-6.0000000000002274E-3,{"$f":"+VLOOKUP(W284,Data!$E$5:$F$32,2)","v":-0.01},3.9999999999997728E-3,"A0V","A0",{"$f":"+DEGREES(ACOS(SIN(Index!$H$6)*SIN(Base!N284)+COS(Index!$H$6)*COS(Base!N284)*COS(Index!$H$3-Base!H284)))","v":68.810020197793946}]
["HD 154228","17 03 39,30196","+13 36 19,2451",17,3,39.301960000000001,255.91375816666667,4.4665376811608608,"+",13,36,19.245100000000001,13.6053458611111,0.23745808114897185,33.495699999999999,29.9497,5.92,5.9180000000000001,1.9999999999997797E-3,{"$f":"+VLOOKUP(W285,Data!$E$5:$F$32,2)","v":0.02},-1.8000000000000221E-2,"A1V","A1",{"$f":"+DEGREES(ACOS(SIN(Index!$H$6)*SIN(Base!N285)+COS(Index!$H$6)*COS(Base!N285)*COS(Index!$H$3-Base!H285)))","v":69.699271346585945}]
["HD 15427 ","02 28 01,70338","-33 48 39,7450",2,28,1.7033799999999999,37.007097416666667,0.6458956965271212,"-",33,48,39.744999999999997,-33.811040277777799,-0.59011397637164076,236.67689999999999,-68.201899999999995,5.2160000000000002,5.1319999999999997,8.4000000000000519E-2,{"$f":"+VLOOKUP(W286,Data!$E$5:$F$32,2)","v":0.05},3.4000000000000516E-2,"A2V","A2",{"$f":"+DEGREES(ACOS(SIN(Index!$H$6)*SIN(Base!N286)+COS(Index!$H$6)*COS(Base!N286)*COS(Index!$H$3-Base!H286)))","v":80.465611568180918}]
["HD 154445","17 05 32,25931","-00 53 31,4458",17,5,32.259309999999999,256.38441379166665,4.4747521714601417,"-",0,53,31.445799999999998,-0.89206827777777797,-1.5569528599817591E-2,19.296600000000002,22.930700000000002,5.7389999999999999,5.6420000000000003,9.6999999999999531E-2,{"$f":"+VLOOKUP(W287,Data!$E$5:$F$32,2)","v":-0.26},0.35699999999999954,"B1V","B1",{"$f":"+DEGREES(ACOS(SIN(Index!$H$6)*SIN(Base!N287)+COS(Index!$H$6)*COS(Base!N287)*COS(Index!$H$3-Base!H287)))","v":72.04749472759265}]
["HD 155259","17 12 16,20492","-39 30 25,0175",17,12,16.204920000000001,258.0675205,4.5041279251829627,"-",39,30,25.017499999999998,-39.506949305555601,-0.68952634280043257,347.39429999999999,-0.123,5.7080000000000002,5.6689999999999996,3.900000000000059E-2,{"$f":"+VLOOKUP(W288,Data!$E$5:$F$32,2)","v":0.02},1.9000000000000589E-2,"A1V","A1",{"$f":"+DEGREES(ACOS(SIN(Index!$H$6)*SIN(Base!N288)+COS(Index!$H$6)*COS(Base!N288)*COS(Index!$H$3-Base!H288)))","v":82.977139009724567}]
["HD 155806","17 15 19,24790","-33 32 54,3143",17,15,19.247900000000001,258.8301995833333,4.5174391863232213,"-",33,32,54.314300000000003,-33.548420638888899,-0.58553039899263093,352.58580000000001,2.8683000000000001,5.556,5.6120000000000001,-5.600000000000005E-2,{"$f":"+VLOOKUP(W289,Data!$E$5:$F$32,2)","v":-0.04},-1.6000000000000049E-2,"O8Ve","O8",{"$f":"+DEGREES(ACOS(SIN(Index!$H$6)*SIN(Base!N289)+COS(Index!$H$6)*COS(Base!N289)*COS(Index!$H$3-Base!H289)))","v":80.118777049618089}]
["HD 156247","17 16 31,71646","+01 12 37,9617",17,16,31.716460000000001,259.13215191666666,4.5227092487239675,"+",1,12,37.9617,1.21054491666667,2.1127994539113772E-2,22.7346,21.571999999999999,5.9240000000000004,5.9029999999999996,2.1000000000000796E-2,{"$f":"+VLOOKUP(W290,Data!$E$5:$F$32,2)","v":-0.16},0.1810000000000008,"B5Vnn+,,,","B5",{"$f":"+DEGREES(ACOS(SIN(Index!$H$6)*SIN(Base!N290)+COS(Index!$H$6)*COS(Base!N290)*COS(Index!$H$3-Base!H290)))","v":68.888827222862801}]
["HD 156293","17 18 47,82907","-44 07 47,0906",17,18,47.829070000000002,259.69928779166668,4.5326076370488968,"-",44,7,47.090600000000002,-44.129747388888902,-0.77020939000948185,344.3365,-3.7987000000000002,5.7080000000000002,5.7450000000000001,-3.6999999999999922E-2,{"$f":"+VLOOKUP(W291,Data!$E$5:$F$32,2)","v":-7.0000000000000007E-2},3.3000000000000085E-2,"B9V","B9",{"$f":"+DEGREES(ACOS(SIN(Index!$H$6)*SIN(Base!N291)+COS(Index!$H$6)*COS(Base!N291)*COS(Index!$H$3-Base!H291)))","v":83.712576975917912}]
["HD 156633","17 17 19,56756","+33 06 00,3631",17,17,19.56756,259.33153149999998,4.5261890789143884,"+",33,6,0.36309999999999998,33.100100861111102,0.57770574276859898,56.404899999999998,33.136699999999998,4.63,4.8,-0.16999999999999993,{"$f":"+VLOOKUP(W292,Data!$E$5:$F$32,2)","v":-0.26},9.000000000000008E-2,"B1,5Vp+,,,","B1,5",{"$f":"+DEGREES(ACOS(SIN(Index!$H$6)*SIN(Base!N292)+COS(Index!$H$6)*COS(Base!N292)*COS(Index!$H$3-Base!H292)))","v":65.169189564337415}]
["HD 156729","17 17 40,25427","+37 17 29,3995",17,17,40.254269999999998,259.41772612500006,4.5276934589181623,"+",37,17,29.3995,37.291499861111099,0.65085945558339675,61.347000000000001,33.9133,4.6630000000000003,4.6239999999999997,3.900000000000059E-2,{"$f":"+VLOOKUP(W293,Data!$E$5:$F$32,2)","v":0.05},-1.0999999999999413E-2,"A2V","A2",{"$f":"+DEGREES(ACOS(SIN(Index!$H$6)*SIN(Base!N293)+COS(Index!$H$6)*COS(Base!N293)*COS(Index!$H$3-Base!H293)))","v":65.230756331964926}]
["HD 157198","17 20 54,20626","+24 29 57,9766",17,20,54.20626,260.22585941666659,4.5417980456527225,"+",24,29,57.976599999999998,24.499437944444399,0.42759585701858638,46.930500000000002,30.049800000000001,5.125,5.1260000000000003,-1.000000000000334E-3,{"$f":"+VLOOKUP(W294,Data!$E$5:$F$32,2)","v":0.05},-5.1000000000000337E-2,"A2V","A2",{"$f":"+DEGREES(ACOS(SIN(Index!$H$6)*SIN(Base!N294)+COS(Index!$H$6)*COS(Base!N294)*COS(Index!$H$3-Base!H294)))","v":64.533322829143287}]
["HD 157740","17 24 31,53714","+16 18 03,6210",17,24,31.537140000000001,261.13140475,4.5576027932454606,"+",16,18,3.621,16.301005833333299,0.28450622317846808,38.555,26.3733,5.8179999999999996,5.7489999999999997,6.899999999999995E-2,{"$f":"+VLOOKUP(W295,Data!$E$5:$F$32,2)","v":0.08},-1.1000000000000051E-2,"A3V","A3",{"$f":"+DEGREES(ACOS(SIN(Index!$H$6)*SIN(Base!N295)+COS(Index!$H$6)*COS(Base!N295)*COS(Index!$H$3-Base!H295)))","v":64.347331585240298}]
["HD 157778","17 23 40,67"," +37 08 48,2      ",17,23,40.67,260.9194583333333,4.5539036304368228,"+",37,8,48.2,37.146722222222202,0.64833260910152213,61.442900000000002,32.711399999999998,5.45,5.42,3.0000000000000249E-2,{"$f":"+VLOOKUP(W296,Data!$E$5:$F$32,2)","v":-0.01},4.0000000000000251E-2,"A0Vn","A0",{"$f":"+DEGREES(ACOS(SIN(Index!$H$6)*SIN(Base!N296)+COS(Index!$H$6)*COS(Base!N296)*COS(Index!$H$3-Base!H296)))","v":64.028634574963121}]
["HD 158094","17 31 05,91272","-60 41 01,8522",17,31,5.9127200000000002,262.77463633333332,4.5862825947473862,"-",60,41,1.8522000000000001,-60.683847833333303,-1.0591329474708933,331.27,-14.355700000000001,3.52,3.6,-8.0000000000000071E-2,{"$f":"+VLOOKUP(W297,Data!$E$5:$F$32,2)","v":-0.11},2.999999999999993E-2,"B8Vn","B8",{"$f":"+DEGREES(ACOS(SIN(Index!$H$6)*SIN(Base!N297)+COS(Index!$H$6)*COS(Base!N297)*COS(Index!$H$3-Base!H297)))","v":89.343359579735534}]
["HD 158148","17 26 49,12801","+20 04 51,5194",17,26,49.128010000000003,261.70470004166668,4.5676086836712253,"+",20,4,51.519399999999997,20.080977611111098,0.35047917633315412,42.714300000000001,27.272400000000001,5.391,5.51,-0.11899999999999977,{"$f":"+VLOOKUP(W298,Data!$E$5:$F$32,2)","v":-0.16},4.1000000000000231E-2,"B5V","B5",{"$f":"+DEGREES(ACOS(SIN(Index!$H$6)*SIN(Base!N298)+COS(Index!$H$6)*COS(Base!N298)*COS(Index!$H$3-Base!H298)))","v":63.446101635747567}]
["HD 158261","17 26 46,14547","+34 41 44,8879",17,26,46.145470000000003,261.69227279166665,4.567391787241756,"+",34,41,44.887900000000002,34.695802194444397,0.60555598491372853,58.767099999999999,31.585999999999999,5.9340000000000002,5.9320000000000004,1.9999999999997797E-3,{"$f":"+VLOOKUP(W299,Data!$E$5:$F$32,2)","v":-0.01},1.199999999999978E-2,"A0V","A0",{"$f":"+DEGREES(ACOS(SIN(Index!$H$6)*SIN(Base!N299)+COS(Index!$H$6)*COS(Base!N299)*COS(Index!$H$3-Base!H299)))","v":63.26258660310522}]
["HD 158352","17 28 49,65460","+00 19 50,2529",17,28,49.654600000000002,262.20689416666664,4.5763736246366467,"+",0,19,50.252899999999997,0.33062580555555598,5.7705088990030115E-3,23.485399999999998,18.4529,5.6390000000000002,5.4240000000000004,0.21499999999999986,{"$f":"+VLOOKUP(W300,Data!$E$5:$F$32,2)","v":0.2},1.4999999999999847E-2,"A7V","A7",{"$f":"+DEGREES(ACOS(SIN(Index!$H$6)*SIN(Base!N300)+COS(Index!$H$6)*COS(Base!N300)*COS(Index!$H$3-Base!H300)))","v":66.101067633459607}]
["HD 158414","17 26 44,24176","+48 15 36,2273",17,26,44.241759999999999,261.68434066666663,4.5672533455438256,"+",48,15,36.2273,48.260063138888903,0.84229699899396082,74.699700000000007,33.660400000000003,5.96,5.83,0.12999999999999989,{"$f":"+VLOOKUP(W301,Data!$E$5:$F$32,2)","v":0.12},9.9999999999998979E-3,"A4V","A4",{"$f":"+DEGREES(ACOS(SIN(Index!$H$6)*SIN(Base!N301)+COS(Index!$H$6)*COS(Base!N301)*COS(Index!$H$3-Base!H301)))","v":64.749922327873762}]
["HD 158427","17 31 50,49153","-49 52 34,1220",17,31,50.491529999999997,262.960381375,4.5895244572937237,"-",49,52,34.122,-49.876145000000001,-0.87050294845210718,340.7552,-8.8271999999999995,2.7269999999999999,2.8359999999999999,-0.10899999999999999,{"$f":"+VLOOKUP(W302,Data!$E$5:$F$32,2)","v":-0.24},0.13100000000000001,"B2Vne","B2",{"$f":"+DEGREES(ACOS(SIN(Index!$H$6)*SIN(Base!N302)+COS(Index!$H$6)*COS(Base!N302)*COS(Index!$H$3-Base!H302)))","v":84.224013116334248}]
["HD 158460","17 25 41,35386","+60 02 54,2330",17,25,41.353859999999997,261.42230775000002,4.5626800083993899,"+",60,2,54.232999999999997,60.048398055555602,1.0480422566176062,88.890799999999999,33.881999999999998,5.673,5.6449999999999996,2.8000000000000469E-2,{"$f":"+VLOOKUP(W303,Data!$E$5:$F$32,2)","v":0.02},8.0000000000004685E-3,"A1Vn","A1",{"$f":"+DEGREES(ACOS(SIN(Index!$H$6)*SIN(Base!N303)+COS(Index!$H$6)*COS(Base!N303)*COS(Index!$H$3-Base!H303)))","v":67.360306730968944}]
["HD 158643","17 31 24,95413","-23 57 45,5136",17,31,24.954129999999999,262.85397554166661,4.5876673251587281,"-",23,57,45.513599999999997,-23.962642666666699,-0.41822701201220797,2.5204,5.3384,4.8099999999999996,4.8099999999999996,0,{"$f":"+VLOOKUP(W304,Data!$E$5:$F$32,2)","v":-0.01},0.01,"A0V","A0",{"$f":"+DEGREES(ACOS(SIN(Index!$H$6)*SIN(Base!N304)+COS(Index!$H$6)*COS(Base!N304)*COS(Index!$H$3-Base!H304)))","v":73.176125306232066}]
["HD 159139","17 31 49,57878","+28 24 26,9981",17,31,49.578780000000002,262.95657825000001,4.5894580802406093,"+",28,24,26.998100000000001,28.407499472222199,0.49580439804882881,52.061199999999999,28.909199999999998,5.65,5.65,0,{"$f":"+VLOOKUP(W305,Data!$E$5:$F$32,2)","v":0.02},-0.02,"A1V","A1",{"$f":"+DEGREES(ACOS(SIN(Index!$H$6)*SIN(Base!N305)+COS(Index!$H$6)*COS(Base!N305)*COS(Index!$H$3-Base!H305)))","v":62.003471120129952}]
["HD 159170","17 33 29,84512","-05 44 41,2924",17,33,29.845120000000001,263.37435466666665,4.5967496542486259,"-",5,44,41.292400000000001,-5.7448034444444396,-0.10026573498546662,18.555700000000002,14.4617,5.7910000000000004,5.6189999999999998,0.1720000000000006,{"$f":"+VLOOKUP(W306,Data!$E$5:$F$32,2)","v":0.15},2.2000000000000602E-2,"A5V","A5",{"$f":"+DEGREES(ACOS(SIN(Index!$H$6)*SIN(Base!N306)+COS(Index!$H$6)*COS(Base!N306)*COS(Index!$H$3-Base!H306)))","v":66.553840137568073}]
["HD 159176","17 34 42,49348","-32 34 53,9926",17,34,42.493479999999998,263.67705616666672,4.6020327920743522,"-",32,34,53.992600000000003,-32.581664611111101,-0.56865732324440654,355.66660000000002,4.9299999999999997E-2,5.74,5.68,6.0000000000000497E-2,{"$f":"+VLOOKUP(W307,Data!$E$5:$F$32,2)","v":-0.04},0.10000000000000051,"O6V+,,,","O6",{"$f":"+DEGREES(ACOS(SIN(Index!$H$6)*SIN(Base!N307)+COS(Index!$H$6)*COS(Base!N307)*COS(Index!$H$3-Base!H307)))","v":76.013219933596289}]
["HD 159217","17 35 39,58957","-46 30 20,4618",17,35,39.589570000000002,263.91495654166664,4.6061849369098304,"-",46,30,20.4618,-46.5056838333333,-0.81167730378316394,343.9837,-7.5804999999999998,4.5519999999999996,4.5709999999999997,-1.9000000000000128E-2,{"$f":"+VLOOKUP(W308,Data!$E$5:$F$32,2)","v":-0.01},-9.0000000000001277E-3,"A0V","A0",{"$f":"+DEGREES(ACOS(SIN(Index!$H$6)*SIN(Base!N308)+COS(Index!$H$6)*COS(Base!N308)*COS(Index!$H$3-Base!H308)))","v":82.096159243784498}]
["HD 159358","17 34 46,35143","-11 14 31,1929",17,34,46.351430000000001,263.69313095833331,4.6023133501155069,"-",11,14,31.192900000000002,-11.2419980277778,-0.19620988008743157,13.858000000000001,11.401999999999999,5.5490000000000004,5.5369999999999999,1.2000000000000455E-2,{"$f":"+VLOOKUP(W309,Data!$E$5:$F$32,2)","v":-0.11},0.12200000000000046,"B8Vn","B8",{"$f":"+DEGREES(ACOS(SIN(Index!$H$6)*SIN(Base!N309)+COS(Index!$H$6)*COS(Base!N309)*COS(Index!$H$3-Base!H309)))","v":67.915547066198954}]
["HD 159480","17 34 36,69409","+09 35 12,1201",17,34,36.694090000000003,263.65289204166663,4.601611048532237,"+",9,35,12.120100000000001,9.5867000277777805,0.16731947988575413,32.950800000000001,21.385100000000001,5.8330000000000002,5.7930000000000001,4.0000000000000036E-2,{"$f":"+VLOOKUP(W310,Data!$E$5:$F$32,2)","v":0.05},-9.9999999999999672E-3,"A2V","A2",{"$f":"+DEGREES(ACOS(SIN(Index!$H$6)*SIN(Base!N310)+COS(Index!$H$6)*COS(Base!N310)*COS(Index!$H$3-Base!H310)))","v":62.831517358436955}]
["HD 159541","17 32 10,56856","+55 11 03,2739",17,32,10.56856,263.04403566666667,4.5909845001167309,"+",55,11,3.2738999999999998,55.184242750000003,0.96314673120731009,83.032600000000002,33.134799999999998,5.1210000000000004,4.8879999999999999,0.23300000000000054,{"$f":"+VLOOKUP(W311,Data!$E$5:$F$32,2)","v":0.17},6.3000000000000528E-2,"A6V","A6",{"$f":"+DEGREES(ACOS(SIN(Index!$H$6)*SIN(Base!N311)+COS(Index!$H$6)*COS(Base!N311)*COS(Index!$H$3-Base!H311)))","v":65.328038016237571}]
["HD 160181","17 37 31,09487","+24 18 35,9668",17,37,31.09487,264.37956195833334,4.6142938311532644,"+",24,18,35.966799999999999,24.309990777777799,0.42428938020167972,48.121400000000001,26.410799999999998,5.9,5.76,0.14000000000000057,{"$f":"+VLOOKUP(W312,Data!$E$5:$F$32,2)","v":0.05},9.0000000000000566E-2,"A2Vn","A2",{"$f":"+DEGREES(ACOS(SIN(Index!$H$6)*SIN(Base!N312)+COS(Index!$H$6)*COS(Base!N312)*COS(Index!$H$3-Base!H312)))","v":60.759989913759178}]
["HD 160263","17 41 16,24072","-46 55 18,5858",17,41,16.24072,265.31766966666669,4.6306668994020201,"-",46,55,18.585799999999999,-46.921829388888902,-0.81894041389515015,344.13060000000002,-8.6182999999999996,5.7679999999999998,5.7830000000000004,-1.5000000000000568E-2,{"$f":"+VLOOKUP(W313,Data!$E$5:$F$32,2)","v":-0.01},-5.0000000000005682E-3,"A0V","A0",{"$f":"+DEGREES(ACOS(SIN(Index!$H$6)*SIN(Base!N313)+COS(Index!$H$6)*COS(Base!N313)*COS(Index!$H$3-Base!H313)))","v":81.448149549955218}]
["HD 16046 ","02 33 50,70365","-28 13 56,4403",2,33,50.703650000000003,38.46126520833333,0.67127571236815942,"-",28,13,56.440300000000001,-28.232344527777801,-0.49274736756712634,221.69890000000001,-67.343299999999999,4.9059999999999997,4.9569999999999999,-5.1000000000000156E-2,{"$f":"+VLOOKUP(W314,Data!$E$5:$F$32,2)","v":-7.0000000000000007E-2},1.899999999999985E-2,"B9,5V","B9,5",{"$f":"+DEGREES(ACOS(SIN(Index!$H$6)*SIN(Base!N314)+COS(Index!$H$6)*COS(Base!N314)*COS(Index!$H$3-Base!H314)))","v":79.588741061533753}]
["HD 1606  ","00 20 24,40160","+30 56 08,2060",0,20,24.401599999999998,5.1016733333333333,8.9040997027860849E-2,"+",30,56,8.2059999999999995,30.935612777777798,0.53992829909425144,115.13030000000001,-31.465599999999998,5.77,5.8710000000000004,-0.10100000000000087,{"$f":"+VLOOKUP(W315,Data!$E$5:$F$32,2)","v":-0.13},2.8999999999999138E-2,"B7V","B7",{"$f":"+DEGREES(ACOS(SIN(Index!$H$6)*SIN(Base!N315)+COS(Index!$H$6)*COS(Base!N315)*COS(Index!$H$3-Base!H315)))","v":38.940772671332205}]
["HD 160928","17 44 42,01005","-42 43 45,4875",17,44,42.01005,266.17504187500003,4.6456308673525317,"-",42,43,45.487499999999997,-42.729302083333302,-0.74576700843343857,348.07839999999999,-6.9907000000000004,6.0250000000000004,5.8810000000000002,0.14400000000000013,{"$f":"+VLOOKUP(W316,Data!$E$5:$F$32,2)","v":0.02},0.12400000000000012,"A1V+,,,","A1",{"$f":"+DEGREES(ACOS(SIN(Index!$H$6)*SIN(Base!N316)+COS(Index!$H$6)*COS(Base!N316)*COS(Index!$H$3-Base!H316)))","v":78.883688461153355}]
["HD 161693","17 43 59,17672","+53 48 06,1737",17,43,59.176720000000003,265.99656966666663,4.6425159396938085,"+",53,48,6.1737000000000002,53.801714916666697,0.93901706851518052,81.487700000000004,31.361699999999999,5.77,5.76,9.9999999999997868E-3,{"$f":"+VLOOKUP(W317,Data!$E$5:$F$32,2)","v":0.05},-4.0000000000000216E-2,"A2V","A2",{"$f":"+DEGREES(ACOS(SIN(Index!$H$6)*SIN(Base!N317)+COS(Index!$H$6)*COS(Base!N317)*COS(Index!$H$3-Base!H317)))","v":63.31662477540965}]
["HD 161701","17 47 36,77960","-14 43 32,9747",17,47,36.779600000000002,266.90324833333335,4.6583404676847344,"-",14,43,32.974699999999999,-14.7258263055556,-0.25701415410873779,12.443199999999999,6.9333999999999998,5.9420000000000002,5.9340000000000002,8.0000000000000071E-3,{"$f":"+VLOOKUP(W318,Data!$E$5:$F$32,2)","v":-7.0000000000000007E-2},7.8000000000000014E-2,"B9V","B9",{"$f":"+DEGREES(ACOS(SIN(Index!$H$6)*SIN(Base!N318)+COS(Index!$H$6)*COS(Base!N318)*COS(Index!$H$3-Base!H318)))","v":66.166915757209011}]
["HD 161833","17 47 08,04670","+17 41 49,2493",17,47,8.0466999999999995,266.78352791666669,4.6562509522320417,"+",17,41,49.249299999999998,17.697013694444401,0.30887115673858051,42.252899999999997,21.9253,5.64,5.61,2.9999999999999361E-2,{"$f":"+VLOOKUP(W319,Data!$E$5:$F$32,2)","v":0.02},9.9999999999993601E-3,"A1V","A1",{"$f":"+DEGREES(ACOS(SIN(Index!$H$6)*SIN(Base!N319)+COS(Index!$H$6)*COS(Base!N319)*COS(Index!$H$3-Base!H319)))","v":58.835141551839683}]
["HD 161840","17 49 10,47716","-31 42 11,5438",17,49,10.47716,267.29365483333333,4.6651543465309215,"-",31,42,11.543799999999999,-31.703206611111099,-0.55332533880392221,358.02890000000002,-2.0884,4.7640000000000002,4.806,-4.1999999999999815E-2,{"$f":"+VLOOKUP(W320,Data!$E$5:$F$32,2)","v":-0.11},6.8000000000000185E-2,"B8V","B8",{"$f":"+DEGREES(ACOS(SIN(Index!$H$6)*SIN(Base!N320)+COS(Index!$H$6)*COS(Base!N320)*COS(Index!$H$3-Base!H320)))","v":72.878812378141006}]
["HD 161868","17 47 53,55973","+02 42 26,2000",17,47,53.559730000000002,266.97316554166667,4.6595607531739542,"+",2,42,26.2,2.7072777777777799,4.7250910988297631E-2,28.015599999999999,15.3599,3.79,3.75,4.0000000000000036E-2,{"$f":"+VLOOKUP(W321,Data!$E$5:$F$32,2)","v":-0.01},5.0000000000000037E-2,"A0V","A0",{"$f":"+DEGREES(ACOS(SIN(Index!$H$6)*SIN(Base!N321)+COS(Index!$H$6)*COS(Base!N321)*COS(Index!$H$3-Base!H321)))","v":60.916903595987151}]
["HD 162374","17 52 13,66045","-34 47 57,1105",17,52,13.660450000000001,268.05691854166668,4.6784758113023202,"-",34,47,57.110500000000002,-34.799197361111098,-0.60736057100271079,355.68729999999999,-4.2159000000000004,5.77,5.88,-0.11000000000000032,{"$f":"+VLOOKUP(W322,Data!$E$5:$F$32,2)","v":-0.14000000000000001},2.9999999999999694E-2,"B6V","B6",{"$f":"+DEGREES(ACOS(SIN(Index!$H$6)*SIN(Base!N322)+COS(Index!$H$6)*COS(Base!N322)*COS(Index!$H$3-Base!H322)))","v":73.76849104179081}]
["HD 162579","17 49 04,28402","+50 46 51,8629",17,49,4.2840199999999999,267.26785008333337,{"$f":"+RADIANS(G323)","v":4.6647039686807688},"+",50,46,51.862900000000003,{"$f":"VALUE(CONCATENATE(I323,+J323+K323/60+L323/3600))","v":50.781073027777801},{"$f":"+RADIANS(M323)","v":0.88629692203040855},78.072500000000005,30.299199999999999,5.04,5.0199999999999996,2.0000000000000462E-2,{"$f":"+VLOOKUP(W323,Data!$E$5:$F$32,2)","v":0.05},{"$f":"+S323-T323","v":-2.9999999999999541E-2},"A2V",{"$f":"IF(MID(V323,3,1)<>\",\",LEFT(V323,2),LEFT(V323,4))","v":"A2"},{"$f":"+DEGREES(ACOS(SIN(Index!$H$6)*SIN(Base!N323)+COS(Index!$H$6)*COS(Base!N323)*COS(Index!$H$3-Base!H323)))","v":61.754227667330532}]
["HD 162724","17 53 54,77312","-34 45 09,7854",17,53,54.773119999999999,268.47822133333329,4.6858289321647462,"-",34,45,9.7853999999999992,-34.752718166666703,-0.60654935602598148,355.9024,-4.4913999999999996,5.95,5.96,-9.9999999999997868E-3,{"$f":"+VLOOKUP(W324,Data!$E$5:$F$32,2)","v":-7.0000000000000007E-2},6.000000000000022E-2,"B9V+,,,","B9",{"$f":"+DEGREES(ACOS(SIN(Index!$H$6)*SIN(Base!N324)+COS(Index!$H$6)*COS(Base!N324)*COS(Index!$H$3-Base!H324)))","v":73.442841315463781}]
["HD 163336","17 56 19,03530","-15 48 45,0697",17,56,19.035299999999999,269.07931375000004,4.6963199739443509,"-",15,48,45.069699999999997,-15.8125193611111,-0.27598052588673888,12.559200000000001,4.5724,5.9749999999999996,5.9279999999999999,4.6999999999999709E-2,{"$f":"+VLOOKUP(W325,Data!$E$5:$F$32,2)","v":-0.01},5.6999999999999711E-2,"A0V","A0",{"$f":"+DEGREES(ACOS(SIN(Index!$H$6)*SIN(Base!N325)+COS(Index!$H$6)*COS(Base!N325)*COS(Index!$H$3-Base!H325)))","v":64.627136426348088}]
["HD 163624","17 57 04,31216","+00 04 00,0067",17,57,4.3121600000000004,269.26796733333333,4.6996126001192025,"+",0,4,6.7000000000000002E-3,6.6668527777777806E-2,1.1635853171795211E-3,26.7012,12.103400000000001,6.0720000000000001,5.9550000000000001,0.11699999999999999,{"$f":"+VLOOKUP(W326,Data!$E$5:$F$32,2)","v":0.08},3.6999999999999991E-2,"A3V","A3",{"$f":"+DEGREES(ACOS(SIN(Index!$H$6)*SIN(Base!N326)+COS(Index!$H$6)*COS(Base!N326)*COS(Index!$H$3-Base!H326)))","v":59.318876329459215}]
["HD 163955","17 59 47,55508","-23 48 58,0876",17,59,47.555079999999997,269.94814616666667,4.7114839602632426,"-",23,48,58.087600000000002,-23.816135444444399,-0.41566997860647781,6.0218999999999996,-0.126,4.7089999999999996,4.7309999999999999,-2.2000000000000242E-2,{"$f":"+VLOOKUP(W327,Data!$E$5:$F$32,2)","v":-7.0000000000000007E-2},4.7999999999999765E-2,"B9V","B9",{"$f":"+DEGREES(ACOS(SIN(Index!$H$6)*SIN(Base!N327)+COS(Index!$H$6)*COS(Base!N327)*COS(Index!$H$3-Base!H327)))","v":67.212414940426257}]
["HD 164284","18 00 15,79825","+04 22 07,0163",18,0,15.798249999999999,270.0658260416667,4.7135378615453289,"+",4,22,7.0163000000000002,4.3686156388888904,7.6246726652726776E-2,30.994800000000001,13.370100000000001,4.6840000000000002,4.7839999999999998,-9.9999999999999645E-2,{"$f":"+VLOOKUP(W328,Data!$E$5:$F$32,2)","v":-0.24},0.14000000000000035,"B2Ve","B2",{"$f":"+DEGREES(ACOS(SIN(Index!$H$6)*SIN(Base!N328)+COS(Index!$H$6)*COS(Base!N328)*COS(Index!$H$3-Base!H328)))","v":57.542405797536965}]
["HD 16432 ","02 38 48,99425","+21 57 41,0616",2,38,48.994250000000001,39.704142708333336,0.69296801694211541,"+",21,57,41.061599999999999,21.961406,0.38329884306723783,153.46109999999999,-34.466700000000003,5.609,5.4539999999999997,0.15500000000000025,{"$f":"+VLOOKUP(W329,Data!$E$5:$F$32,2)","v":0.2},-4.4999999999999762E-2,"A7V","A7",{"$f":"+DEGREES(ACOS(SIN(Index!$H$6)*SIN(Base!N329)+COS(Index!$H$6)*COS(Base!N329)*COS(Index!$H$3-Base!H329)))","v":68.763379753083001}]
["HD 164577","18 01 45,19884","+01 18 18,2775",18,1,45.198839999999997,270.43832850000001,4.7200392559150179,"+",1,18,18.2775,1.3050770833333301,2.2777892096491021E-2,28.376799999999999,11.6404,4.4729999999999999,4.4390000000000001,3.3999999999999808E-2,{"$f":"+VLOOKUP(W330,Data!$E$5:$F$32,2)","v":0.05},-1.6000000000000195E-2,"A2Vn","A2",{"$f":"+DEGREES(ACOS(SIN(Index!$H$6)*SIN(Base!N330)+COS(Index!$H$6)*COS(Base!N330)*COS(Index!$H$3-Base!H330)))","v":57.877353177516888}]
["HD 164794","18 03 52,44466","-24 21 38,6269",18,3,52.444659999999999,270.96851941666671,4.7292928330750188,"-",24,21,38.626899999999999,-24.360729694444402,-0.42517494135640699,6.0088999999999997,-1.2050000000000001,5.9329999999999998,5.931,1.9999999999997797E-3,{"$f":"+VLOOKUP(W331,Data!$E$5:$F$32,2)","v":-0.04},4.1999999999999781E-2,"O4V,,,","O4",{"$f":"+DEGREES(ACOS(SIN(Index!$H$6)*SIN(Base!N331)+COS(Index!$H$6)*COS(Base!N331)*COS(Index!$H$3-Base!H331)))","v":66.626445797173048}]
["HD 165189","18 06 49,7 "," -43 25 21         ",18,6,49.7,271.70708333333334,4.7421832051572768,"-",43,25,21,-43.422499999999999,-0.75786559444723778,349.44929999999999,-10.8597,5.99,5.7,0.29000000000000004,{"$f":"+VLOOKUP(W332,Data!$E$5:$F$32,2)","v":0.15},0.14000000000000004,"A5V","A5",{"$f":"+DEGREES(ACOS(SIN(Index!$H$6)*SIN(Base!N332)+COS(Index!$H$6)*COS(Base!N332)*COS(Index!$H$3-Base!H332)))","v":75.785444815435042}]
["HD 165190","18 06 49,89312","-43 25 30,7964",18,6,49.893120000000003,271.70788800000003,4.7421972492399913,"-",43,25,30.796399999999998,-43.425221222222198,-0.75791308873469354,349.44709999999998,-10.8614,5.17,4.9400000000000004,0.22999999999999954,{"$f":"+VLOOKUP(W333,Data!$E$5:$F$32,2)","v":0.15},7.9999999999999544E-2,"A5V","A5",{"$f":"+DEGREES(ACOS(SIN(Index!$H$6)*SIN(Base!N333)+COS(Index!$H$6)*COS(Base!N333)*COS(Index!$H$3-Base!H333)))","v":75.786453996567232}]
["HD 16555 ","02 37 24,37297","-52 32 35,0855",2,37,24.372969999999999,39.351554041666667,0.68681418380356518,"-",52,32,35.085500000000003,-52.543079305555601,-0.91704973301844095,272.3082,-57.821199999999997,5.5609999999999999,5.3040000000000003,0.25699999999999967,{"$f":"+VLOOKUP(W334,Data!$E$5:$F$32,2)","v":0.17},8.6999999999999661E-2,"A6V","A6",{"$f":"+DEGREES(ACOS(SIN(Index!$H$6)*SIN(Base!N334)+COS(Index!$H$6)*COS(Base!N334)*COS(Index!$H$3-Base!H334)))","v":89.204719789553167}]
["HD 166014","18 07 32,55073","+28 45 44,9679",18,7,32.550730000000001,271.88562804166668,4.7452993981797063,"+",28,45,44.9679,28.762491083333298,0.50200017047967682,55.186199999999999,21.587800000000001,3.8210000000000002,3.8370000000000002,-1.6000000000000014E-2,{"$f":"+VLOOKUP(W335,Data!$E$5:$F$32,2)","v":-7.0000000000000007E-2},5.3999999999999992E-2,"B9,5V","B9,5",{"$f":"+DEGREES(ACOS(SIN(Index!$H$6)*SIN(Base!N335)+COS(Index!$H$6)*COS(Base!N335)*COS(Index!$H$3-Base!H335)))","v":54.190020995924776}]
["HD 166045","18 07 49,452 "," +6 04 04,13    ",18,7,49.451999999999998,271.95605,4.7465284932183254,"+",6,4,4.13,6.0678138888888897,0.1059033307593525,52.5047,20.584900000000001,5.98,5.87,0.11000000000000032,{"$f":"+VLOOKUP(W336,Data!$E$5:$F$32,2)","v":0.08},3.0000000000000318E-2,"A3V","A3",{"$f":"+DEGREES(ACOS(SIN(Index!$H$6)*SIN(Base!N336)+COS(Index!$H$6)*COS(Base!N336)*COS(Index!$H$3-Base!H336)))","v":55.354768585962248}]
["HD 166046","18 07 49,395"," +6 05 48,64    ",18,7,49.395000000000003,271.95581250000004,4.7465243480613521,"+",6,5,48.64,6.0968444444444403,0.10641000953747999,52.533499999999997,20.595500000000001,6.04,5.9,0.13999999999999968,{"$f":"+VLOOKUP(W337,Data!$E$5:$F$32,2)","v":0.08},5.9999999999999679E-2,"A3V","A3",{"$f":"+DEGREES(ACOS(SIN(Index!$H$6)*SIN(Base!N337)+COS(Index!$H$6)*COS(Base!N337)*COS(Index!$H$3-Base!H337)))","v":55.349381091873326}]
["HD 166205","17 32 12,99671","+86 35 11,2584",17,32,12.99671,263.05415295833336,4.5911610801676987,"+",86,35,11.2584,86.586460666666696,1.5112188262818982,119.28619999999999,28.2376,4.3819999999999997,4.3479999999999999,3.3999999999999808E-2,{"$f":"+VLOOKUP(W338,Data!$E$5:$F$32,2)","v":0.02},1.3999999999999808E-2,"A1Vn","A1",{"$f":"+DEGREES(ACOS(SIN(Index!$H$6)*SIN(Base!N338)+COS(Index!$H$6)*COS(Base!N338)*COS(Index!$H$3-Base!H338)))","v":75.935258670769969}]
["HD 16628 ","02 40 41,07563","+27 03 39,4040",2,40,41.075629999999997,40.171148458333334,0.70111880490536083,"+",27,3,39.404000000000003,27.060945555555602,0.47230259864737134,151.018,-29.785799999999998,5.3739999999999997,5.298,7.5999999999999623E-2,{"$f":"+VLOOKUP(W339,Data!$E$5:$F$32,2)","v":0.08},-4.0000000000003783E-3,"A3V","A3",{"$f":"+DEGREES(ACOS(SIN(Index!$H$6)*SIN(Base!N339)+COS(Index!$H$6)*COS(Base!N339)*COS(Index!$H$3-Base!H339)))","v":68.776349301917406}]
["HD 166988","18 11 45,12111","+33 26 49,4097",18,11,45.121110000000002,272.93800462500002,4.7636668345297615,"+",33,26,49.409700000000001,33.447058249999998,0.58376129156883261,60.273400000000002,22.288599999999999,6.01,5.97,4.0000000000000036E-2,{"$f":"+VLOOKUP(W340,Data!$E$5:$F$32,2)","v":0.08},-3.9999999999999966E-2,"A3V","A3",{"$f":"+DEGREES(ACOS(SIN(Index!$H$6)*SIN(Base!N340)+COS(Index!$H$6)*COS(Base!N340)*COS(Index!$H$3-Base!H340)))","v":53.872732611570662}]
["HD 167468","18 23 36,44823","-75 02 39,3950",18,23,36.448230000000002,275.90186762500002,4.8153960024577982,"-",75,2,39.395000000000003,-75.044276388888903,-1.3097697077627519,319.2663,-24.375499999999999,5.5049999999999999,5.4649999999999999,4.0000000000000036E-2,{"$f":"+VLOOKUP(W341,Data!$E$5:$F$32,2)","v":-0.01},5.0000000000000037E-2,"A0V","A0",{"$f":"+DEGREES(ACOS(SIN(Index!$H$6)*SIN(Base!N341)+COS(Index!$H$6)*COS(Base!N341)*COS(Index!$H$3-Base!H341)))","v":93.189268259984829}]
["HD 16811 ","02 42 21,93980","+20 00 41,2612",2,42,21.939800000000002,40.591415833333336,0.7084538543378246,"+",20,0,41.261200000000002,20.0114614444444,0.34926589034145511,155.52789999999999,-35.743400000000001,5.71,5.74,-3.0000000000000249E-2,{"$f":"+VLOOKUP(W342,Data!$E$5:$F$32,2)","v":-0.01},-2.0000000000000247E-2,"A0V","A0",{"$f":"+DEGREES(ACOS(SIN(Index!$H$6)*SIN(Base!N342)+COS(Index!$H$6)*COS(Base!N342)*COS(Index!$H$3-Base!H342)))","v":69.792087644856224}]
["HD 1685  ","00 20 39,03682","-69 37 29,6821",0,20,39.036819999999999,5.1626534166666662,9.0105300260168025E-2,"-",69,37,29.682099999999998,-69.624911694444407,-1.215183950478359,306.87220000000002,-47.267099999999999,5.4589999999999996,5.4980000000000002,-3.900000000000059E-2,{"$f":"+VLOOKUP(W343,Data!$E$5:$F$32,2)","v":-7.0000000000000007E-2},3.0999999999999417E-2,"B9V","B9",{"$f":"+DEGREES(ACOS(SIN(Index!$H$6)*SIN(Base!N343)+COS(Index!$H$6)*COS(Base!N343)*COS(Index!$H$3-Base!H343)))","v":86.274320781066876}]
["HD 168905","18 24 18,24063","-44 06 36,9181",18,24,18.240629999999999,276.076002625,4.8184352315507581,"-",44,6,36.918100000000003,-44.110255027777796,-0.76986918412910532,350.22219999999999,-13.999000000000001,5.0620000000000003,5.2229999999999999,-0.16099999999999959,{"$f":"+VLOOKUP(W344,Data!$E$5:$F$32,2)","v":-0.24},7.9000000000000403E-2,"B2,5Vn","B2,5",{"$f":"+DEGREES(ACOS(SIN(Index!$H$6)*SIN(Base!N344)+COS(Index!$H$6)*COS(Base!N344)*COS(Index!$H$3-Base!H344)))","v":73.604123851738905}]
["HD 168914","18 21 01,02008","+28 52 11,8293",18,21,1.0200800000000001,275.25425033333335,4.8040929484253665,"+",28,52,11.8293,28.869952583333301,0.50387572747380871,56.400599999999997,18.863099999999999,5.3230000000000004,5.1289999999999996,0.19400000000000084,{"$f":"+VLOOKUP(W345,Data!$E$5:$F$32,2)","v":0.2},-5.9999999999991727E-3,"A7V","A7",{"$f":"+DEGREES(ACOS(SIN(Index!$H$6)*SIN(Base!N345)+COS(Index!$H$6)*COS(Base!N345)*COS(Index!$H$3-Base!H345)))","v":51.266383411106276}]
["HD 169033","18 23 12,16252","-12 00 53,1069",18,23,12.162520000000001,275.80067716666662,4.8136298957882779,"-",12,0,53.106900000000003,-12.0147519166667,-0.2096969797561333,19.040199999999999,0.69059999999999999,5.7110000000000003,5.7050000000000001,6.0000000000002274E-3,{"$f":"+VLOOKUP(W346,Data!$E$5:$F$32,2)","v":-0.16},0.16600000000000023,"B5V","B5",{"$f":"+DEGREES(ACOS(SIN(Index!$H$6)*SIN(Base!N346)+COS(Index!$H$6)*COS(Base!N346)*COS(Index!$H$3-Base!H346)))","v":57.134371106291418}]
["HD 16908 ","02 43 27,11185","+27 42 25,7233",2,43,27.11185,40.862966041666674,0.71319329955771782,"+",27,42,25.723299999999998,27.707145361111099,0.48358091288006194,151.28720000000001,-28.925699999999999,4.5190000000000001,4.6399999999999997,-0.12099999999999955,{"$f":"+VLOOKUP(W347,Data!$E$5:$F$32,2)","v":-0.2},7.9000000000000459E-2,"B3V","B3",{"$f":"+DEGREES(ACOS(SIN(Index!$H$6)*SIN(Base!N347)+COS(Index!$H$6)*COS(Base!N347)*COS(Index!$H$3-Base!H347)))","v":69.34707658620772}]
["HD 169111","18 22 35,31853","+12 01 46,8522",18,22,35.318530000000003,275.64716054166666,4.8109505252254792,"+",12,1,46.852200000000003,12.0296811666667,0.20995754432348665,40.533900000000003,11.7895,6.03,5.98,4.9999999999999822E-2,{"$f":"+VLOOKUP(W348,Data!$E$5:$F$32,2)","v":0.05},-1.8041124150158794E-16,"A2V","A2",{"$f":"+DEGREES(ACOS(SIN(Index!$H$6)*SIN(Base!N348)+COS(Index!$H$6)*COS(Base!N348)*COS(Index!$H$3-Base!H348)))","v":50.825959689759074}]
["HD 16970 ","02 43 18,03910","+03 14 08,9390",2,43,18.039100000000001,40.82516291666667,0.71253351055892478,"+",3,14,8.9390000000000001,3.2358163888888898,5.6475649976104388E-2,168.91919999999999,-49.382399999999997,3.56,3.47,8.9999999999999858E-2,{"$f":"+VLOOKUP(W349,Data!$E$5:$F$32,2)","v":0.08},9.9999999999998562E-3,"A3V","A3",{"$f":"+DEGREES(ACOS(SIN(Index!$H$6)*SIN(Base!N349)+COS(Index!$H$6)*COS(Base!N349)*COS(Index!$H$3-Base!H349)))","v":72.776716791821443}]
["HD 170073","18 23 54,60641","+58 48 02,6446",18,23,54.606409999999997,275.97752670833336,4.8167165025710057,"+",58,48,2.6446000000000001,58.800734611111103,1.0262664215552764,87.876599999999996,26.441099999999999,5.0990000000000002,5.0339999999999998,6.5000000000000391E-2,{"$f":"+VLOOKUP(W350,Data!$E$5:$F$32,2)","v":0.02},4.5000000000000387E-2,"A1V","A1",{"$f":"+DEGREES(ACOS(SIN(Index!$H$6)*SIN(Base!N350)+COS(Index!$H$6)*COS(Base!N350)*COS(Index!$H$3-Base!H350)))","v":60.019892917651127}]
["HD 17036 ","02 44 32,97317","+15 18 42,7085",2,44,32.973170000000003,41.137388208333334,0.71798286990650773,"+",15,18,42.708500000000001,15.3118634722222,0.2672424322061287,159.21889999999999,-39.4602,5.7510000000000003,5.7759999999999998,-2.4999999999999467E-2,{"$f":"+VLOOKUP(W351,Data!$E$5:$F$32,2)","v":-7.0000000000000007E-2},4.500000000000054E-2,"B9Vn","B9",{"$f":"+DEGREES(ACOS(SIN(Index!$H$6)*SIN(Base!N351)+COS(Index!$H$6)*COS(Base!N351)*COS(Index!$H$3-Base!H351)))","v":70.917270113054627}]
["HD 170479","18 31 04,84445","-32 59 20,8022",18,31,4.8444500000000001,277.77018520833332,4.8480042957598677,"-",32,59,20.802199999999999,-32.989111722222198,-0.57576861686103442,1.1073,-10.4894,5.5679999999999996,5.391,0.1769999999999996,{"$f":"+VLOOKUP(W352,Data!$E$5:$F$32,2)","v":0.15},2.6999999999999608E-2,"A5V","A5",{"$f":"+DEGREES(ACOS(SIN(Index!$H$6)*SIN(Base!N352)+COS(Index!$H$6)*COS(Base!N352)*COS(Index!$H$3-Base!H352)))","v":65.968713957601835}]
["HD 170642","18 32 21,33140","-39 42 14,4025",18,32,21.331399999999999,278.08888083333341,4.8535665837278206,"-",39,42,14.4025,-39.704000694444403,-0.69296553833216989,354.99160000000001,-13.553100000000001,5.2460000000000004,5.1619999999999999,8.4000000000000519E-2,{"$f":"+VLOOKUP(W353,Data!$E$5:$F$32,2)","v":0.08},4.000000000000517E-3,"A3Vn","A3",{"$f":"+DEGREES(ACOS(SIN(Index!$H$6)*SIN(Base!N353)+COS(Index!$H$6)*COS(Base!N353)*COS(Index!$H$3-Base!H353)))","v":69.741786456356209}]
["HD 170740","18 31 25,69365","-10 47 45,0104",18,31,25.693650000000002,277.85705687500001,4.8495204923698969,"-",10,47,45.010399999999997,-10.795836222222199,-0.1884228875838436,21.057400000000001,-0.52590000000000003,5.9320000000000004,5.7619999999999996,0.17000000000000082,{"$f":"+VLOOKUP(W354,Data!$E$5:$F$32,2)","v":-0.24},0.41000000000000081,"B2V","B2",{"$f":"+DEGREES(ACOS(SIN(Index!$H$6)*SIN(Base!N354)+COS(Index!$H$6)*COS(Base!N354)*COS(Index!$H$3-Base!H354)))","v":54.79760431322191}]
["HD 170868","18 33 23,13535","-38 43 33,5509",18,33,23.135349999999999,278.34639729166668,4.8580610938038111,"-",38,43,33.550899999999999,-38.725986361111097,-0.67589596808380636,355.99279999999999,-13.334,5.5389999999999997,5.601,-6.2000000000000277E-2,{"$f":"+VLOOKUP(W355,Data!$E$5:$F$32,2)","v":-7.0000000000000007E-2},7.9999999999997295E-3,"B9V","B9",{"$f":"+DEGREES(ACOS(SIN(Index!$H$6)*SIN(Base!N355)+COS(Index!$H$6)*COS(Base!N355)*COS(Index!$H$3-Base!H355)))","v":68.988141795130673}]
["HD 170878","18 31 04,44914","+16 55 42,8042",18,31,4.4491399999999999,277.76853808333328,4.847975548005425,"+",16,55,42.804200000000002,16.928556722222201,0.29545905241339654,45.9572,12.0242,5.81,5.76,4.9999999999999822E-2,{"$f":"+VLOOKUP(W356,Data!$E$5:$F$32,2)","v":0.05},-1.8041124150158794E-16,"A2V","A2",{"$f":"+DEGREES(ACOS(SIN(Index!$H$6)*SIN(Base!N356)+COS(Index!$H$6)*COS(Base!N356)*COS(Index!$H$3-Base!H356)))","v":48.406644648848683}]
["HD 171623","18 35 12,60300","+18 12 12,2800",18,35,12.603,278.80251249999998,4.8660218059576463,"+",18,12,12.28,18.203411111111102,0.31770945898300806,47.563299999999998,11.6691,5.78,5.79,-9.9999999999997868E-3,{"$f":"+VLOOKUP(W357,Data!$E$5:$F$32,2)","v":-0.01},2.1337098754514727E-16,"A0Vn","A0",{"$f":"+DEGREES(ACOS(SIN(Index!$H$6)*SIN(Base!N357)+COS(Index!$H$6)*COS(Base!N357)*COS(Index!$H$3-Base!H357)))","v":47.392033735642414}]
["HD 171978","18 37 35,96209","-00 18 34,1007",18,37,35.962090000000003,279.39984204166666,4.8764471731791588,"-",0,18,34.100700000000003,-0.30947241666666703,-5.4013126149371144E-3,31.077200000000001,2.9373,5.8319999999999999,5.7729999999999997,5.9000000000000163E-2,{"$f":"+VLOOKUP(W358,Data!$E$5:$F$32,2)","v":0.02},3.900000000000016E-2,"A1V+,,,","A1",{"$f":"+DEGREES(ACOS(SIN(Index!$H$6)*SIN(Base!N358)+COS(Index!$H$6)*COS(Base!N358)*COS(Index!$H$3-Base!H358)))","v":49.668290737174495}]
["HD 172167","18 36 56,33635","+38 47 01,2802",18,36,56.336350000000003,279.23473479166665,4.8735655080477454,"+",38,47,1.2802,38.7836889444444,0.67690306814987888,67.4482,19.237300000000001,0.03,0.03,0,{"$f":"+VLOOKUP(W359,Data!$E$5:$F$32,2)","v":-0.01},0.01,"A0V","A0",{"$f":"+DEGREES(ACOS(SIN(Index!$H$6)*SIN(Base!N359)+COS(Index!$H$6)*COS(Base!N359)*COS(Index!$H$3-Base!H359)))","v":50.154947930966202}]
["HD 172555","18 45 26,90049","-64 52 16,5398",18,45,26.900490000000001,281.36208537499999,4.9106947800711342,"-",64,52,16.5398,-64.871261055555607,-1.1322170953402175,330.56659999999999,-23.762799999999999,4.97,4.7789999999999999,0.19099999999999984,{"$f":"+VLOOKUP(W360,Data!$E$5:$F$32,2)","v":0.2},-9.0000000000001745E-3,"A7V","A7",{"$f":"+DEGREES(ACOS(SIN(Index!$H$6)*SIN(Base!N360)+COS(Index!$H$6)*COS(Base!N360)*COS(Index!$H$3-Base!H360)))","v":84.95739873247544}]
["HD 172728","18 37 33,50009","+62 31 35,7174",18,37,33.50009,279.38958370833336,4.876268131486726,"+",62,31,35.717399999999998,62.526588166666698,1.0912948335468589,92.275099999999995,25.430199999999999,5.69,5.74,-4.9999999999999822E-2,{"$f":"+VLOOKUP(W361,Data!$E$5:$F$32,2)","v":-0.01},-3.999999999999982E-2,"A0V","A0",{"$f":"+DEGREES(ACOS(SIN(Index!$H$6)*SIN(Base!N361)+COS(Index!$H$6)*COS(Base!N361)*COS(Index!$H$3-Base!H361)))","v":60.462023546726158}]
["HD 172777","18 43 46,94185","-38 19 24,3885",18,43,46.941850000000002,280.94559104166666,4.9034255826385689,"-",38,19,24.388500000000001,-38.323441250000002,-0.66887023050711136,357.21230000000003,-15.0367,5.194,5.12,7.3999999999999844E-2,{"$f":"+VLOOKUP(W362,Data!$E$5:$F$32,2)","v":0.05},2.3999999999999841E-2,"A2Vn","A2",{"$f":"+DEGREES(ACOS(SIN(Index!$H$6)*SIN(Base!N362)+COS(Index!$H$6)*COS(Base!N362)*COS(Index!$H$3-Base!H362)))","v":67.145475974650111}]
["HD 172910","18 44 19,35901","-35 38 31,1546",18,44,19.359010000000001,281.08066254166664,4.9057830250391756,"-",35,38,31.154599999999999,-35.6419873888889,-0.62207003189040788,359.80250000000001,-14.079000000000001,4.6790000000000003,4.843,-0.1639999999999997,{"$f":"+VLOOKUP(W363,Data!$E$5:$F$32,2)","v":-0.24},7.600000000000029E-2,"B2,5V","B2,5",{"$f":"+DEGREES(ACOS(SIN(Index!$H$6)*SIN(Base!N363)+COS(Index!$H$6)*COS(Base!N363)*COS(Index!$H$3-Base!H363)))","v":65.37197440788016}]
["HD 173168","18 48 37,90542","-65 04 39,6449",18,48,37.905419999999999,282.15793925000003,4.92458505055464,"-",65,4,39.6449,-65.077679138888897,-1.1358197705300395,330.43060000000003,-24.137699999999999,5.9550000000000001,5.7149999999999999,0.24000000000000021,{"$f":"+VLOOKUP(W364,Data!$E$5:$F$32,2)","v":0.27},-2.9999999999999805E-2,"A8V","A8",{"$f":"+DEGREES(ACOS(SIN(Index!$H$6)*SIN(Base!N364)+COS(Index!$H$6)*COS(Base!N364)*COS(Index!$H$3-Base!H364)))","v":84.866604621374407}]
["HD 173370","18 44 49,93820","+02 03 36,1360",18,44,49.938200000000002,281.20807583333334,4.9080068064895634,"+",2,3,36.136000000000003,2.0600377777777799,3.5954441937689534E-2,34.013500000000001,2.4083999999999999,4.9640000000000004,5.0140000000000002,-4.9999999999999822E-2,{"$f":"+VLOOKUP(W365,Data!$E$5:$F$32,2)","v":-7.0000000000000007E-2},2.0000000000000184E-2,"B9V","B9",{"$f":"+DEGREES(ACOS(SIN(Index!$H$6)*SIN(Base!N365)+COS(Index!$H$6)*COS(Base!N365)*COS(Index!$H$3-Base!H365)))","v":47.272423063710264}]
["HD 173495","18 45 28,36421","+05 30 00,4441",18,45,28.36421,281.36818420833333,4.9108012247933317,"+",5,30,0.44409999999999999,5.5001233611111102,9.5995261917245917E-2,37.155900000000003,3.8279000000000001,5.87,5.83,4.0000000000000036E-2,{"$f":"+VLOOKUP(W366,Data!$E$5:$F$32,2)","v":0.02},2.0000000000000035E-2,"A1V+,,,","A1",{"$f":"+DEGREES(ACOS(SIN(Index!$H$6)*SIN(Base!N366)+COS(Index!$H$6)*COS(Base!N366)*COS(Index!$H$3-Base!H366)))","v":46.297149231040763}]
["HD 173582","18 44 20,3453 ","39 40 12,444  ",18,44,20.345300000000002,281.08477208333335,4.9058547500720078,"+",39,40,12.444000000000001,39.670123333333301,0.69237426683889414,68.848699999999994,18.197900000000001,5.22,5.0599999999999996,0.16000000000000014,{"$f":"+VLOOKUP(W367,Data!$E$5:$F$32,2)","v":0.12},4.0000000000000147E-2,"A4V","A4",{"$f":"+DEGREES(ACOS(SIN(Index!$H$6)*SIN(Base!N367)+COS(Index!$H$6)*COS(Base!N367)*COS(Index!$H$3-Base!H367)))","v":49.086524520868323}]
["HD 173607","18 44 22,7803 ","39 36 45,798  ",18,44,22.7803,281.09491791666665,4.9060318282690325,"+",39,36,45.798000000000002,39.612721666666701,0.69137241875942967,68.795000000000002,18.170500000000001,5.33,5.14,0.19000000000000039,{"$f":"+VLOOKUP(W368,Data!$E$5:$F$32,2)","v":0.27},-7.9999999999999627E-2,"A8Vn","A8",{"$f":"+DEGREES(ACOS(SIN(Index!$H$6)*SIN(Base!N368)+COS(Index!$H$6)*COS(Base!N368)*COS(Index!$H$3-Base!H368)))","v":49.059515688713752}]
["HD 173654","18 46 28,59470","-00 57 42,0891",18,46,28.5947,281.61914458333331,4.915181309629121,"-",0,57,42.089100000000002,-0.96169141666666702,-1.6784681609002011E-2,31.510400000000001,0.66520000000000001,6.03,5.9,0.12999999999999989,{"$f":"+VLOOKUP(W369,Data!$E$5:$F$32,2)","v":0.05},7.9999999999999891E-2,"A2Vm","A2",{"$f":"+DEGREES(ACOS(SIN(Index!$H$6)*SIN(Base!N369)+COS(Index!$H$6)*COS(Base!N369)*COS(Index!$H$3-Base!H369)))","v":47.748108551275124}]
["HD 173715","18 48 50,48994","-43 40 48,1591",18,48,50.489939999999997,282.21037474999997,4.925500222674569,"-",43,40,48.159100000000002,-43.680044194444399,-0.76236058860968903,352.39749999999998,-17.9161,5.5819999999999999,5.4580000000000002,0.12399999999999967,{"$f":"+VLOOKUP(W370,Data!$E$5:$F$32,2)","v":0.08},4.3999999999999664E-2,"A3V","A3",{"$f":"+DEGREES(ACOS(SIN(Index!$H$6)*SIN(Base!N370)+COS(Index!$H$6)*COS(Base!N370)*COS(Index!$H$3-Base!H370)))","v":69.923912233353988}]
["HD 174237","18 46 43,08849","+52 59 16,6627",18,46,43.08849,281.679535375,4.9162353277815907,"+",52,59,16.662700000000001,52.987961861111103,0.92481439839757107,82.445099999999996,22.032900000000001,5.8,5.9,-0.10000000000000053,{"$f":"+VLOOKUP(W371,Data!$E$5:$F$32,2)","v":-0.24},0.13999999999999946,"B2,5Ve","B2,5",{"$f":"+DEGREES(ACOS(SIN(Index!$H$6)*SIN(Base!N371)+COS(Index!$H$6)*COS(Base!N371)*COS(Index!$H$3-Base!H371)))","v":54.407442824960498}]
["HD 174262","18 48 53,38616","+19 19 43,3984",18,48,53.386159999999997,282.22244233333333,4.9257108417364943,"+",19,19,43.398400000000002,19.328721777777801,0.33734983522415435,50.0047,9.2220999999999993,5.9139999999999997,5.8940000000000001,1.9999999999999574E-2,{"$f":"+VLOOKUP(W372,Data!$E$5:$F$32,2)","v":0.02},-4.2674197509029455E-16,"A1V","A1",{"$f":"+DEGREES(ACOS(SIN(Index!$H$6)*SIN(Base!N372)+COS(Index!$H$6)*COS(Base!N372)*COS(Index!$H$3-Base!H372)))","v":44.164202336549963}]
["HD 174602","18 49 52,91721","+32 33 03,8153",18,49,52.917209999999997,282.470488375,4.930040061860117,"+",32,33,3.8153000000000001,32.551059805555603,0.56812316862053047,62.399099999999997,14.503299999999999,5.327,5.2329999999999997,9.4000000000000306E-2,{"$f":"+VLOOKUP(W373,Data!$E$5:$F$32,2)","v":0.08},1.4000000000000304E-2,"A3V","A3",{"$f":"+DEGREES(ACOS(SIN(Index!$H$6)*SIN(Base!N373)+COS(Index!$H$6)*COS(Base!N373)*COS(Index!$H$3-Base!H373)))","v":45.869490328523362}]
["HD 174638","18 50 04,79525","+33 21 45,6100",18,50,4.7952500000000002,282.51998020833332,4.9309038573046315,"+",33,21,45.61,33.3626694444444,0.58228842906006217,63.187600000000003,14.7835,3.52,3.52,0,{"$f":"+VLOOKUP(W374,Data!$E$5:$F$32,2)","v":-0.13},0.13,"B7Ve+,,,","B7",{"$f":"+DEGREES(ACOS(SIN(Index!$H$6)*SIN(Base!N374)+COS(Index!$H$6)*COS(Base!N374)*COS(Index!$H$3-Base!H374)))","v":46.044239081612886}]
["HD 17471 ","02 48 45,90441","+25 11 17,0320",2,48,45.904409999999999,42.191268375,0.73637654873630765,"+",25,11,17.032,25.1880644444444,0.43961465676007111,153.90649999999999,-30.534199999999998,5.85,5.89,-4.0000000000000036E-2,{"$f":"+VLOOKUP(W375,Data!$E$5:$F$32,2)","v":-0.01},-3.0000000000000034E-2,"A0V","A0",{"$f":"+DEGREES(ACOS(SIN(Index!$H$6)*SIN(Base!N375)+COS(Index!$H$6)*COS(Base!N375)*COS(Index!$H$3-Base!H375)))","v":70.73121814857619}]
["HD 175191","18 55 15,92650","-26 17 48,2068",18,55,15.926500000000001,283.81636041666667,4.9535299602977387,"-",26,17,48.206800000000001,-26.2967241111111,-0.45896441822746786,9.5558999999999994,-12.4352,1.925,2.0579999999999998,-0.13299999999999979,{"$f":"+VLOOKUP(W376,Data!$E$5:$F$32,2)","v":-0.24},0.10700000000000021,"B2V","B2",{"$f":"+DEGREES(ACOS(SIN(Index!$H$6)*SIN(Base!N376)+COS(Index!$H$6)*COS(Base!N376)*COS(Index!$H$3-Base!H376)))","v":57.785941522107933}]
["HD 175286","18 46 22,23631","+75 26 02,2677",18,46,22.23631,281.59265129166664,4.9147189144598462,"+",75,26,2.2677,75.433963250000005,1.3165710265409025,106.61409999999999,26.504999999999999,5.4180000000000001,5.3680000000000003,4.9999999999999822E-2,{"$f":"+VLOOKUP(W377,Data!$E$5:$F$32,2)","v":0.02},2.9999999999999822E-2,"A1Vn","A1",{"$f":"+DEGREES(ACOS(SIN(Index!$H$6)*SIN(Base!N377)+COS(Index!$H$6)*COS(Base!N377)*COS(Index!$H$3-Base!H377)))","v":67.572016492285911}]
["HD 175426","18 53 43,55911","+36 58 18,1920",18,53,43.559109999999997,283.43149629166669,4.9468128141436818,"+",36,58,18.192,36.971719999999998,0.64527824412543788,66.933599999999998,15.4941,5.4329999999999998,5.569,-0.13600000000000012,{"$f":"+VLOOKUP(W378,Data!$E$5:$F$32,2)","v":-0.24},0.10399999999999987,"B2,5V","B2,5",{"$f":"+DEGREES(ACOS(SIN(Index!$H$6)*SIN(Base!N378)+COS(Index!$H$6)*COS(Base!N378)*COS(Index!$H$3-Base!H378)))","v":46.435732744529382}]
["HD 17543 ","02 49 17,55924","+17 27 51,5168",2,49,17.559239999999999,42.323163499999993,0.73867855293488693,"+",17,27,51.516800000000003,17.464310222222199,0.30480971496747994,158.9315,-37.036099999999998,5.226,5.3140000000000001,-8.8000000000000078E-2,{"$f":"+VLOOKUP(W379,Data!$E$5:$F$32,2)","v":-0.14000000000000001},5.1999999999999935E-2,"B6V","B6",{"$f":"+DEGREES(ACOS(SIN(Index!$H$6)*SIN(Base!N379)+COS(Index!$H$6)*COS(Base!N379)*COS(Index!$H$3-Base!H379)))","v":71.739552978077043}]
["HD 175510","18 58 27,76710","-52 56 19,0622",18,58,27.767099999999999,284.61569624999993,4.9674810024185767,"-",52,56,19.062200000000001,-52.938628388888901,-0.9239533668758525,343.57369999999997,-22.352799999999998,4.7960000000000003,4.84,-4.3999999999999595E-2,{"$f":"+VLOOKUP(W380,Data!$E$5:$F$32,2)","v":-0.01},-3.3999999999999593E-2,"A0V","A0",{"$f":"+DEGREES(ACOS(SIN(Index!$H$6)*SIN(Base!N380)+COS(Index!$H$6)*COS(Base!N380)*COS(Index!$H$3-Base!H380)))","v":75.245144701947325}]
["HD 175638","18 56 13,18150","+04 12 12,9124",18,56,13.1815,284.05492291666667,4.9576936613945275,"+",4,12,12.9124,4.2035867777777796,7.3366429665521454E-2,37.217799999999997,0.85409999999999997,4.79,4.62,0.16999999999999993,{"$f":"+VLOOKUP(W381,Data!$E$5:$F$32,2)","v":0.15},1.9999999999999934E-2,"A5V","A5",{"$f":"+DEGREES(ACOS(SIN(Index!$H$6)*SIN(Base!N381)+COS(Index!$H$6)*COS(Base!N381)*COS(Index!$H$3-Base!H381)))","v":43.980956041227508}]
["HD 175639","18 56 14,63687","+04 12 07,6269",18,56,14.63687,284.06098695833333,4.9577994988875895,"+",4,12,7.6269,4.2021185833333297,7.3340804838406326E-2,37.219200000000001,0.84799999999999998,5.18,4.9800000000000004,0.19999999999999929,{"$f":"+VLOOKUP(W382,Data!$E$5:$F$32,2)","v":0.15},4.9999999999999295E-2,"A5Vn","A5",{"$f":"+DEGREES(ACOS(SIN(Index!$H$6)*SIN(Base!N382)+COS(Index!$H$6)*COS(Base!N382)*COS(Index!$H$3-Base!H382)))","v":43.975435877731236}]
["HD 17573 ","02 49 59,03324","+27 15 37,8260",2,49,59.033239999999999,42.495971833333329,0.74169462732643754,"+",27,15,37.826000000000001,27.260507222222198,0.47578560679147086,152.9777,-28.606100000000001,3.5150000000000001,3.6059999999999999,-9.0999999999999748E-2,{"$f":"+VLOOKUP(W383,Data!$E$5:$F$32,2)","v":-0.11},1.9000000000000253E-2,"B8Vn","B8",{"$f":"+DEGREES(ACOS(SIN(Index!$H$6)*SIN(Base!N383)+COS(Index!$H$6)*COS(Base!N383)*COS(Index!$H$3-Base!H383)))","v":70.824696059303463}]
["HD 176162","18 59 23,80202","-12 50 25,8639",18,59,23.802019999999999,284.84917508333331,4.971555976793959,"-",12,50,25.863900000000001,-12.84051775,-0.22410931239827411,22.332000000000001,-7.5541999999999998,5.4779999999999998,5.516,-3.8000000000000256E-2,{"$f":"+VLOOKUP(W384,Data!$E$5:$F$32,2)","v":-0.18},0.14199999999999974,"B4V","B4",{"$f":"+DEGREES(ACOS(SIN(Index!$H$6)*SIN(Base!N384)+COS(Index!$H$6)*COS(Base!N384)*COS(Index!$H$3-Base!H384)))","v":49.588374063445933}]
["HD 176638","19 03 06,87698","-42 05 42,3858",19,3,6.8769799999999996,285.77865408333332,4.9877784456721042,"-",42,5,42.385800000000003,-42.0951071666667,-0.73469821903819532,354.91289999999998,-19.834700000000002,4.7160000000000002,4.734,-1.7999999999999794E-2,{"$f":"+VLOOKUP(W385,Data!$E$5:$F$32,2)","v":-7.0000000000000007E-2},5.2000000000000213E-2,"B9,5V","B9,5",{"$f":"+DEGREES(ACOS(SIN(Index!$H$6)*SIN(Base!N385)+COS(Index!$H$6)*COS(Base!N385)*COS(Index!$H$3-Base!H385)))","v":66.936618059492446}]
["HD 176871","19 01 17,35671","+26 17 29,0791",19,1,17.35671,285.32231962499998,4.9798139068838818,"+",26,17,29.0791,26.2914108611111,0.45887168452098626,57.620699999999999,9.6532,5.5979999999999999,5.6829999999999998,-8.4999999999999964E-2,{"$f":"+VLOOKUP(W386,Data!$E$5:$F$32,2)","v":-0.16},7.5000000000000039E-2,"B5V","B5",{"$f":"+DEGREES(ACOS(SIN(Index!$H$6)*SIN(Base!N386)+COS(Index!$H$6)*COS(Base!N386)*COS(Index!$H$3-Base!H386)))","v":42.055020078327345}]
["HD 176984","19 02 54,49874","-03 41 56,3561",19,2,54.498739999999998,285.72707808333337,{"$f":"+RADIANS(G387)","v":4.9868782746570961},"-",3,41,56.356099999999998,{"$f":"VALUE(CONCATENATE(I387,+J387+K387/60+L387/3600))","v":-3.6989878055555598},{"$f":"+RADIANS(M387)","v":-6.4559516198064312E-2},30.9406,-4.2351000000000001,5.42,5.42,0,{"$f":"+VLOOKUP(W387,Data!$E$5:$F$32,2)","v":0.02},{"$f":"+S387-T387","v":-0.02},"A1V",{"$f":"IF(MID(V387,3,1)<>\",\",LEFT(V387,2),LEFT(V387,4))","v":"A1"},{"$f":"+DEGREES(ACOS(SIN(Index!$H$6)*SIN(Base!N387)+COS(Index!$H$6)*COS(Base!N387)*COS(Index!$H$3-Base!H387)))","v":44.829453555522292}]
["HD 177178","19 03 32,25216","+01 49 07,5650",19,3,32.252160000000003,285.88438400000001,4.9896237808357968,"+",1,49,7.5650000000000004,1.8187680555555601,3.1743490899539671E-2,35.9313,-1.8607,6.0019999999999998,5.8259999999999996,0.17600000000000016,{"$f":"+VLOOKUP(W388,Data!$E$5:$F$32,2)","v":0.12},5.6000000000000161E-2,"A4V","A4",{"$f":"+DEGREES(ACOS(SIN(Index!$H$6)*SIN(Base!N388)+COS(Index!$H$6)*COS(Base!N388)*COS(Index!$H$3-Base!H388)))","v":42.846161004268041}]
["HD 177196","19 01 26,37023","+46 56 05,3172",19,1,26.370229999999999,285.3598759583333,4.9804693885555249,"+",46,56,5.3171999999999997,46.934810333333303,0.81916697411572348,77.149100000000004,17.855599999999999,5.1950000000000003,5.0129999999999999,0.18200000000000038,{"$f":"+VLOOKUP(W389,Data!$E$5:$F$32,2)","v":0.2},-1.7999999999999627E-2,"A7V","A7",{"$f":"+DEGREES(ACOS(SIN(Index!$H$6)*SIN(Base!N389)+COS(Index!$H$6)*COS(Base!N389)*COS(Index!$H$3-Base!H389)))","v":49.326441224092861}]
["HD 17729 ","02 49 54,18207","-27 56 31,1374",2,49,54.182070000000003,42.475758624999997,0.74134184028862937,"-",27,56,31.1374,-27.941982611111101,-0.487679596098891,221.63489999999999,-63.79,5.4,5.3890000000000002,1.1000000000000121E-2,{"$f":"+VLOOKUP(W390,Data!$E$5:$F$32,2)","v":-0.01},2.1000000000000123E-2,"A0V","A0",{"$f":"+DEGREES(ACOS(SIN(Index!$H$6)*SIN(Base!N390)+COS(Index!$H$6)*COS(Base!N390)*COS(Index!$H$3-Base!H390)))","v":82.830856710709241}]
["HD 177406","19 06 55,60705","-48 17 56,9176",19,6,55.607050000000001,286.73169604166668,5.0044121657546761,"-",48,17,56.9176,-48.2991437777778,-0.84297908481635508,348.79570000000001,-22.360499999999998,5.9480000000000004,5.9569999999999999,-8.9999999999994529E-3,{"$f":"+VLOOKUP(W391,Data!$E$5:$F$32,2)","v":-0.01},1.0000000000005473E-3,"A0V","A0",{"$f":"+DEGREES(ACOS(SIN(Index!$H$6)*SIN(Base!N391)+COS(Index!$H$6)*COS(Base!N391)*COS(Index!$H$3-Base!H391)))","v":70.941749155414513}]
["HD 17769 ","02 51 29,58609","+15 04 55,4500",2,51,29.586089999999999,42.873275375000006,0.74827981640795671,"+",15,4,55.45,15.0820694444444,0.26323176981998681,161.1747,-38.715299999999999,5.4169999999999998,5.5140000000000002,-9.7000000000000419E-2,{"$f":"+VLOOKUP(W392,Data!$E$5:$F$32,2)","v":-0.13},3.2999999999999585E-2,"B7V","B7",{"$f":"+DEGREES(ACOS(SIN(Index!$H$6)*SIN(Base!N392)+COS(Index!$H$6)*COS(Base!N392)*COS(Index!$H$3-Base!H392)))","v":72.607988729283406}]
["HD 177724","19 05 24,60802","+13 51 48,5182",19,5,24.60802,286.35253341666663,4.99779452954792,"+",13,51,48.5182,13.8634772777778,0.24196332427264311,46.854300000000002,3.2454000000000001,3.016,2.988,2.8000000000000025E-2,{"$f":"+VLOOKUP(W393,Data!$E$5:$F$32,2)","v":-0.01},3.8000000000000027E-2,"A0Vn","A0",{"$f":"+DEGREES(ACOS(SIN(Index!$H$6)*SIN(Base!N393)+COS(Index!$H$6)*COS(Base!N393)*COS(Index!$H$3-Base!H393)))","v":40.274036362264269}]
["HD 177756","19 06 14,93898","-04 52 57,2007",19,6,14.938980000000001,286.56224575000005,5.0014547002466285,"-",4,52,57.200699999999998,-4.8825557499999999,-8.5216673749681129E-2,30.259499999999999,-5.5133999999999999,3.351,3.427,-7.6000000000000068E-2,{"$f":"+VLOOKUP(W394,Data!$E$5:$F$32,2)","v":-7.0000000000000007E-2},-6.0000000000000608E-3,"B9Vn","B9",{"$f":"+DEGREES(ACOS(SIN(Index!$H$6)*SIN(Base!N394)+COS(Index!$H$6)*COS(Base!N394)*COS(Index!$H$3-Base!H394)))","v":44.52067082851061}]
["HD 178175","19 08 16,70270","-19 17 25,0328",19,8,16.7027,287.06959458333336,5.0103096078444462,"-",19,17,25.032800000000002,-19.2902868888889,-0.33667901986540488,17.354700000000001,-12.2575,5.484,5.57,-8.6000000000000298E-2,{"$f":"+VLOOKUP(W395,Data!$E$5:$F$32,2)","v":-0.24},0.15399999999999969,"B2V","B2",{"$f":"+DEGREES(ACOS(SIN(Index!$H$6)*SIN(Base!N395)+COS(Index!$H$6)*COS(Base!N395)*COS(Index!$H$3-Base!H395)))","v":51.231302788863019}]
["HD 178207","19 04 55,16590","+53 23 47,9627",19,4,55.165900000000001,286.22985791666667,4.9956534381613906,"+",53,23,47.962699999999998,53.396656305555602,0.9319474620877366,83.755499999999998,19.5639,5.37,5.38,-9.9999999999997868E-3,{"$f":"+VLOOKUP(W396,Data!$E$5:$F$32,2)","v":-0.01},2.1337098754514727E-16,"A0Vn","A0",{"$f":"+DEGREES(ACOS(SIN(Index!$H$6)*SIN(Base!N396)+COS(Index!$H$6)*COS(Base!N396)*COS(Index!$H$3-Base!H396)))","v":52.3335930009669}]
["HD 178322","19 09 57,65284","-41 53 32,1289",19,9,57.652839999999998,287.49022016666669,5.017650909191735,"-",41,53,32.128900000000002,-41.8922580277778,-0.73115783367974874,355.55189999999999,-20.975100000000001,5.774,5.8529999999999998,-7.8999999999999737E-2,{"$f":"+VLOOKUP(W397,Data!$E$5:$F$32,2)","v":-0.14000000000000001},6.1000000000000276E-2,"B6V+,,,","B6",{"$f":"+DEGREES(ACOS(SIN(Index!$H$6)*SIN(Base!N397)+COS(Index!$H$6)*COS(Base!N397)*COS(Index!$H$3-Base!H397)))","v":65.901065199992402}]
["HD 17848 ","02 49 01,48701","-62 48 23,4774",2,49,1.4870099999999999,42.256195874999996,0.73750974738639619,"-",62,48,23.477399999999999,-62.806521500000002,-1.0961805918996077,282.74360000000001,-49.458599999999997,5.367,5.2629999999999999,0.10400000000000009,{"$f":"+VLOOKUP(W398,Data!$E$5:$F$32,2)","v":0.05},5.400000000000009E-2,"A2V","A2",{"$f":"+DEGREES(ACOS(SIN(Index!$H$6)*SIN(Base!N398)+COS(Index!$H$6)*COS(Base!N398)*COS(Index!$H$3-Base!H398)))","v":94.31444158587864}]
["HD 179366","19 17 12,23202","-66 39 39,7941",19,17,12.23202,289.30096675000004,5.0492543989901399,"-",66,39,39.7941,-66.661053916666702,-1.1634548736952957,329.22129999999999,-27.273,5.6859999999999999,5.516,0.16999999999999993,{"$f":"+VLOOKUP(W399,Data!$E$5:$F$32,2)","v":0.15},1.9999999999999934E-2,"A5V+,,,","A5",{"$f":"+DEGREES(ACOS(SIN(Index!$H$6)*SIN(Base!N399)+COS(Index!$H$6)*COS(Base!N399)*COS(Index!$H$3-Base!H399)))","v":84.143715333692313}]
["HD 179406","19 12 40,71241","-07 56 22,2610",19,12,40.712409999999998,288.16963504166665,5.0295089357475096,"-",7,56,22.260999999999999,-7.9395169444444402,-0.13857071169843518,28.2285,-8.3117999999999999,5.45,5.3620000000000001,8.8000000000000078E-2,{"$f":"+VLOOKUP(W400,Data!$E$5:$F$32,2)","v":-0.2},0.28800000000000009,"B3V","B3",{"$f":"+DEGREES(ACOS(SIN(Index!$H$6)*SIN(Base!N400)+COS(Index!$H$6)*COS(Base!N400)*COS(Index!$H$3-Base!H400)))","v":44.389140689844041}]
["HD 180317","19 15 17,36135","+21 13 55,6246",19,15,17.361350000000002,288.82233895833332,5.0409007681340059,"+",21,13,55.624600000000001,21.232117944444401,0.37057036530232529,54.500100000000003,4.5284000000000004,5.7679999999999998,5.6539999999999999,0.11399999999999988,{"$f":"+VLOOKUP(W401,Data!$E$5:$F$32,2)","v":0.12},-6.0000000000001164E-3,"A4V","A4",{"$f":"+DEGREES(ACOS(SIN(Index!$H$6)*SIN(Base!N401)+COS(Index!$H$6)*COS(Base!N401)*COS(Index!$H$3-Base!H401)))","v":38.124090283830377}]
["HD 180555","19 16 26,78744","+14 32 40,6234",19,16,26.78744,289.11161433333331,5.0459495758726973,"+",14,32,40.623399999999997,14.5446176111111,0.25385146575744089,48.693300000000001,1.1859,5.61,5.63,-1.9999999999999574E-2,{"$f":"+VLOOKUP(W402,Data!$E$5:$F$32,2)","v":-7.0000000000000007E-2},5.0000000000000433E-2,"B9,5V","B9,5",{"$f":"+DEGREES(ACOS(SIN(Index!$H$6)*SIN(Base!N402)+COS(Index!$H$6)*COS(Base!N402)*COS(Index!$H$3-Base!H402)))","v":37.571274697545107}]
["HD 180777","19 09 09,87929","+76 33 37,8042",19,9,9.8792899999999992,287.29116370833327,5.0141767185964579,"+",76,33,37.804200000000002,76.560501166666697,1.3362328223352937,108.0796,25.309899999999999,5.4080000000000004,5.1239999999999997,0.2840000000000007,{"$f":"+VLOOKUP(W403,Data!$E$5:$F$32,2)","v":0.2},8.4000000000000685E-2,"A7V","A7",{"$f":"+DEGREES(ACOS(SIN(Index!$H$6)*SIN(Base!N403)+COS(Index!$H$6)*COS(Base!N403)*COS(Index!$H$3-Base!H403)))","v":67.347752601353733}]
["HD 180885","19 19 39,99298","-35 25 17,2318",19,19,39.992980000000003,289.91663741666667,5.0599998792314214,"-",35,25,17.2318,-35.4214532777778,-0.6182209855385602,2.7597,-20.694600000000001,5.4610000000000003,5.577,-0.11599999999999966,{"$f":"+VLOOKUP(W404,Data!$E$5:$F$32,2)","v":-0.2},8.4000000000000352E-2,"B3V","B3",{"$f":"+DEGREES(ACOS(SIN(Index!$H$6)*SIN(Base!N404)+COS(Index!$H$6)*COS(Base!N404)*COS(Index!$H$3-Base!H404)))","v":59.914197152657508}]
["HD 181454","19 22 38,29770","-44 27 32,2458",19,22,38.297699999999999,290.65957374999999,5.0729665643807813,"-",44,27,32.245800000000003,-44.4589571666667,-0.77595518456146328,353.61340000000001,-23.927600000000002,3.8690000000000002,3.9540000000000002,-8.4999999999999964E-2,{"$f":"+VLOOKUP(W405,Data!$E$5:$F$32,2)","v":-7.0000000000000007E-2},-1.4999999999999958E-2,"B9V","B9",{"$f":"+DEGREES(ACOS(SIN(Index!$H$6)*SIN(Base!N405)+COS(Index!$H$6)*COS(Base!N405)*COS(Index!$H$3-Base!H405)))","v":66.269864728176074}]
["HD 181869","19 23 53,17483","-40 36 57,3705",19,23,53.17483,290.97156179166666,5.0784117829347144,"-",40,36,57.3705,-40.615936249999997,-0.70888181634261871,357.71129999999999,-23.089600000000001,3.867,3.95,-8.3000000000000185E-2,{"$f":"+VLOOKUP(W406,Data!$E$5:$F$32,2)","v":-0.11},2.6999999999999816E-2,"B8V","B8",{"$f":"+DEGREES(ACOS(SIN(Index!$H$6)*SIN(Base!N406)+COS(Index!$H$6)*COS(Base!N406)*COS(Index!$H$3-Base!H406)))","v":63.19591835320518}]
["HD 182681","19 26 56,48284","-29 44 35,6170",19,26,56.482840000000003,291.73534516666666,5.0917423176004588,"-",29,44,35.616999999999997,-29.743226944444402,-0.51911724034844731,9.0152999999999999,-20.209199999999999,5.6520000000000001,5.65,1.9999999999997797E-3,{"$f":"+VLOOKUP(W407,Data!$E$5:$F$32,2)","v":-7.0000000000000007E-2},7.1999999999999786E-2,"B9V","B9",{"$f":"+DEGREES(ACOS(SIN(Index!$H$6)*SIN(Base!N407)+COS(Index!$H$6)*COS(Base!N407)*COS(Index!$H$3-Base!H407)))","v":54.773473116048116}]
["HD 182919","19 26 13,24574","+20 05 51,8427",19,26,13.24574,291.55519058333334,5.0885980269587341,"+",20,5,51.842700000000001,20.0977340833333,0.35077163194445049,54.692700000000002,1.7378,5.5960000000000001,5.5940000000000003,1.9999999999997797E-3,{"$f":"+VLOOKUP(W408,Data!$E$5:$F$32,2)","v":-0.01},1.199999999999978E-2,"A0V","A0",{"$f":"+DEGREES(ACOS(SIN(Index!$H$6)*SIN(Base!N408)+COS(Index!$H$6)*COS(Base!N408)*COS(Index!$H$3-Base!H408)))","v":35.454336112530896}]
["HD 18331 ","02 56 37,42306","-03 42 44,3505",2,56,37.42306,44.155929416666666,0.77066635259905247,"-",3,42,44.350499999999997,-3.71231958333333,-6.4792199615430618E-2,180.35730000000001,-52.037599999999998,5.25,5.16,8.9999999999999858E-2,{"$f":"+VLOOKUP(W409,Data!$E$5:$F$32,2)","v":0.08},9.9999999999998562E-3,"A3V","A3",{"$f":"+DEGREES(ACOS(SIN(Index!$H$6)*SIN(Base!N409)+COS(Index!$H$6)*COS(Base!N409)*COS(Index!$H$3-Base!H409)))","v":77.592666480181322}]
["HD 183324","19 29 00,98795","+01 57 01,6159",19,29,0.98794999999999999,292.25411645833339,5.1007965847048666,"+",1,57,1.6158999999999999,1.9504488611111099,3.4041754518162458E-2,38.991999999999997,-7.4507000000000003,5.8760000000000003,5.7930000000000001,8.3000000000000185E-2,{"$f":"+VLOOKUP(W410,Data!$E$5:$F$32,2)","v":-0.01},9.300000000000018E-2,"A0V","A0",{"$f":"+DEGREES(ACOS(SIN(Index!$H$6)*SIN(Base!N410)+COS(Index!$H$6)*COS(Base!N410)*COS(Index!$H$3-Base!H410)))","v":36.739055864207948}]
["HD 183534","19 27 25,95887","+52 19 13,5737",19,27,25.958870000000001,291.85816195833331,5.0938858749917779,"+",52,19,13.573700000000001,52.320437138888899,0.91316389415633303,84.023200000000003,16.009499999999999,5.75,5.75,0,{"$f":"+VLOOKUP(W411,Data!$E$5:$F$32,2)","v":0.02},-0.02,"A1V","A1",{"$f":"+DEGREES(ACOS(SIN(Index!$H$6)*SIN(Base!N411)+COS(Index!$H$6)*COS(Base!N411)*COS(Index!$H$3-Base!H411)))","v":48.992848242618528}]
["HD 183914","19 30 45,39543","+27 57 54,9950",19,30,45.395429999999998,292.68914762499998,5.1083893109119911,"+",27,57,54.994999999999997,27.965276388888899,0.48808614921634147,62.118299999999998,4.5673000000000004,5.0270000000000001,5.0880000000000001,-6.0999999999999943E-2,{"$f":"+VLOOKUP(W412,Data!$E$5:$F$32,2)","v":-0.11},4.9000000000000057E-2,"B8Ve","B8",{"$f":"+DEGREES(ACOS(SIN(Index!$H$6)*SIN(Base!N412)+COS(Index!$H$6)*COS(Base!N412)*COS(Index!$H$3-Base!H412)))","v":36.107804155160487}]
["HD 184006","19 29 42,35872","+51 43 47,2058",19,29,42.358719999999998,292.42649466666666,5.1038051519989711,"+",51,43,47.205800000000004,51.7297793888889,0.90285497166641149,83.611900000000006,15.4488,3.9169999999999998,3.7690000000000001,0.14799999999999969,{"$f":"+VLOOKUP(W413,Data!$E$5:$F$32,2)","v":0.15},-2.0000000000003071E-3,"A5V","A5",{"$f":"+DEGREES(ACOS(SIN(Index!$H$6)*SIN(Base!N413)+COS(Index!$H$6)*COS(Base!N413)*COS(Index!$H$3-Base!H413)))","v":48.342109037080597}]
["HD 18411 ","02 58 45,66985","+39 39 45,8141",2,58,45.669849999999997,44.690291041666669,0.77999272235160977,"+",39,39,45.814100000000003,39.6627261388889,0.69224516144042902,148.04349999999999,-16.9208,4.7539999999999996,4.6849999999999996,6.899999999999995E-2,{"$f":"+VLOOKUP(W414,Data!$E$5:$F$32,2)","v":0.05},1.8999999999999947E-2,"A2Vn","A2",{"$f":"+DEGREES(ACOS(SIN(Index!$H$6)*SIN(Base!N414)+COS(Index!$H$6)*COS(Base!N414)*COS(Index!$H$3-Base!H414)))","v":71.979161410842224}]
["HD 184875","19 34 41,25930","+42 24 45,0369",19,34,41.259300000000003,293.67191374999999,5.1255418155703074,"+",42,24,45.036900000000003,42.412510249999997,0.7402379478983433,75.384500000000003,10.6191,5.4039999999999999,5.3479999999999999,5.600000000000005E-2,{"$f":"+VLOOKUP(W415,Data!$E$5:$F$32,2)","v":0.05},6.000000000000047E-3,"A2V","A2",{"$f":"+DEGREES(ACOS(SIN(Index!$H$6)*SIN(Base!N415)+COS(Index!$H$6)*COS(Base!N415)*COS(Index!$H$3-Base!H415)))","v":41.9180993150893}]
["HD 18519 ","02 59 12,6 "," +21 20 23         ",2,59,12.6,44.802499999999995,0.78195113812475936,"+",21,20,23,21.3397222222222,0.37244841423877845,158.69280000000001,-32.514400000000002,4.67,4.63,4.0000000000000036E-2,{"$f":"+VLOOKUP(W416,Data!$E$5:$F$32,2)","v":0.05},-9.9999999999999672E-3,"A2Vs","A2",{"$f":"+DEGREES(ACOS(SIN(Index!$H$6)*SIN(Base!N416)+COS(Index!$H$6)*COS(Base!N416)*COS(Index!$H$3-Base!H416)))","v":73.541693726564418}]
["HD 18519J","02 59 12,72536","+21 20 25,5575",2,59,12.72536,44.803022333333331,0.78196025456121909,"+",21,20,25.557500000000001,21.340432638888899,0.37246081334867337,158.69280000000001,-32.513500000000001,4.71,4.66,4.9999999999999822E-2,{"$f":"+VLOOKUP(W417,Data!$E$5:$F$32,2)","v":0.05},-1.8041124150158794E-16,"A2V+,,,","A2",{"$f":"+DEGREES(ACOS(SIN(Index!$H$6)*SIN(Base!N417)+COS(Index!$H$6)*COS(Base!N417)*COS(Index!$H$3-Base!H417)))","v":73.542084323468373}]
["HD 18520 ","02 59 12,680 "," +01 20 25,38    ",2,59,12.68,44.802833333333332,0.78195695588893277,"+",1,20,25.38,1.3403833333333299,2.3394102405523268E-2,158.6926,-32.5137,4.67,4.63,4.0000000000000036E-2,{"$f":"+VLOOKUP(W418,Data!$E$5:$F$32,2)","v":0.05},-9.9999999999999672E-3,"A2Vs","A2",{"$f":"+DEGREES(ACOS(SIN(Index!$H$6)*SIN(Base!N418)+COS(Index!$H$6)*COS(Base!N418)*COS(Index!$H$3-Base!H418)))","v":77.066243887383749}]
["HD 18537 ","03 00 52,21297","+52 21 06,2222",3,0,52.212969999999999,45.217554041666666,0.78919519772555258,"+",52,21,6.2222,52.351728388888901,0.91371002949589775,142.1096,-5.6336000000000004,5.1959999999999997,5.2530000000000001,-5.7000000000000384E-2,{"$f":"+VLOOKUP(W419,Data!$E$5:$F$32,2)","v":-0.13},7.2999999999999621E-2,"B7V","B7",{"$f":"+DEGREES(ACOS(SIN(Index!$H$6)*SIN(Base!N419)+COS(Index!$H$6)*COS(Base!N419)*COS(Index!$H$3-Base!H419)))","v":72.39303304240471}]
["HD 185507","19 39 11,64246","+05 23 51,9797",19,39,11.64246,294.79851024999999,5.1452046338367516,"+",5,23,51.979700000000001,5.3977721388888904,9.4208896096027797E-2,43.267299999999999,-8.0710999999999995,5.1760000000000002,5.1779999999999999,-1.9999999999997797E-3,{"$f":"+VLOOKUP(W420,Data!$E$5:$F$32,2)","v":-0.2},0.19800000000000023,"B3V+,,,","B3",{"$f":"+DEGREES(ACOS(SIN(Index!$H$6)*SIN(Base!N420)+COS(Index!$H$6)*COS(Base!N420)*COS(Index!$H$3-Base!H420)))","v":33.311693789446004}]
["HD 185936","19 41 05,52831","+13 48 56,4502",19,41,5.5283100000000003,295.27303462500004,5.153486646561471,"+",13,48,56.450200000000002,13.8156806111111,0.24112911506783097,50.908499999999997,-4.4100999999999999,5.907,5.9880000000000004,-8.1000000000000405E-2,{"$f":"+VLOOKUP(W421,Data!$E$5:$F$32,2)","v":-0.16},7.8999999999999598E-2,"B5V","B5",{"$f":"+DEGREES(ACOS(SIN(Index!$H$6)*SIN(Base!N421)+COS(Index!$H$6)*COS(Base!N421)*COS(Index!$H$3-Base!H421)))","v":31.623110052008379}]
["HD 18623 ","02 58 16,408"," -00 18 16,84    ",2,58,16.408000000000001,44.56836666666667,0.77786474056942345,"-",0,18,16.84,-0.30467777777777799,-5.3176303798818381E-3,247.85429999999999,-60.734099999999998,4.4000000000000004,4.3,0.10000000000000053,{"$f":"+VLOOKUP(W422,Data!$E$5:$F$32,2)","v":0.02},8.0000000000000529E-2,"A1V","A1",{"$f":"+DEGREES(ACOS(SIN(Index!$H$6)*SIN(Base!N422)+COS(Index!$H$6)*COS(Base!N422)*COS(Index!$H$3-Base!H422)))","v":77.20311185570182}]
["HD 18633 ","02 59 41,15893","-02 27 53,8380",2,59,41.158929999999998,44.921495541666673,0.78402800212203705,"-",2,27,53.838000000000001,-2.4649549999999998,-4.3021580663496824E-2,179.67509999999999,-50.638100000000001,5.48,5.55,-6.9999999999999396E-2,{"$f":"+VLOOKUP(W423,Data!$E$5:$F$32,2)","v":-7.0000000000000007E-2},6.106226635438361E-16,"B9,5V","B9,5",{"$f":"+DEGREES(ACOS(SIN(Index!$H$6)*SIN(Base!N423)+COS(Index!$H$6)*COS(Base!N423)*COS(Index!$H$3-Base!H423)))","v":78.041689472680972}]
["HD 186500","19 46 01,21689","-31 54 30,8573",19,46,1.21689,296.505070375,5.1749897269012477,"-",31,54,30.857299999999999,-31.908571472222199,-0.55690963179821174,8.2507000000000001,-24.787400000000002,5.532,5.5140000000000002,1.7999999999999794E-2,{"$f":"+VLOOKUP(W424,Data!$E$5:$F$32,2)","v":-0.11},0.12799999999999978,"B8V","B8",{"$f":"+DEGREES(ACOS(SIN(Index!$H$6)*SIN(Base!N424)+COS(Index!$H$6)*COS(Base!N424)*COS(Index!$H$3-Base!H424)))","v":53.656654634377787}]
["HD 187077","19 47 23,35"," +18 32 03,5      ",19,47,23.35,296.84729166666671,5.1809626152112598,"+",18,32,3.5,18.534305555555601,0.32348465651512204,55.767099999999999,-3.3837000000000002,5.19,3.78,1.4100000000000006,{"$f":"+VLOOKUP(W425,Data!$E$5:$F$32,2)","v":-7.0000000000000007E-2},1.4800000000000006,"B9,5V","B9,5",{"$f":"+DEGREES(ACOS(SIN(Index!$H$6)*SIN(Base!N425)+COS(Index!$H$6)*COS(Base!N425)*COS(Index!$H$3-Base!H425)))","v":30.313441641681415}]
["HD 187235","19 47 27,78001","+38 24 27,4111",19,47,27.780010000000001,296.86575004166673,5.181284774629578,"+",38,24,27.411100000000001,38.407614194444399,0.67033932552876441,72.994100000000003,6.5742000000000003,5.7389999999999999,5.8259999999999996,-8.6999999999999744E-2,{"$f":"+VLOOKUP(W426,Data!$E$5:$F$32,2)","v":-0.11},2.3000000000000256E-2,"B8Vn","B8",{"$f":"+DEGREES(ACOS(SIN(Index!$H$6)*SIN(Base!N426)+COS(Index!$H$6)*COS(Base!N426)*COS(Index!$H$3-Base!H426)))","v":37.629593329128461}]
["HD 187362","19 48 58,65978","+19 08 31,3516",19,48,58.659779999999998,297.24441575000003,5.1878937380043908,"+",19,8,31.351600000000001,19.142042111111099,0.33409166039429489,56.482599999999998,-3.4028999999999998,5.0999999999999996,5,9.9999999999999645E-2,{"$f":"+VLOOKUP(W427,Data!$E$5:$F$32,2)","v":0.08},1.9999999999999643E-2,"A3V","A3",{"$f":"+DEGREES(ACOS(SIN(Index!$H$6)*SIN(Base!N427)+COS(Index!$H$6)*COS(Base!N427)*COS(Index!$H$3-Base!H427)))","v":30.018110066537442}]
["HD 187642","19 50 46,99855","+08 52 05,9563",19,50,46.998550000000002,297.69582729166666,5.1957723556879767,"+",8,52,5.9562999999999997,8.8683211944444391,0.15478140396745171,47.744100000000003,-8.9092000000000002,0.99,0.77,0.21999999999999997,{"$f":"+VLOOKUP(W428,Data!$E$5:$F$32,2)","v":0.2},1.9999999999999962E-2,"A7V","A7",{"$f":"+DEGREES(ACOS(SIN(Index!$H$6)*SIN(Base!N428)+COS(Index!$H$6)*COS(Base!N428)*COS(Index!$H$3-Base!H428)))","v":29.755285330920177}]
["HD 187811","19 51 04,10821","+22 36 36,1732",19,51,4.1082099999999997,297.76711754166672,5.1970166052750475,"+",22,36,36.173200000000001,22.610048111111102,0.39461978357321342,59.723500000000001,-2.0663,4.75,4.8929999999999998,-0.14299999999999979,{"$f":"+VLOOKUP(W429,Data!$E$5:$F$32,2)","v":-0.24},9.7000000000000197E-2,"B2,5Ve","B2,5",{"$f":"+DEGREES(ACOS(SIN(Index!$H$6)*SIN(Base!N429)+COS(Index!$H$6)*COS(Base!N429)*COS(Index!$H$3-Base!H429)))","v":30.204230517226293}]
["HD 188293","19 54 37,65152","-08 13 38,2390",19,54,37.651519999999998,298.65688133333327,5.2125459130046581,"-",8,13,38.238999999999997,-8.2272886111111099,-0.1435932747757202,32.661200000000001,-17.760899999999999,5.63,5.71,-8.0000000000000071E-2,{"$f":"+VLOOKUP(W430,Data!$E$5:$F$32,2)","v":-0.13},4.9999999999999933E-2,"B7Vn","B7",{"$f":"+DEGREES(ACOS(SIN(Index!$H$6)*SIN(Base!N430)+COS(Index!$H$6)*COS(Base!N430)*COS(Index!$H$3-Base!H430)))","v":35.651348551824881}]
["HD 188665","19 53 17,37765","+57 31 24,5291",19,53,17.377649999999999,298.32240687499996,5.2067082324429173,"+",57,31,24.5291,57.523480305555601,1.003974128538059,90.551100000000005,14.9077,5.0090000000000003,5.1319999999999997,-0.12299999999999933,{"$f":"+VLOOKUP(W431,Data!$E$5:$F$32,2)","v":-0.16},3.7000000000000671E-2,"B5V","B5",{"$f":"+DEGREES(ACOS(SIN(Index!$H$6)*SIN(Base!N431)+COS(Index!$H$6)*COS(Base!N431)*COS(Index!$H$3-Base!H431)))","v":50.154108349027823}]
["HD 18883 ","03 02 22,51810","+04 21 10,3939",3,2,22.5181,45.593825416666661,0.79576237210030876,"+",4,21,10.3939,4.3528871944444401,7.5972213510954109E-2,173.0831,-45.387900000000002,5.508,5.6070000000000002,-9.9000000000000199E-2,{"$f":"+VLOOKUP(W432,Data!$E$5:$F$32,2)","v":-0.13},3.0999999999999805E-2,"B7V","B7",{"$f":"+DEGREES(ACOS(SIN(Index!$H$6)*SIN(Base!N432)+COS(Index!$H$6)*COS(Base!N432)*COS(Index!$H$3-Base!H432)))","v":77.195858644787236}]
["HD 188899","19 57 57,03129","-15 29 29,3554",19,57,57.031289999999998,299.48763037499998,5.22704521903953,"-",15,29,29.355399999999999,-15.491487611111101,-0.27037746484579961,26.018000000000001,-21.5441,5.07,5.0110000000000001,5.9000000000000163E-2,{"$f":"+VLOOKUP(W433,Data!$E$5:$F$32,2)","v":0.05},9.0000000000001606E-3,"A2V","A2",{"$f":"+DEGREES(ACOS(SIN(Index!$H$6)*SIN(Base!N433)+COS(Index!$H$6)*COS(Base!N433)*COS(Index!$H$3-Base!H433)))","v":39.662284067647711}]
["HD 189037","19 55 37,78622","+52 26 20,2116",19,55,37.78622,298.90744258333336,5.2169190317950722,"+",52,26,20.211600000000001,52.438947666666699,0.91523229306433185,86.104399999999998,12.209,5.04,4.92,0.12000000000000011,{"$f":"+VLOOKUP(W434,Data!$E$5:$F$32,2)","v":0.12},1.1102230246251565E-16,"A4Vn","A4",{"$f":"+DEGREES(ACOS(SIN(Index!$H$6)*SIN(Base!N434)+COS(Index!$H$6)*COS(Base!N434)*COS(Index!$H$3-Base!H434)))","v":46.028603948840853}]
["HD 189178","19 57 13,86799","+40 22 04,1734",19,57,13.867990000000001,299.30778329166662,5.2239062952852535,"+",40,22,4.1734,40.367825944444398,0.7045514746025443,75.653899999999993,5.9314,5.3639999999999999,5.4530000000000003,-8.9000000000000412E-2,{"$f":"+VLOOKUP(W435,Data!$E$5:$F$32,2)","v":-0.16},7.0999999999999591E-2,"B5V","B5",{"$f":"+DEGREES(ACOS(SIN(Index!$H$6)*SIN(Base!N435)+COS(Index!$H$6)*COS(Base!N435)*COS(Index!$H$3-Base!H435)))","v":37.320138473917119}]
["HD 189395","19 58 37,98164","+30 59 01,1943",19,58,37.981639999999999,299.65825683333333,5.2300232125284634,"+",30,59,1.1942999999999999,30.9836650833333,0.54076697003936935,67.765799999999999,0.81489999999999996,5.4470000000000001,5.5060000000000002,-5.9000000000000163E-2,{"$f":"+VLOOKUP(W436,Data!$E$5:$F$32,2)","v":-7.0000000000000007E-2},1.0999999999999843E-2,"B9Vn","B9",{"$f":"+DEGREES(ACOS(SIN(Index!$H$6)*SIN(Base!N436)+COS(Index!$H$6)*COS(Base!N436)*COS(Index!$H$3-Base!H436)))","v":31.734317439530503}]
["HD 189944","20 01 44,71103","+24 48 01,5184",20,1,44.711030000000001,300.43629595833335,5.2436025569690496,"+",24,48,1.5184,24.8004217777778,0.4328490159055281,62.866300000000003,-3.0213999999999999,5.7389999999999999,5.8719999999999999,-0.13300000000000001,{"$f":"+VLOOKUP(W437,Data!$E$5:$F$32,2)","v":-0.18},4.6999999999999986E-2,"B4V","B4",{"$f":"+DEGREES(ACOS(SIN(Index!$H$6)*SIN(Base!N437)+COS(Index!$H$6)*COS(Base!N437)*COS(Index!$H$3-Base!H437)))","v":28.515549694723436}]
["HD 19065 ","03 07 18,99782","+64 03 27,3379",3,7,18.997820000000001,46.829157583333334,0.81732298576443752,"+",64,3,27.337900000000001,64.057593861111101,1.118015923781696,137.13560000000001,4.9992999999999999,5.8650000000000002,5.8849999999999998,-1.9999999999999574E-2,{"$f":"+VLOOKUP(W438,Data!$E$5:$F$32,2)","v":-7.0000000000000007E-2},5.0000000000000433E-2,"B9V","B9",{"$f":"+DEGREES(ACOS(SIN(Index!$H$6)*SIN(Base!N438)+COS(Index!$H$6)*COS(Base!N438)*COS(Index!$H$3-Base!H438)))","v":73.889586696551831}]
["HD 190993","20 06 53,40787","+23 36 51,9294",20,6,53.407870000000003,301.72253279166665,5.2660516246711415,"+",23,36,51.929400000000001,23.614424833333299,0.41214946430637928,62.483699999999999,-4.6452999999999998,4.9039999999999999,5.0640000000000001,-0.16000000000000014,{"$f":"+VLOOKUP(W439,Data!$E$5:$F$32,2)","v":-0.2},3.9999999999999869E-2,"B3V","B3",{"$f":"+DEGREES(ACOS(SIN(Index!$H$6)*SIN(Base!N439)+COS(Index!$H$6)*COS(Base!N439)*COS(Index!$H$3-Base!H439)))","v":27.009506783574203}]
["HD 19107 ","03 04 16,51707","-07 36 03,0859",3,4,16.51707,46.068821125000007,0.8040526111435683,"-",7,36,3.0859000000000001,-7.6008571944444396,-0.13265998401695431,187.30359999999999,-52.977699999999999,5.46,5.3,0.16000000000000014,{"$f":"+VLOOKUP(W440,Data!$E$5:$F$32,2)","v":0.27},-0.10999999999999988,"A8V","A8",{"$f":"+DEGREES(ACOS(SIN(Index!$H$6)*SIN(Base!N440)+COS(Index!$H$6)*COS(Base!N440)*COS(Index!$H$3-Base!H440)))","v":80.383182354386733}]
["HD 19134J","03 05 26,68819","+25 15 18,6257",3,5,26.688189999999999,46.361200791666668,0.809155598992785,"+",25,15,18.625699999999998,25.2551738055556,0.44078593607037142,157.5333,-28.466999999999999,5.43,5.46,-3.0000000000000249E-2,{"$f":"+VLOOKUP(W441,Data!$E$5:$F$32,2)","v":-0.13},9.9999999999999756E-2,"B7Vn","B7",{"$f":"+DEGREES(ACOS(SIN(Index!$H$6)*SIN(Base!N441)+COS(Index!$H$6)*COS(Base!N441)*COS(Index!$H$3-Base!H441)))","v":74.475295208885754}]
["HD 191610","20 09 25,61918","+36 50 22,6397",20,9,25.61918,302.35674658333335,5.2771207434972824,"+",36,50,22.639700000000001,36.839622138888899,0.64297270151420705,73.9148,2.0440999999999998,4.7930000000000001,4.9290000000000003,-0.13600000000000012,{"$f":"+VLOOKUP(W442,Data!$E$5:$F$32,2)","v":-0.24},0.10399999999999987,"B2,5Ve","B2,5",{"$f":"+DEGREES(ACOS(SIN(Index!$H$6)*SIN(Base!N442)+COS(Index!$H$6)*COS(Base!N442)*COS(Index!$H$3-Base!H442)))","v":33.22562451614067}]
["HD 192044","20 12 00,70129","+26 28 43,7037",20,12,0.70128999999999997,303.00292204166664,5.2883986327907815,"+",26,28,43.703699999999998,26.478806583333299,0.46214235687791633,65.529300000000006,-4.0730000000000004,5.7969999999999997,5.9029999999999996,-0.10599999999999987,{"$f":"+VLOOKUP(W443,Data!$E$5:$F$32,2)","v":-0.13},2.4000000000000132E-2,"B7Ve","B7",{"$f":"+DEGREES(ACOS(SIN(Index!$H$6)*SIN(Base!N443)+COS(Index!$H$6)*COS(Base!N443)*COS(Index!$H$3-Base!H443)))","v":27.045508659039257}]
["HD 192425","20 14 16,61886","+15 11 51,3923",20,14,16.618860000000002,303.56924524999999,5.2982828374066564,"+",15,11,51.392299999999999,15.1976089722222,0.26524831499590884,56.241,-10.613799999999999,5.0129999999999999,4.9470000000000001,6.5999999999999837E-2,{"$f":"+VLOOKUP(W444,Data!$E$5:$F$32,2)","v":0.05},1.5999999999999834E-2,"A2V","A2",{"$f":"+DEGREES(ACOS(SIN(Index!$H$6)*SIN(Base!N444)+COS(Index!$H$6)*COS(Base!N444)*COS(Index!$H$3-Base!H444)))","v":23.607398469443496}]
["HD 192640","20 14 32,03331","+36 48 22,6921",20,14,32.03331,303.63347212500003,5.2994038078436745,"+",36,48,22.6921,36.806303361111098,0.64239117913924415,74.448099999999997,1.1715,5.0960000000000001,4.9550000000000001,0.14100000000000001,{"$f":"+VLOOKUP(W445,Data!$E$5:$F$32,2)","v":0.05},9.1000000000000011E-2,"A2V","A2",{"$f":"+DEGREES(ACOS(SIN(Index!$H$6)*SIN(Base!N445)+COS(Index!$H$6)*COS(Base!N445)*COS(Index!$H$3-Base!H445)))","v":32.433221892301923}]
["HD 192685","20 15 15,89542","+25 35 31,0549",20,15,15.89542,303.81623091666665,5.3025935504952235,"+",25,35,31.0549,25.591959694444402,0.44666395870573677,65.187600000000003,-5.1704999999999997,4.5919999999999996,4.7590000000000003,-0.1670000000000007,{"$f":"+VLOOKUP(W446,Data!$E$5:$F$32,2)","v":-0.2},3.2999999999999308E-2,"B3V","B3",{"$f":"+DEGREES(ACOS(SIN(Index!$H$6)*SIN(Base!N446)+COS(Index!$H$6)*COS(Base!N446)*COS(Index!$H$3-Base!H446)))","v":26.00227898194192}]
["HD 19275 ","03 11 56,26910","+74 23 37,1680",3,11,56.269100000000002,47.984454583333324,0.83748672225285026,"+",74,23,37.167999999999999,74.393657777777804,1.2984142708241107,132.1147,14.0839,4.8879999999999999,4.84,4.8000000000000043E-2,{"$f":"+VLOOKUP(W447,Data!$E$5:$F$32,2)","v":0.05},-1.9999999999999601E-3,"A2Vnn","A2",{"$f":"+DEGREES(ACOS(SIN(Index!$H$6)*SIN(Base!N447)+COS(Index!$H$6)*COS(Base!N447)*COS(Index!$H$3-Base!H447)))","v":75.221326328170505}]
["HD 193322","20 18 06,98820","+40 43 55,5001",20,18,6.9882,304.52911750000004,5.3150357685676832,"+",40,43,55.500100000000003,40.732083361111101,0.71090896584818719,78.098600000000005,2.7806999999999999,5.94,5.82,0.12000000000000011,{"$f":"+VLOOKUP(W448,Data!$E$5:$F$32,2)","v":-0.04},0.16000000000000011,"O9V","O9",{"$f":"+DEGREES(ACOS(SIN(Index!$H$6)*SIN(Base!N448)+COS(Index!$H$6)*COS(Base!N448)*COS(Index!$H$3-Base!H448)))","v":34.701373182666899}]
["HD 193369","20 18 28,65535","+36 59 59,2927",20,18,28.655349999999999,304.6193972916667,5.3166114481802813,"+",36,59,59.292700000000004,36.9998035277778,0.64576839415073584,75.049099999999996,0.62560000000000004,5.6260000000000003,5.5730000000000004,5.2999999999999936E-2,{"$f":"+VLOOKUP(W449,Data!$E$5:$F$32,2)","v":0.05},2.9999999999999333E-3,"A2V","A2",{"$f":"+DEGREES(ACOS(SIN(Index!$H$6)*SIN(Base!N449)+COS(Index!$H$6)*COS(Base!N449)*COS(Index!$H$3-Base!H449)))","v":31.986065718686859}]
["HD 19356 ","03 08 10,13245","+40 57 20,3280",3,8,10.13245,47.042218541666664,0.82104160099480861,"+",40,57,20.327999999999999,40.955646666666702,0.71481088161677453,148.97649999999999,-14.9003,2.0699999999999998,2.12,-5.0000000000000266E-2,{"$f":"+VLOOKUP(W450,Data!$E$5:$F$32,2)","v":-0.11},5.9999999999999734E-2,"B8V","B8",{"$f":"+DEGREES(ACOS(SIN(Index!$H$6)*SIN(Base!N450)+COS(Index!$H$6)*COS(Base!N450)*COS(Index!$H$3-Base!H450)))","v":73.721687913986031}]
["HD 193571","20 22 27,50366","-42 02 58,3648",20,22,27.50366,305.61459858333336,{"$f":"+RADIANS(G451)","v":5.3339809874399648},"-",42,2,58.364800000000002,{"$f":"VALUE(CONCATENATE(I451,+J451+K451/60+L451/3600))","v":-42.049545777777801},{"$f":"+RADIANS(M451)","v":-0.73390302279030251},358.74599999999998,-34.126899999999999,5.59,5.58,9.9999999999997868E-3,{"$f":"+VLOOKUP(W451,Data!$E$5:$F$32,2)","v":-0.01},{"$f":"+S451-T451","v":1.9999999999999789E-2},"A0V",{"$f":"IF(MID(V451,3,1)<>\",\",LEFT(V451,2),LEFT(V451,4))","v":"A0"},{"$f":"+DEGREES(ACOS(SIN(Index!$H$6)*SIN(Base!N451)+COS(Index!$H$6)*COS(Base!N451)*COS(Index!$H$3-Base!H451)))","v":58.347517534925544}]
["HD 193592","20 18 24,75071","+55 23 49,5490",20,18,24.750710000000002,304.60312795833335,5.3163274947465098,"+",55,23,49.548999999999999,55.397096944444399,0.96686173772704498,90.447699999999998,10.8414,5.87,5.76,0.11000000000000032,{"$f":"+VLOOKUP(W452,Data!$E$5:$F$32,2)","v":0.05},6.0000000000000317E-2,"A2Vs","A2",{"$f":"+DEGREES(ACOS(SIN(Index!$H$6)*SIN(Base!N452)+COS(Index!$H$6)*COS(Base!N452)*COS(Index!$H$3-Base!H452)))","v":46.415219000026433}]
["HD 193807","20 23 53,17666","-42 25 22,3376",20,23,53.176659999999998,305.97156941666663,5.3402113038152184,"-",42,25,22.337599999999998,-42.422871555555602,-0.74041878679509376,358.3383,-34.436300000000003,5.84,5.6390000000000002,0.20099999999999962,{"$f":"+VLOOKUP(W453,Data!$E$5:$F$32,2)","v":0.15},5.0999999999999629E-2,"A5V","A5",{"$f":"+DEGREES(ACOS(SIN(Index!$H$6)*SIN(Base!N453)+COS(Index!$H$6)*COS(Base!N453)*COS(Index!$H$3-Base!H453)))","v":58.571683624393849}]
["HD 193964","20 19 36,72026","+62 15 26,8970",20,19,36.720260000000003,304.90300108333332,5.3215612681160041,"+",62,15,26.896999999999998,62.257471388888902,1.0865978597022785,96.483400000000003,14.364000000000001,5.6669999999999998,5.7119999999999997,-4.4999999999999929E-2,{"$f":"+VLOOKUP(W454,Data!$E$5:$F$32,2)","v":-7.0000000000000007E-2},2.5000000000000078E-2,"B9V","B9",{"$f":"+DEGREES(ACOS(SIN(Index!$H$6)*SIN(Base!N454)+COS(Index!$H$6)*COS(Base!N454)*COS(Index!$H$3-Base!H454)))","v":52.263345147089403}]
["HD 19400 ","03 02 15,44844","-71 54 08,8369",3,2,15.44844,45.5643685,0.79524825191698989,"-",71,54,8.8369,-71.902454694444401,-1.2549345746841081,289.928,-41.763599999999997,5.375,5.4969999999999999,-0.12199999999999989,{"$f":"+VLOOKUP(W455,Data!$E$5:$F$32,2)","v":-0.2},7.8000000000000125E-2,"B3V+,,,","B3",{"$f":"+DEGREES(ACOS(SIN(Index!$H$6)*SIN(Base!N455)+COS(Index!$H$6)*COS(Base!N455)*COS(Index!$H$3-Base!H455)))","v":98.264315429827477}]
["HD 194335","20 23 44,36939","+37 28 35,2136",20,23,44.369390000000003,305.93487245833336,5.339570821066836,"+",37,28,35.2136,37.476448222222203,0.654087413430953,76.036500000000004,3.49E-2,5.6890000000000001,5.859,-0.16999999999999993,{"$f":"+VLOOKUP(W456,Data!$E$5:$F$32,2)","v":-0.24},7.0000000000000062E-2,"B2Vne","B2",{"$f":"+DEGREES(ACOS(SIN(Index!$H$6)*SIN(Base!N456)+COS(Index!$H$6)*COS(Base!N456)*COS(Index!$H$3-Base!H456)))","v":31.58041610576381}]
["HD 194636","20 27 19,21088","-18 12 42,1980",20,27,19.21088,306.83004533333332,5.3551945351101287,"-",18,12,42.198,-18.211721666666701,-0.31785450554012318,26.2182,-29.076000000000001,5.18,5.25,-7.0000000000000284E-2,{"$f":"+VLOOKUP(W457,Data!$E$5:$F$32,2)","v":-0.18},0.10999999999999971,"B4V","B4",{"$f":"+DEGREES(ACOS(SIN(Index!$H$6)*SIN(Base!N457)+COS(Index!$H$6)*COS(Base!N457)*COS(Index!$H$3-Base!H457)))","v":37.110335419170291}]
["HD 195050","20 27 34,25793","+38 26 25,1912",20,27,34.257930000000002,306.89274137499996,5.3562887874651794,"+",38,26,25.191199999999998,38.440330888888901,0.67091033956718993,77.259600000000006,-2.3900000000000001E-2,5.7039999999999997,5.6360000000000001,6.7999999999999616E-2,{"$f":"+VLOOKUP(W458,Data!$E$5:$F$32,2)","v":0.08},-1.2000000000000385E-2,"A3V","A3",{"$f":"+DEGREES(ACOS(SIN(Index!$H$6)*SIN(Base!N458)+COS(Index!$H$6)*COS(Base!N458)*COS(Index!$H$3-Base!H458)))","v":31.779376841398957}]
["HD 195094","20 29 53,91117","-18 34 59,4803",20,29,53.911169999999998,307.47462987500006,5.366444657669672,"-",18,34,59.4803,-18.583188972222199,-0.32433783308557845,26.076599999999999,-29.780899999999999,5.984,5.9059999999999997,7.8000000000000291E-2,{"$f":"+VLOOKUP(W459,Data!$E$5:$F$32,2)","v":0.02},5.8000000000000287E-2,"A1V","A1",{"$f":"+DEGREES(ACOS(SIN(Index!$H$6)*SIN(Base!N459)+COS(Index!$H$6)*COS(Base!N459)*COS(Index!$H$3-Base!H459)))","v":37.067345630547692}]
["HD 195554","20 29 27,11087","+56 04 05,4813",20,29,27.110869999999998,307.36296195833336,5.3644956848549956,"+",56,4,5.4813000000000001,56.068189250000003,0.97857450804379009,91.891499999999994,9.9207000000000001,5.8380000000000001,5.8890000000000002,-5.1000000000000156E-2,{"$f":"+VLOOKUP(W460,Data!$E$5:$F$32,2)","v":-7.0000000000000007E-2},1.899999999999985E-2,"B9Vne","B9",{"$f":"+DEGREES(ACOS(SIN(Index!$H$6)*SIN(Base!N460)+COS(Index!$H$6)*COS(Base!N460)*COS(Index!$H$3-Base!H460)))","v":46.218004893577763}]
["HD 196180","20 35 18,53563","+14 40 27,1675",20,35,18.535630000000001,308.82723179166663,5.3900520145842892,"+",14,40,27.1675,14.6742131944444,0.25611333538264963,58.633800000000001,-15.157500000000001,4.7679999999999998,4.6639999999999997,0.10400000000000009,{"$f":"+VLOOKUP(W461,Data!$E$5:$F$32,2)","v":0.08},2.4000000000000091E-2,"A3V","A3",{"$f":"+DEGREES(ACOS(SIN(Index!$H$6)*SIN(Base!N461)+COS(Index!$H$6)*COS(Base!N461)*COS(Index!$H$3-Base!H461)))","v":18.504190558638154}]
["HD 196504","20 37 04,67254","+26 27 43,0087",20,37,4.6725399999999997,309.26946891666665,5.397770508490094,"+",26,27,43.008699999999997,26.461946861111102,0.46184809921416736,68.725999999999999,-8.6963000000000008,5.5389999999999997,5.5890000000000004,-5.0000000000000711E-2,{"$f":"+VLOOKUP(W462,Data!$E$5:$F$32,2)","v":-7.0000000000000007E-2},1.9999999999999296E-2,"B9V","B9",{"$f":"+DEGREES(ACOS(SIN(Index!$H$6)*SIN(Base!N462)+COS(Index!$H$6)*COS(Base!N462)*COS(Index!$H$3-Base!H462)))","v":22.196520785382202}]
["HD 196544","20 37 49,11939","+11 22 39,6356",20,37,49.119390000000003,309.45466412500002,5.4010027746344278,"+",11,22,39.635599999999997,11.377676555555601,0.19857791712141276,56.130699999999997,-17.496600000000001,5.4790000000000001,5.4279999999999999,5.1000000000000156E-2,{"$f":"+VLOOKUP(W463,Data!$E$5:$F$32,2)","v":0.05},1.0000000000001535E-3,"A2V","A2",{"$f":"+DEGREES(ACOS(SIN(Index!$H$6)*SIN(Base!N463)+COS(Index!$H$6)*COS(Base!N463)*COS(Index!$H$3-Base!H463)))","v":17.943196190047107}]
["HD 196724","20 38 31,33888","+21 12 04,2467",20,38,31.33888,309.63057866666668,5.4040730625886475,"+",21,12,4.2466999999999997,21.201179638888899,0.37003039000539373,64.594700000000003,-12.0543,4.8,4.82,-2.0000000000000462E-2,{"$f":"+VLOOKUP(W464,Data!$E$5:$F$32,2)","v":-0.01},-1.0000000000000462E-2,"A0V","A0",{"$f":"+DEGREES(ACOS(SIN(Index!$H$6)*SIN(Base!N464)+COS(Index!$H$6)*COS(Base!N464)*COS(Index!$H$3-Base!H464)))","v":19.323708225567522}]
["HD 196775","20 39 04,96819","+15 50 17,5206",20,39,4.9681899999999999,309.77070079166663,5.4065186550247875,"+",15,50,17.520600000000002,15.8382001666667,0.27642874049824856,60.161799999999999,-15.252700000000001,5.82,5.98,-0.16000000000000014,{"$f":"+VLOOKUP(W465,Data!$E$5:$F$32,2)","v":-0.2},3.9999999999999869E-2,"B3V","B3",{"$f":"+DEGREES(ACOS(SIN(Index!$H$6)*SIN(Base!N465)+COS(Index!$H$6)*COS(Base!N465)*COS(Index!$H$3-Base!H465)))","v":17.721983483668055}]
["HD 19698 ","03 10 38,79281","+11 52 21,4458",3,10,38.792810000000003,47.661636708333333,0.831852487449809,"+",11,52,21.445799999999998,11.8726238333333,0.20721637674241658,168.39840000000001,-38.4146,5.907,5.9649999999999999,-5.7999999999999829E-2,{"$f":"+VLOOKUP(W466,Data!$E$5:$F$32,2)","v":-0.11},5.2000000000000171E-2,"B8V","B8",{"$f":"+DEGREES(ACOS(SIN(Index!$H$6)*SIN(Base!N466)+COS(Index!$H$6)*COS(Base!N466)*COS(Index!$H$3-Base!H466)))","v":77.738188045669588}]
["HD 197511","20 42 12,62838","+50 20 24,0907",20,42,12.62838,310.55261825000002,5.4201656891515313,"+",50,20,24.090699999999998,50.340025194444401,0.8785991851799535,88.371499999999997,4.9943999999999997,5.298,5.4039999999999999,-0.10599999999999987,{"$f":"+VLOOKUP(W467,Data!$E$5:$F$32,2)","v":-0.24},0.13400000000000012,"B2V","B2",{"$f":"+DEGREES(ACOS(SIN(Index!$H$6)*SIN(Base!N467)+COS(Index!$H$6)*COS(Base!N467)*COS(Index!$H$3-Base!H467)))","v":40.252975679572828}]
["HD 197725","20 46 09,98789","-21 30 50,5188",20,46,9.9878900000000002,311.54161620833332,5.4374269598199492,"-",21,30,50.518799999999999,-21.514033000000001,-0.37549071123271321,24.3767,-34.375300000000003,5.9749999999999996,5.9130000000000003,6.1999999999999389E-2,{"$f":"+VLOOKUP(W468,Data!$E$5:$F$32,2)","v":0.02},4.1999999999999385E-2,"A1V","A1",{"$f":"+DEGREES(ACOS(SIN(Index!$H$6)*SIN(Base!N468)+COS(Index!$H$6)*COS(Base!N468)*COS(Index!$H$3-Base!H468)))","v":37.669185369355198}]
["HD 197950","20 43 11,01986","+66 39 26,8038",20,43,11.01986,310.79591608333334,5.4244120374061655,"+",66,39,26.803799999999999,66.657445499999994,1.1633918949436777,101.71680000000001,14.682,5.81,5.6,0.20999999999999996,{"$f":"+VLOOKUP(W469,Data!$E$5:$F$32,2)","v":0.27},-6.0000000000000053E-2,"A8V","A8",{"$f":"+DEGREES(ACOS(SIN(Index!$H$6)*SIN(Base!N469)+COS(Index!$H$6)*COS(Base!N469)*COS(Index!$H$3-Base!H469)))","v":55.213850368964145}]
["HD 198001","20 47 40,55260","-09 29 44,7877",20,47,40.552599999999998,311.91896916666673,5.4440130113850076,"-",9,29,44.787700000000001,-9.4957743611111098,-0.16573252762784985,37.680599999999998,-30.104900000000001,3.7829999999999999,3.77,1.2999999999999901E-2,{"$f":"+VLOOKUP(W470,Data!$E$5:$F$32,2)","v":0.02},-7.0000000000000999E-3,"A1,5V","A1,5",{"$f":"+DEGREES(ACOS(SIN(Index!$H$6)*SIN(Base!N470)+COS(Index!$H$6)*COS(Base!N470)*COS(Index!$H$3-Base!H470)))","v":27.146188415423016}]
["HD 198069","20 47 48,33256","+06 00 29,5472",20,47,48.332560000000001,311.95138566666668,5.4445787860419799,"+",6,0,29.5472,6.0082075555555603,0.10486300398764466,52.776800000000001,-22.495899999999999,5.6,5.6120000000000001,-1.2000000000000455E-2,{"$f":"+VLOOKUP(W471,Data!$E$5:$F$32,2)","v":-0.01},-2.0000000000004545E-3,"A0V","A0",{"$f":"+DEGREES(ACOS(SIN(Index!$H$6)*SIN(Base!N471)+COS(Index!$H$6)*COS(Base!N471)*COS(Index!$H$3-Base!H471)))","v":16.934097475870693}]
["HD 198183","20 47 24,53766","+36 29 26,5737",20,47,24.537659999999999,311.85224025000002,5.4428483720828851,"+",36,29,26.573699999999999,36.490714916666697,0.6368831217024421,78.084400000000002,-4.3377999999999997,4.76,4.87,-0.11000000000000032,{"$f":"+VLOOKUP(W472,Data!$E$5:$F$32,2)","v":-0.16},4.9999999999999684E-2,"B5Ve","B5",{"$f":"+DEGREES(ACOS(SIN(Index!$H$6)*SIN(Base!N472)+COS(Index!$H$6)*COS(Base!N472)*COS(Index!$H$3-Base!H472)))","v":27.814428047749377}]
["HD 199081","20 53 14,75503","+44 23 14,1408",20,53,14.75503,313.31147929166667,5.4683168979336143,"+",44,23,14.1408,44.387261333333299,0.77470385620983429,84.903499999999994,-0.19350000000000001,4.649,4.7779999999999996,-0.12899999999999956,{"$f":"+VLOOKUP(W473,Data!$E$5:$F$32,2)","v":-0.16},3.1000000000000444E-2,"B5V","B5",{"$f":"+DEGREES(ACOS(SIN(Index!$H$6)*SIN(Base!N473)+COS(Index!$H$6)*COS(Base!N473)*COS(Index!$H$3-Base!H473)))","v":34.086251148844951}]
["HD 199095","20 42 35,23601","+82 31 52,1716",20,42,35.23601,310.64681670833335,5.4218097623997501,"+",82,31,52.171599999999998,82.531158777777804,1.4404404561584419,115.73009999999999,23.464600000000001,5.74,5.75,-9.9999999999997868E-3,{"$f":"+VLOOKUP(W474,Data!$E$5:$F$32,2)","v":-0.01},2.1337098754514727E-16,"A0V","A0",{"$f":"+DEGREES(ACOS(SIN(Index!$H$6)*SIN(Base!N474)+COS(Index!$H$6)*COS(Base!N474)*COS(Index!$H$3-Base!H474)))","v":70.247753157436847}]
["HD 199254","20 55 38,57202","+12 34 06,8099",20,55,38.572020000000002,313.91071675000001,5.478775564582814,"+",12,34,6.8098999999999998,12.5685583055556,0.21936272466082474,59.778199999999998,-20.416,5.65,5.54,0.11000000000000032,{"$f":"+VLOOKUP(W475,Data!$E$5:$F$32,2)","v":0.12},-9.9999999999996758E-3,"A4V","A4",{"$f":"+DEGREES(ACOS(SIN(Index!$H$6)*SIN(Base!N475)+COS(Index!$H$6)*COS(Base!N475)*COS(Index!$H$3-Base!H475)))","v":13.512715907726969}]
["HD 199603","20 58 41,83965","-14 28 59,2569",20,58,41.839649999999999,314.67433187499995,5.4921031627320911,"-",14,28,59.256900000000002,-14.4831269166667,-0.25277825068004833,33.639600000000002,-34.632399999999997,6.18,5.9589999999999996,0.22100000000000009,{"$f":"+VLOOKUP(W476,Data!$E$5:$F$32,2)","v":0.3},-7.8999999999999904E-2,"A9V","A9",{"$f":"+DEGREES(ACOS(SIN(Index!$H$6)*SIN(Base!N476)+COS(Index!$H$6)*COS(Base!N476)*COS(Index!$H$3-Base!H476)))","v":30.046892077980459}]
["HD 199629","20 57 10,41907","+41 10 01,6991",20,57,10.41907,314.29341279166664,5.4854548705442454,"+",41,10,1.6991000000000001,41.1671386388889,0.71850211287358823,82.909000000000006,-2.8228,3.9550000000000001,3.9390000000000001,1.6000000000000014E-2,{"$f":"+VLOOKUP(W477,Data!$E$5:$F$32,2)","v":0.02},-3.9999999999999862E-3,"A1Vne","A1",{"$f":"+DEGREES(ACOS(SIN(Index!$H$6)*SIN(Base!N477)+COS(Index!$H$6)*COS(Base!N477)*COS(Index!$H$3-Base!H477)))","v":30.876072583288884}]
["HD 19978 ","03 20 19,75768","+77 44 05,0744",3,20,19.757680000000001,50.082323666666667,0.8741014450328124,"+",77,44,5.0743999999999998,77.734742888888903,1.3567272066023599,130.66130000000001,17.158999999999999,5.649,5.4560000000000004,0.19299999999999962,{"$f":"+VLOOKUP(W478,Data!$E$5:$F$32,2)","v":0.17},2.2999999999999604E-2,"A6V","A6",{"$f":"+DEGREES(ACOS(SIN(Index!$H$6)*SIN(Base!N478)+COS(Index!$H$6)*COS(Base!N478)*COS(Index!$H$3-Base!H478)))","v":76.037959218912206}]
["HD 199955","20 58 30,03385","+50 27 42,4409",20,58,30.033850000000001,314.62514104166661,5.4912446207286241,"+",50,27,42.440899999999999,50.461789138888903,0.88072436692072553,90.111400000000003,3.0606,5.46,5.6,-0.13999999999999968,{"$f":"+VLOOKUP(W479,Data!$E$5:$F$32,2)","v":-0.16},2.0000000000000323E-2,"B5Vn","B5",{"$f":"+DEGREES(ACOS(SIN(Index!$H$6)*SIN(Base!N479)+COS(Index!$H$6)*COS(Base!N479)*COS(Index!$H$3-Base!H479)))","v":39.328946148090438}]
["HD 200120","20 59 49,55716","+47 31 15,4216",20,59,49.557160000000003,314.9564881666667,5.4970277190268932,"+",47,31,15.4216,47.520950444444402,0.82939704893261745,88.029600000000002,0.97070000000000001,4.6900000000000004,4.74,-4.9999999999999822E-2,{"$f":"+VLOOKUP(W480,Data!$E$5:$F$32,2)","v":-0.26},0.21000000000000019,"B1,5Vnne","B1,5",{"$f":"+DEGREES(ACOS(SIN(Index!$H$6)*SIN(Base!N480)+COS(Index!$H$6)*COS(Base!N480)*COS(Index!$H$3-Base!H480)))","v":36.503796823535666}]
["HD 200310","21 01 10,92841","+46 09 20,7816",21,1,10.92841,315.29553504166665,5.5029452033142396,"+",46,9,20.781600000000001,46.155772666666699,0.80557020183533712,87.154799999999994,-0.1028,5.2169999999999996,5.4169999999999998,-0.20000000000000018,{"$f":"+VLOOKUP(W481,Data!$E$5:$F$32,2)","v":-0.26},5.9999999999999831E-2,"B1Ve","B1",{"$f":"+DEGREES(ACOS(SIN(Index!$H$6)*SIN(Base!N481)+COS(Index!$H$6)*COS(Base!N481)*COS(Index!$H$3-Base!H481)))","v":35.148033524520642}]
["HD 200499","21 04 24,30132","-19 51 17,9711",21,4,24.30132,316.10125549999998,5.5170076781628339,"-",19,51,17.9711,-19.854991972222201,-0.34653498287231993,28.050899999999999,-37.860199999999999,5.0179999999999998,4.8559999999999999,0.16199999999999992,{"$f":"+VLOOKUP(W482,Data!$E$5:$F$32,2)","v":0.15},1.1999999999999927E-2,"A5V","A5",{"$f":"+DEGREES(ACOS(SIN(Index!$H$6)*SIN(Base!N482)+COS(Index!$H$6)*COS(Base!N482)*COS(Index!$H$3-Base!H482)))","v":34.447639723495257}]
["HD 200761","21 05 56,82783","-17 13 58,3021",21,5,56.827829999999999,316.48678262499999,5.5237363958498324,"-",17,13,58.302100000000003,-17.232861694444399,-0.30077017610886375,31.3127,-37.288400000000003,4.0890000000000004,4.0730000000000004,1.6000000000000014E-2,{"$f":"+VLOOKUP(W483,Data!$E$5:$F$32,2)","v":0.02},-3.9999999999999862E-3,"A1V","A1",{"$f":"+DEGREES(ACOS(SIN(Index!$H$6)*SIN(Base!N483)+COS(Index!$H$6)*COS(Base!N483)*COS(Index!$H$3-Base!H483)))","v":31.866392059360255}]
["HD 201184","21 08 33,62529","-21 11 37,2177",21,8,33.62529,317.14010537499996,5.5351390289155153,"-",21,11,37.217700000000001,-21.193671583333298,-0.36989934971552585,26.835000000000001,-39.214500000000001,5.29,5.28,9.9999999999997868E-3,{"$f":"+VLOOKUP(W484,Data!$E$5:$F$32,2)","v":-0.01},1.9999999999999789E-2,"A0V","A0",{"$f":"+DEGREES(ACOS(SIN(Index!$H$6)*SIN(Base!N484)+COS(Index!$H$6)*COS(Base!N484)*COS(Index!$H$3-Base!H484)))","v":35.391008686054953}]
["HD 201433","21 08 38,88977","+30 12 20,2935",21,8,38.889769999999999,317.16204070833334,5.5355218727047051,"+",30,12,20.293500000000002,30.205637083333301,0.52718781976666296,76.107699999999994,-11.7743,5.6109999999999998,5.6870000000000003,-7.6000000000000512E-2,{"$f":"+VLOOKUP(W485,Data!$E$5:$F$32,2)","v":-7.0000000000000007E-2},-6.0000000000005049E-3,"B9V","B9",{"$f":"+DEGREES(ACOS(SIN(Index!$H$6)*SIN(Base!N485)+COS(Index!$H$6)*COS(Base!N485)*COS(Index!$H$3-Base!H485)))","v":20.129838749976667}]
["HD 20149 ","03 15 20,43681","+30 33 24,0795",3,15,20.436810000000001,48.835153374999997,0.85233421711017099,"+",30,33,24.079499999999999,30.556688749999999,0.53331482719461043,156.2276,-22.854800000000001,5.62,5.61,9.9999999999997868E-3,{"$f":"+VLOOKUP(W486,Data!$E$5:$F$32,2)","v":0.02},-1.0000000000000214E-2,"A1Vs","A1",{"$f":"+DEGREES(ACOS(SIN(Index!$H$6)*SIN(Base!N486)+COS(Index!$H$6)*COS(Base!N486)*COS(Index!$H$3-Base!H486)))","v":76.027179508964366}]
["HD 20150 ","03 14 54,09731","+21 02 40,0103",3,14,54.09731,48.725405458333334,0.85041875461713345,"+",21,2,40.010300000000001,21.0444473055556,0.36729489474439442,162.38409999999999,-30.6234,4.8739999999999997,4.88,-6.0000000000002274E-3,{"$f":"+VLOOKUP(W487,Data!$E$5:$F$32,2)","v":0.02},-2.6000000000000228E-2,"A1V","A1",{"$f":"+DEGREES(ACOS(SIN(Index!$H$6)*SIN(Base!N487)+COS(Index!$H$6)*COS(Base!N487)*COS(Index!$H$3-Base!H487)))","v":77.204291043386192}]
["HD 201908","21 05 29,26581","+78 07 35,0186",21,5,29.265809999999998,316.37194087500001,5.5217320291935801,"+",78,7,35.018599999999999,78.126394055555593,1.3635628089799707,112.40009999999999,20.189399999999999,5.8419999999999996,5.915,-7.3000000000000398E-2,{"$f":"+VLOOKUP(W488,Data!$E$5:$F$32,2)","v":-0.11},3.6999999999999603E-2,"B8Vn","B8",{"$f":"+DEGREES(ACOS(SIN(Index!$H$6)*SIN(Base!N488)+COS(Index!$H$6)*COS(Base!N488)*COS(Index!$H$3-Base!H488)))","v":65.74937060759045}]
["HD 202627","21 17 56,28399","-32 10 21,1515",21,17,56.283990000000003,319.48451662500003,5.5760567242488124,"-",32,10,21.151499999999999,-32.172542083333298,-0.5615167880906019,13.2019,-43.805799999999998,4.7939999999999996,4.7210000000000001,7.299999999999951E-2,{"$f":"+VLOOKUP(W489,Data!$E$5:$F$32,2)","v":0.02},5.2999999999999506E-2,"A1V","A1",{"$f":"+DEGREES(ACOS(SIN(Index!$H$6)*SIN(Base!N489)+COS(Index!$H$6)*COS(Base!N489)*COS(Index!$H$3-Base!H489)))","v":45.492965559278609}]
["HD 202730","21 19 51,98955","-53 26 57,9315",21,19,51.989550000000001,319.96662312500001,5.5844710700190783,"-",53,26,57.9315,-53.449425416666699,-0.93286845681997599,343.68560000000002,-43.319699999999997,4.58,4.4000000000000004,0.17999999999999972,{"$f":"+VLOOKUP(W490,Data!$E$5:$F$32,2)","v":0.15},2.9999999999999721E-2,"A5V(n)","A5",{"$f":"+DEGREES(ACOS(SIN(Index!$H$6)*SIN(Base!N490)+COS(Index!$H$6)*COS(Base!N490)*COS(Index!$H$3-Base!H490)))","v":66.410878807991836}]
["HD 202753","21 18 11,07309","-04 31 10,1276",21,18,11.073090000000001,319.546137875,5.5771322179505063,"-",4,31,10.127599999999999,-4.5194798888888901,-7.8879804538778617E-2,47.075400000000002,-34.4711,5.6929999999999996,5.8150000000000004,-0.12200000000000077,{"$f":"+VLOOKUP(W491,Data!$E$5:$F$32,2)","v":-0.16},3.7999999999999229E-2,"B5V","B5",{"$f":"+DEGREES(ACOS(SIN(Index!$H$6)*SIN(Base!N491)+COS(Index!$H$6)*COS(Base!N491)*COS(Index!$H$3-Base!H491)))","v":18.988025690325262}]
["HD 202904","21 17 55,07506","+34 53 48,8289",21,17,55.075060000000001,319.47947941666666,5.5759688083782866,"+",34,53,48.828899999999997,34.896896916666698,0.60906574992489115,80.976699999999994,-10.0526,4.32,4.43,-0.10999999999999943,{"$f":"+VLOOKUP(W492,Data!$E$5:$F$32,2)","v":-0.24},0.13000000000000056,"B2Vne","B2",{"$f":"+DEGREES(ACOS(SIN(Index!$H$6)*SIN(Base!N492)+COS(Index!$H$6)*COS(Base!N492)*COS(Index!$H$3-Base!H492)))","v":23.500096158060973}]
["HD 20315 ","03 17 47,35287","+44 01 30,0800",3,17,47.352870000000003,49.447303624999996,0.86301825448957747,"+",44,1,30.08,44.025022222222198,0.7683815910414481,148.85380000000001,-11.357799999999999,5.4189999999999996,5.4779999999999998,-5.9000000000000163E-2,{"$f":"+VLOOKUP(W493,Data!$E$5:$F$32,2)","v":-0.11},5.0999999999999837E-2,"B8V","B8",{"$f":"+DEGREES(ACOS(SIN(Index!$H$6)*SIN(Base!N493)+COS(Index!$H$6)*COS(Base!N493)*COS(Index!$H$3-Base!H493)))","v":75.325569363291905}]
["HD 203245","21 19 28,75024","+49 30 37,0626",21,19,28.750240000000002,319.86979266666663,5.5827810597049456,"+",49,30,37.062600000000003,49.510295166666701,0.86411766429256864,91.700699999999998,-6.1499999999999999E-2,5.61,5.74,-0.12999999999999989,{"$f":"+VLOOKUP(W494,Data!$E$5:$F$32,2)","v":-0.14000000000000001},1.000000000000012E-2,"B6V","B6",{"$f":"+DEGREES(ACOS(SIN(Index!$H$6)*SIN(Base!N494)+COS(Index!$H$6)*COS(Base!N494)*COS(Index!$H$3-Base!H494)))","v":37.45330685954216}]
["HD 20336 ","03 19 59,27267","+65 39 08,2502",3,19,59.272669999999998,49.996969458333325,0.87261173306696238,"+",65,39,8.2501999999999995,65.652291722222202,1.1458486520325959,137.45699999999999,7.0609999999999999,4.6210000000000004,4.7279999999999998,-0.10699999999999932,{"$f":"+VLOOKUP(W495,Data!$E$5:$F$32,2)","v":-0.24},0.13300000000000067,"B2,5Vne","B2,5",{"$f":"+DEGREES(ACOS(SIN(Index!$H$6)*SIN(Base!N495)+COS(Index!$H$6)*COS(Base!N495)*COS(Index!$H$3-Base!H495)))","v":75.317166312616521}]
["HD 203562","21 22 53,61344","+06 48 40,1070",21,22,53.613439999999997,320.72338933333339,5.5976791320223285,"+",6,48,40.106999999999999,6.8111408333333303,0.11887683335869696,58.997999999999998,-29.230899999999998,5.2190000000000003,5.1589999999999998,6.0000000000000497E-2,{"$f":"+VLOOKUP(W496,Data!$E$5:$F$32,2)","v":0.08},-1.9999999999999504E-2,"A3V","A3",{"$f":"+DEGREES(ACOS(SIN(Index!$H$6)*SIN(Base!N496)+COS(Index!$H$6)*COS(Base!N496)*COS(Index!$H$3-Base!H496)))","v":9.0465409635208669}]
["HD 20365 ","03 18 37,74127","+50 13 19,8325",3,18,37.74127,49.657255291666665,0.86668260234296046,"+",50,13,19.8325,50.222175694444402,0.87654232338312443,145.6002,-6.0578000000000003,5.085,5.1580000000000004,-7.3000000000000398E-2,{"$f":"+VLOOKUP(W497,Data!$E$5:$F$32,2)","v":-0.2},0.12699999999999961,"B3V","B3",{"$f":"+DEGREES(ACOS(SIN(Index!$H$6)*SIN(Base!N497)+COS(Index!$H$6)*COS(Base!N497)*COS(Index!$H$3-Base!H497)))","v":75.169181252375864}]
["HD 20418 ","03 19 07,63892","+50 05 41,8826",3,19,7.6389199999999997,49.781828833333336,0.8688568208059142,"+",50,5,41.882599999999996,50.094967388888897,0.87432211961529793,145.73660000000001,-6.1223000000000001,4.9690000000000003,5.0359999999999996,-6.6999999999999282E-2,{"$f":"+VLOOKUP(W498,Data!$E$5:$F$32,2)","v":-0.16},9.3000000000000721E-2,"B5V","B5",{"$f":"+DEGREES(ACOS(SIN(Index!$H$6)*SIN(Base!N498)+COS(Index!$H$6)*COS(Base!N498)*COS(Index!$H$3-Base!H498)))","v":75.253576926380148}]
["HD 204403","21 27 21,36627","+37 07 00,4704",21,27,21.36627,321.83902612499998,5.6171506672932967,"+",37,7,0.47039999999999998,37.116797333333302,0.64781032126211735,83.942499999999995,-9.8612000000000002,5.15,5.2889999999999997,-0.13899999999999935,{"$f":"+VLOOKUP(W499,Data!$E$5:$F$32,2)","v":-0.2},6.1000000000000665E-2,"B3V","B3",{"$f":"+DEGREES(ACOS(SIN(Index!$H$6)*SIN(Base!N499)+COS(Index!$H$6)*COS(Base!N499)*COS(Index!$H$3-Base!H499)))","v":25.058448962863253}]
["HD 204414","21 27 40,05720","+27 36 30,9396",21,27,40.057200000000002,321.91690499999999,5.6185099100797959,"+",27,36,30.939599999999999,27.608594333333301,0.48186087296411495,77.042000000000002,-16.595400000000001,5.4349999999999996,5.3890000000000002,4.5999999999999375E-2,{"$f":"+VLOOKUP(W500,Data!$E$5:$F$32,2)","v":0.02},2.5999999999999374E-2,"A1V","A1",{"$f":"+DEGREES(ACOS(SIN(Index!$H$6)*SIN(Base!N500)+COS(Index!$H$6)*COS(Base!N500)*COS(Index!$H$3-Base!H500)))","v":15.947755079703253}]
["HD 204428","21 26 44,97008","+52 53 54,7265",21,26,44.970080000000003,321.68737533333336,5.614503861665459,"+",52,53,54.726500000000001,52.898535138888903,0.92325360765552722,94.890699999999995,1.5512999999999999,5.8810000000000002,5.9889999999999999,-0.10799999999999965,{"$f":"+VLOOKUP(W501,Data!$E$5:$F$32,2)","v":-0.14000000000000001},3.2000000000000361E-2,"B6V","B6",{"$f":"+DEGREES(ACOS(SIN(Index!$H$6)*SIN(Base!N501)+COS(Index!$H$6)*COS(Base!N501)*COS(Index!$H$3-Base!H501)))","v":40.564665762813384}]
["HD 204770","21 27 46,14103","+66 48 32,7458",21,27,46.141030000000001,321.9422542916667,5.6189523386824289,"+",66,48,32.745800000000003,66.809096055555599,1.1660386964506018,104.7603,11.430899999999999,5.31,5.407,-9.7000000000000419E-2,{"$f":"+VLOOKUP(W502,Data!$E$5:$F$32,2)","v":-0.13},3.2999999999999585E-2,"B7V","B7",{"$f":"+DEGREES(ACOS(SIN(Index!$H$6)*SIN(Base!N502)+COS(Index!$H$6)*COS(Base!N502)*COS(Index!$H$3-Base!H502)))","v":54.323146078108913}]
["HD 205314","21 32 56,59238","+49 58 39,4525",21,32,56.592379999999999,323.23580158333334,5.6415289979522667,"+",49,58,39.452500000000001,49.977625694444399,0.87227412069737231,93.5899,-1.2363,5.734,5.766,-3.2000000000000028E-2,{"$f":"+VLOOKUP(W503,Data!$E$5:$F$32,2)","v":-0.01},-2.2000000000000026E-2,"A0V","A0",{"$f":"+DEGREES(ACOS(SIN(Index!$H$6)*SIN(Base!N503)+COS(Index!$H$6)*COS(Base!N503)*COS(Index!$H$3-Base!H503)))","v":37.53615801632661}]
["HD 205767","21 37 45,10931","-07 51 15,1299",21,37,45.109310000000001,324.43795545833336,5.6625105411866254,"-",7,51,15.129899999999999,-7.8542027499999998,-0.13708169810669305,46.45,-40.346400000000003,4.859,4.6900000000000004,0.16899999999999959,{"$f":"+VLOOKUP(W504,Data!$E$5:$F$32,2)","v":0.2},-3.1000000000000416E-2,"A7V","A7",{"$f":"+DEGREES(ACOS(SIN(Index!$H$6)*SIN(Base!N504)+COS(Index!$H$6)*COS(Base!N504)*COS(Index!$H$3-Base!H504)))","v":20.74389048272522}]
["HD 205835","21 36 56,97596","+40 24 48,6756",21,36,56.975960000000001,324.23739983333337,5.6590101851969807,"+",40,24,48.675600000000003,40.413521000000003,0.70534900377387133,87.617599999999996,-8.7608999999999995,5.234,5.0519999999999996,0.18200000000000038,{"$f":"+VLOOKUP(W505,Data!$E$5:$F$32,2)","v":0.15},3.2000000000000389E-2,"A5V","A5",{"$f":"+DEGREES(ACOS(SIN(Index!$H$6)*SIN(Base!N505)+COS(Index!$H$6)*COS(Base!N505)*COS(Index!$H$3-Base!H505)))","v":27.959786946014678}]
["HD 206644","21 42 22,95887","+41 04 37,2737",21,42,22.958870000000001,325.59566195833332,5.6827163313833644,"+",41,4,37.273699999999998,41.077020472222202,0.71692925414939335,88.840900000000005,-8.9558,5.7839999999999998,5.7329999999999997,5.1000000000000156E-2,{"$f":"+VLOOKUP(W506,Data!$E$5:$F$32,2)","v":-0.01},6.1000000000000158E-2,"A0V","A0",{"$f":"+DEGREES(ACOS(SIN(Index!$H$6)*SIN(Base!N506)+COS(Index!$H$6)*COS(Base!N506)*COS(Index!$H$3-Base!H506)))","v":28.514372780228946}]
["HD 206742","21 44 56,80944","-33 01 32,8180",21,44,56.809440000000002,326.23670600000003,5.6939046605607402,"-",33,1,32.817999999999998,-33.025782777777799,-0.57640864752066134,12.8752,-49.552399999999999,4.3029999999999999,4.335,-3.2000000000000028E-2,{"$f":"+VLOOKUP(W507,Data!$E$5:$F$32,2)","v":-0.01},-2.2000000000000026E-2,"A0V","A0",{"$f":"+DEGREES(ACOS(SIN(Index!$H$6)*SIN(Base!N507)+COS(Index!$H$6)*COS(Base!N507)*COS(Index!$H$3-Base!H507)))","v":45.674481641878799}]
["HD 20677 ","03 21 26,55861","+43 19 46,7390",3,21,26.558610000000002,50.360660875000001,0.87895934574903845,"+",43,19,46.738999999999997,43.3296497222222,0.75624505138862386,149.80619999999999,-11.5785,5.0170000000000003,4.9470000000000001,7.0000000000000284E-2,{"$f":"+VLOOKUP(W508,Data!$E$5:$F$32,2)","v":0.08},-9.9999999999997174E-3,"A3V","A3",{"$f":"+DEGREES(ACOS(SIN(Index!$H$6)*SIN(Base!N508)+COS(Index!$H$6)*COS(Base!N508)*COS(Index!$H$3-Base!H508)))","v":76.03195603215805}]
["HD 206774","21 43 25,65216","+38 17 00,9219",21,43,25.652159999999999,325.85688399999992,5.6872755160892288,"+",38,17,0.92190000000000005,38.2835894166667,0.6681746848024892,87.114000000000004,-11.1813,5.6959999999999997,5.6989999999999998,-3.0000000000001137E-3,{"$f":"+VLOOKUP(W509,Data!$E$5:$F$32,2)","v":-0.01},6.9999999999998865E-3,"A0V","A0",{"$f":"+DEGREES(ACOS(SIN(Index!$H$6)*SIN(Base!N509)+COS(Index!$H$6)*COS(Base!N509)*COS(Index!$H$3-Base!H509)))","v":25.713744496963944}]
["HD 207052","21 46 32,09739","-11 21 57,4391",21,46,32.097389999999997,326.63373912500003,5.7008341958314732,"-",11,21,57.439100000000003,-11.3659553055556,-0.19837334271646337,43.640999999999998,-43.907699999999998,5.5670000000000002,5.57,-3.0000000000001137E-3,{"$f":"+VLOOKUP(W510,Data!$E$5:$F$32,2)","v":0.02},-2.3000000000000114E-2,"A1V","A1",{"$f":"+DEGREES(ACOS(SIN(Index!$H$6)*SIN(Base!N510)+COS(Index!$H$6)*COS(Base!N510)*COS(Index!$H$3-Base!H510)))","v":24.017495273917817}]
["HD 207155","21 47 44,14993","-30 53 53,9027",21,47,44.149929999999998,326.9339580416667,5.7060740044040763,"-",30,53,53.902700000000003,-30.8983063055556,-0.53927717832167033,16.239899999999999,-49.939599999999999,5.07,5.016,5.400000000000027E-2,{"$f":"+VLOOKUP(W511,Data!$E$5:$F$32,2)","v":0.05},4.0000000000002672E-3,"A2V","A2",{"$f":"+DEGREES(ACOS(SIN(Index!$H$6)*SIN(Base!N511)+COS(Index!$H$6)*COS(Base!N511)*COS(Index!$H$3-Base!H511)))","v":43.531105831447547}]
["HD 207203","21 47 13,96237","+02 41 10,0481",21,47,13.96237,326.80817654166668,5.7038787030909788,"+",2,41,10.0481,2.6861244722222199,4.6881716158672704E-2,59.384399999999999,-36.556600000000003,5.641,5.6310000000000002,9.9999999999997868E-3,{"$f":"+VLOOKUP(W512,Data!$E$5:$F$32,2)","v":0.02},-1.0000000000000214E-2,"A1V","A1",{"$f":"+DEGREES(ACOS(SIN(Index!$H$6)*SIN(Base!N512)+COS(Index!$H$6)*COS(Base!N512)*COS(Index!$H$3-Base!H512)))","v":9.9838481112138844}]
["HD 207650","21 49 50,69412","+30 10 27,1678",21,49,50.694119999999998,327.46122549999995,5.7152765575906139,"+",30,10,27.1678,30.174213277777799,0.52663937089621293,82.566599999999994,-18.123000000000001,5.08,5.0709999999999997,9.0000000000003411E-3,{"$f":"+VLOOKUP(W513,Data!$E$5:$F$32,2)","v":0.02},-1.0999999999999659E-2,"A1Vs","A1",{"$f":"+DEGREES(ACOS(SIN(Index!$H$6)*SIN(Base!N513)+COS(Index!$H$6)*COS(Base!N513)*COS(Index!$H$3-Base!H513)))","v":17.550775744271526}]
["HD 208057","21 53 03,76826","+25 55 30,4902",21,53,3.7682600000000002,328.26570108333334,5.7293173052716835,"+",25,55,30.490200000000002,25.9251361666667,0.45247898513619533,80.100700000000003,-21.7545,4.9249999999999998,5.0780000000000003,-0.15300000000000047,{"$f":"+VLOOKUP(W514,Data!$E$5:$F$32,2)","v":-0.2},4.6999999999999542E-2,"B3Ve","B3",{"$f":"+DEGREES(ACOS(SIN(Index!$H$6)*SIN(Base!N514)+COS(Index!$H$6)*COS(Base!N514)*COS(Index!$H$3-Base!H514)))","v":13.308116191095911}]
["HD 20809 ","03 23 13,19561","+49 12 47,7625",3,23,13.19561,50.804981708333329,{"$f":"+RADIANS(G515)","v":0.8867142072259101},"+",49,12,47.762500000000003,{"$f":"VALUE(CONCATENATE(I515,+J515+K515/60+L515/3600))","v":49.2132673611111},{"$f":"+RADIANS(M515)","v":0.85893355111564984},146.7784,-6.5014000000000003,5.23,5.3,-6.9999999999999396E-2,{"$f":"+VLOOKUP(W515,Data!$E$5:$F$32,2)","v":-0.16},{"$f":"+S515-T515","v":9.0000000000000607E-2},"B5V",{"$f":"IF(MID(V515,3,1)<>\",\",LEFT(V515,2),LEFT(V515,4))","v":"B5"},{"$f":"+DEGREES(ACOS(SIN(Index!$H$6)*SIN(Base!N515)+COS(Index!$H$6)*COS(Base!N515)*COS(Index!$H$3-Base!H515)))","v":75.956082695087673}]
["HD 208108","21 53 37,38177","+19 40 06,3791",21,53,37.381770000000003,328.40575737500001,5.7317617486994008,"+",19,40,6.3791000000000002,19.668438638888901,0.34327901297508334,75.514600000000002,-26.407299999999999,5.6989999999999998,5.68,1.9000000000000128E-2,{"$f":"+VLOOKUP(W516,Data!$E$5:$F$32,2)","v":-0.01},2.900000000000013E-2,"A0Vs","A0",{"$f":"+DEGREES(ACOS(SIN(Index!$H$6)*SIN(Base!N516)+COS(Index!$H$6)*COS(Base!N516)*COS(Index!$H$3-Base!H516)))","v":7.0702164611310865}]
["HD 208321","21 56 22,76964","-37 15 13,1601",21,56,22.769639999999999,329.09487350000001,5.7437890940092355,"-",37,15,13.1601,-37.253655583333298,-0.65019894833313485,6.2545000000000002,-51.963999999999999,5.5359999999999996,5.4569999999999999,7.8999999999999737E-2,{"$f":"+VLOOKUP(W517,Data!$E$5:$F$32,2)","v":0.05},2.8999999999999734E-2,"A2Vn","A2",{"$f":"+DEGREES(ACOS(SIN(Index!$H$6)*SIN(Base!N517)+COS(Index!$H$6)*COS(Base!N517)*COS(Index!$H$3-Base!H517)))","v":49.895080650523852}]
["HD 208565","21 56 56,37293","+12 04 35,3689",21,56,56.372929999999997,329.23488720833336,5.7462327942175788,"+",12,4,35.368899999999996,12.076491361111101,0.2107745363400402,69.963200000000001,-32.3157,5.5890000000000004,5.5439999999999996,4.5000000000000817E-2,{"$f":"+VLOOKUP(W518,Data!$E$5:$F$32,2)","v":0.05},-4.9999999999991857E-3,"A2Vnn","A2",{"$f":"+DEGREES(ACOS(SIN(Index!$H$6)*SIN(Base!N518)+COS(Index!$H$6)*COS(Base!N518)*COS(Index!$H$3-Base!H518)))","v":1.5434546262332016}]
["HD 208682","21 55 30,99976","+65 19 14,9142",21,55,30.999759999999998,328.87916566666667,5.7400242820952254,"+",65,19,14.914199999999999,65.320809499999996,1.140063195842991,105.88679999999999,8.4494000000000007,5.8419999999999996,5.9390000000000001,-9.7000000000000419E-2,{"$f":"+VLOOKUP(W519,Data!$E$5:$F$32,2)","v":-0.24},0.14299999999999957,"B2,5Ve","B2,5",{"$f":"+DEGREES(ACOS(SIN(Index!$H$6)*SIN(Base!N519)+COS(Index!$H$6)*COS(Base!N519)*COS(Index!$H$3-Base!H519)))","v":52.700834690386124}]
["HD 209014","22 00 50,22537","-28 27 13,4639",22,0,50.225369999999998,330.20927237500001,5.7632390235585058,"-",28,27,13.463900000000001,-28.453739972222198,-0.49661144702159726,20.697099999999999,-52.445099999999996,5.53,5.62,-8.9999999999999858E-2,{"$f":"+VLOOKUP(W520,Data!$E$5:$F$32,2)","v":-0.11},2.0000000000000143E-2,"B8Ve","B8",{"$f":"+DEGREES(ACOS(SIN(Index!$H$6)*SIN(Base!N520)+COS(Index!$H$6)*COS(Base!N520)*COS(Index!$H$3-Base!H520)))","v":41.147724105363466}]
["HD 209459","22 03 19,03215","+11 23 11,5765",22,3,19.032150000000001,330.82930062500003,5.7740605579763846,"+",11,23,11.576499999999999,11.3865490277778,0.19873277097448189,70.657200000000003,-33.920400000000001,5.774,5.8239999999999998,-4.9999999999999822E-2,{"$f":"+VLOOKUP(W521,Data!$E$5:$F$32,2)","v":-7.0000000000000007E-2},2.0000000000000184E-2,"B9,5V","B9,5",{"$f":"+DEGREES(ACOS(SIN(Index!$H$6)*SIN(Base!N521)+COS(Index!$H$6)*COS(Base!N521)*COS(Index!$H$3-Base!H521)))","v":3.2493283621544982}]
["HD 209481","22 02 04,57287","+58 00 01,3096",22,2,4.57287,330.51905362500003,5.7686457263319495,"+",58,0,1.3096000000000001,58.0003637777778,1.0122973152766794,102.0051,2.1833999999999998,5.5640000000000001,5.548,1.6000000000000014E-2,{"$f":"+VLOOKUP(W522,Data!$E$5:$F$32,2)","v":-0.04},5.6000000000000015E-2,"O9V","O9",{"$f":"+DEGREES(ACOS(SIN(Index!$H$6)*SIN(Base!N522)+COS(Index!$H$6)*COS(Base!N522)*COS(Index!$H$3-Base!H522)))","v":45.423070688371197}]
["HD 209819","22 06 26,22742","-13 52 10,8615",22,6,26.227419999999999,331.60928091666671,5.7876737821666344,"-",13,52,10.861499999999999,-13.86968375,-0.24207164764785408,43.505200000000002,-49.369300000000003,4.2190000000000003,4.2809999999999997,-6.1999999999999389E-2,{"$f":"+VLOOKUP(W523,Data!$E$5:$F$32,2)","v":-0.11},4.8000000000000612E-2,"B8V","B8",{"$f":"+DEGREES(ACOS(SIN(Index!$H$6)*SIN(Base!N523)+COS(Index!$H$6)*COS(Base!N523)*COS(Index!$H$3-Base!H523)))","v":26.768697399980031}]
["HD 209833","22 05 34,67418","+28 57 50,3193",22,5,34.67418,331.39447575000003,5.7839247247580055,"+",28,57,50.319299999999998,28.9639775833333,0.50551677330299638,84.493600000000001,-21.265599999999999,5.64,5.7,-6.0000000000000497E-2,{"$f":"+VLOOKUP(W524,Data!$E$5:$F$32,2)","v":-7.0000000000000007E-2},9.9999999999995093E-3,"B9Vn","B9",{"$f":"+DEGREES(ACOS(SIN(Index!$H$6)*SIN(Base!N524)+COS(Index!$H$6)*COS(Base!N524)*COS(Index!$H$3-Base!H524)))","v":16.684892133762208}]
["HD 20995 ","03 24 29,70155","+33 32 09,4619",3,24,29.701550000000001,51.123756458333332,0.89227787618563192,"+",33,32,9.4619,33.535961638888899,0.58531294842112491,156.0898,-19.302299999999999,5.77,5.79,-2.0000000000000462E-2,{"$f":"+VLOOKUP(W525,Data!$E$5:$F$32,2)","v":-0.01},-1.0000000000000462E-2,"A0V","A0",{"$f":"+DEGREES(ACOS(SIN(Index!$H$6)*SIN(Base!N525)+COS(Index!$H$6)*COS(Base!N525)*COS(Index!$H$3-Base!H525)))","v":77.600293273558947}]
["HD 209952","22 08 13,98473","-46 57 39,5078",22,8,13.984730000000001,332.05826970833334,5.7955101148857677,"-",46,57,39.507800000000003,-46.9609743888889,-0.81962362303084335,349.99849999999998,-52.473700000000001,1.61,1.74,-0.12999999999999989,{"$f":"+VLOOKUP(W526,Data!$E$5:$F$32,2)","v":-0.14000000000000001},1.000000000000012E-2,"B6V","B6",{"$f":"+DEGREES(ACOS(SIN(Index!$H$6)*SIN(Base!N526)+COS(Index!$H$6)*COS(Base!N526)*COS(Index!$H$3-Base!H526)))","v":59.711038868983501}]
["HD 210129","22 07 50,30397","+21 42 10,5319",22,7,50.30397,331.95959987499998,5.7937880014217065,"+",21,42,10.5319,21.702925527777801,0.37878750777485071,79.799599999999998,-27.154800000000002,5.7069999999999999,5.7830000000000004,-7.6000000000000512E-2,{"$f":"+VLOOKUP(W527,Data!$E$5:$F$32,2)","v":-0.13},5.3999999999999493E-2,"B7Vne","B7",{"$f":"+DEGREES(ACOS(SIN(Index!$H$6)*SIN(Base!N527)+COS(Index!$H$6)*COS(Base!N527)*COS(Index!$H$3-Base!H527)))","v":9.9231164150374624}]
["HD 210271","22 09 55,70119","-34 00 53,8752",22,9,55.701189999999997,332.48208829166663,5.8029071445960714,"-",34,0,53.8752,-34.014965333333301,-0.59367314001839655,11.577999999999999,-54.791499999999999,5.5919999999999996,5.3769999999999998,0.21499999999999986,{"$f":"+VLOOKUP(W528,Data!$E$5:$F$32,2)","v":0.15},6.4999999999999863E-2,"A5V","A5",{"$f":"+DEGREES(ACOS(SIN(Index!$H$6)*SIN(Base!N528)+COS(Index!$H$6)*COS(Base!N528)*COS(Index!$H$3-Base!H528)))","v":46.856689160368489}]
["HD 210715","22 11 09,88893","+50 49 24,2584",22,11,9.8889300000000002,332.79120387500001,5.8083022292944619,"+",50,49,24.258400000000002,50.8234051111111,0.88703575626380327,98.862899999999996,-4.4031000000000002,5.5279999999999996,5.3860000000000001,0.14199999999999946,{"$f":"+VLOOKUP(W529,Data!$E$5:$F$32,2)","v":0.15},-8.0000000000005345E-3,"A5V","A5",{"$f":"+DEGREES(ACOS(SIN(Index!$H$6)*SIN(Base!N529)+COS(Index!$H$6)*COS(Base!N529)*COS(Index!$H$3-Base!H529)))","v":38.417497422009113}]
["HD 211211","22 14 44,37068","+42 57 14,0742",22,14,44.37068,333.6848778333333,5.8238997823067082,"+",42,57,14.074199999999999,42.953909500000002,0.74968714737867126,94.8125,-11.2013,5.72,5.72,0,{"$f":"+VLOOKUP(W530,Data!$E$5:$F$32,2)","v":0.05},-0.05,"A2Vnn","A2",{"$f":"+DEGREES(ACOS(SIN(Index!$H$6)*SIN(Base!N530)+COS(Index!$H$6)*COS(Base!N530)*COS(Index!$H$3-Base!H530)))","v":30.758720227042698}]
["HD 212061","22 21 39,37542","-01 23 14,4031",22,21,39.375419999999998,335.41406425000002,5.8540797786583054,"-",1,23,14.4031,-1.3873341944444399,-2.42135495185587E-2,62.179600000000001,-45.842199999999998,3.8149999999999999,3.847,-3.2000000000000028E-2,{"$f":"+VLOOKUP(W531,Data!$E$5:$F$32,2)","v":-0.01},-2.2000000000000026E-2,"A0V","A0",{"$f":"+DEGREES(ACOS(SIN(Index!$H$6)*SIN(Base!N531)+COS(Index!$H$6)*COS(Base!N531)*COS(Index!$H$3-Base!H531)))","v":15.940922398039023}]
["HD 212120","22 21 01,54727","+46 32 11,6461",22,21,1.5472699999999999,335.25644695833336,5.8513288379606454,"+",46,32,11.646100000000001,46.536568361111101,0.81221634048081015,97.793000000000006,-8.8629999999999995,4.4509999999999996,4.5510000000000002,-0.10000000000000053,{"$f":"+VLOOKUP(W532,Data!$E$5:$F$32,2)","v":-0.14000000000000001},3.999999999999948E-2,"B6V","B6",{"$f":"+DEGREES(ACOS(SIN(Index!$H$6)*SIN(Base!N532)+COS(Index!$H$6)*COS(Base!N532)*COS(Index!$H$3-Base!H532)))","v":34.496030568315945}]
["HD 212404","22 24 06,88433","-04 50 13,2692",22,24,6.8843300000000003,336.02868470833329,5.8648069293063374,"-",4,50,13.2692,-4.8370192222222199,-8.442191141003301E-2,58.722099999999998,-48.4405,5.7539999999999996,5.7809999999999997,-2.7000000000000135E-2,{"$f":"+VLOOKUP(W533,Data!$E$5:$F$32,2)","v":-0.01},-1.7000000000000133E-2,"A0V","A0",{"$f":"+DEGREES(ACOS(SIN(Index!$H$6)*SIN(Base!N533)+COS(Index!$H$6)*COS(Base!N533)*COS(Index!$H$3-Base!H533)))","v":19.300046342004521}]
["HD 212571","22 25 16,62285","+01 22 38,6346",22,25,16.62285,336.319261875,5.8698784575957879,"+",1,22,38.634599999999999,1.3773985,2.4040138937031115E-2,66.006699999999995,-44.739400000000003,4.6260000000000003,4.7939999999999996,-0.16799999999999926,{"$f":"+VLOOKUP(W534,Data!$E$5:$F$32,2)","v":-0.26},9.2000000000000748E-2,"B1Ve","B1",{"$f":"+DEGREES(ACOS(SIN(Index!$H$6)*SIN(Base!N534)+COS(Index!$H$6)*COS(Base!N534)*COS(Index!$H$3-Base!H534)))","v":14.088276340585491}]
["HD 212581","22 27 19,96745","-64 57 58,8775",22,27,19.967449999999999,336.83319770833333,5.8788483300314356,"-",64,57,58.877499999999998,-64.9663548611111,-1.1338767953454121,323.8734,-45.866700000000002,4.4820000000000002,4.4950000000000001,-1.2999999999999901E-2,{"$f":"+VLOOKUP(W535,Data!$E$5:$F$32,2)","v":-7.0000000000000007E-2},5.7000000000000106E-2,"B9,5V","B9,5",{"$f":"+DEGREES(ACOS(SIN(Index!$H$6)*SIN(Base!N535)+COS(Index!$H$6)*COS(Base!N535)*COS(Index!$H$3-Base!H535)))","v":77.894991592897412}]
["HD 212710","22 13 10,61360","+86 06 28,6366",22,13,10.6136,333.29422333333332,5.8170815750439768,"+",86,6,28.636600000000001,86.107954611111097,1.5028673201217222,120.21720000000001,24.102,5.24,5.2640000000000002,-2.4000000000000021E-2,{"$f":"+VLOOKUP(W536,Data!$E$5:$F$32,2)","v":-7.0000000000000007E-2},4.5999999999999985E-2,"B9,5Vn","B9,5",{"$f":"+DEGREES(ACOS(SIN(Index!$H$6)*SIN(Base!N536)+COS(Index!$H$6)*COS(Base!N536)*COS(Index!$H$3-Base!H536)))","v":73.500825311919002}]
["HD 212728","22 28 37,67070","-67 29 20,6150",22,28,37.670699999999997,337.15696124999994,5.8844990698314357,"-",67,29,20.614999999999998,-67.489059722222194,-1.177906301227867,321.11070000000001,-44.262099999999997,5.76,5.57,0.1899999999999995,{"$f":"+VLOOKUP(W537,Data!$E$5:$F$32,2)","v":0.12},6.9999999999999507E-2,"A4V","A4",{"$f":"+DEGREES(ACOS(SIN(Index!$H$6)*SIN(Base!N537)+COS(Index!$H$6)*COS(Base!N537)*COS(Index!$H$3-Base!H537)))","v":80.406210173295349}]
["HD 21278 ","03 28 03,07027","+49 03 46,3186",3,28,3.0702699999999998,52.012792791666669,0.9077944873721564,"+",49,3,46.318600000000004,49.0628662777778,0.85630855701291742,147.52260000000001,-6.1852999999999998,4.8899999999999997,4.97,-8.0000000000000071E-2,{"$f":"+VLOOKUP(W538,Data!$E$5:$F$32,2)","v":-0.16},7.9999999999999932E-2,"B5V","B5",{"$f":"+DEGREES(ACOS(SIN(Index!$H$6)*SIN(Base!N538)+COS(Index!$H$6)*COS(Base!N538)*COS(Index!$H$3-Base!H538)))","v":76.75419202326735}]
["HD 213323","22 30 01,81479","+32 34 21,5034",22,30,1.8147899999999999,337.50756162499999,5.890618200733913,"+",32,34,21.503399999999999,32.572639833333298,0.56849981115792303,91.331500000000005,-21.482900000000001,5.5970000000000004,5.6280000000000001,-3.0999999999999694E-2,{"$f":"+VLOOKUP(W539,Data!$E$5:$F$32,2)","v":-7.0000000000000007E-2},3.9000000000000312E-2,"B9,5V","B9,5",{"$f":"+DEGREES(ACOS(SIN(Index!$H$6)*SIN(Base!N539)+COS(Index!$H$6)*COS(Base!N539)*COS(Index!$H$3-Base!H539)))","v":21.854493986202652}]
["HD 213398","22 31 30,33038","-32 20 45,8653",22,31,30.330380000000002,337.87637658333335,5.8970552360874358,"-",32,20,45.865299999999998,-32.346073694444399,-0.56454548606078103,14.594099999999999,-59.3172,4.3090000000000002,4.2889999999999997,2.0000000000000462E-2,{"$f":"+VLOOKUP(W540,Data!$E$5:$F$32,2)","v":-0.01},3.0000000000000464E-2,"A0V","A0",{"$f":"+DEGREES(ACOS(SIN(Index!$H$6)*SIN(Base!N540)+COS(Index!$H$6)*COS(Base!N540)*COS(Index!$H$3-Base!H540)))","v":46.001867923163132}]
["HD 213558","22 31 17,50131","+50 16 56,9682",22,31,17.50131,337.82292212499999,5.8961222797896484,"+",50,16,56.968200000000003,50.282491166666702,0.87759502696329883,101.2597,-6.5979999999999999,3.806,3.7770000000000001,2.8999999999999915E-2,{"$f":"+VLOOKUP(W541,Data!$E$5:$F$32,2)","v":0.02},8.9999999999999143E-3,"A1V","A1",{"$f":"+DEGREES(ACOS(SIN(Index!$H$6)*SIN(Base!N541)+COS(Index!$H$6)*COS(Base!N541)*COS(Index!$H$3-Base!H541)))","v":38.547894048076344}]
["HD 21362 ","03 28 52,32692","+49 50 54,1738",3,28,52.326920000000001,52.218028833333335,0.91137653204300006,"+",49,50,54.1738,49.848381611111101,0.87001838590448433,147.18620000000001,-5.4622000000000002,5.5229999999999997,5.5780000000000003,-5.5000000000000604E-2,{"$f":"+VLOOKUP(W542,Data!$E$5:$F$32,2)","v":-0.14000000000000001},8.4999999999999409E-2,"B6Vn","B6",{"$f":"+DEGREES(ACOS(SIN(Index!$H$6)*SIN(Base!N542)+COS(Index!$H$6)*COS(Base!N542)*COS(Index!$H$3-Base!H542)))","v":76.831450727207141}]
["HD 21364 ","03 27 10,15071","+09 43 57,6343",3,27,10.15071,51.792294625000004,0.90394606836921187,"+",9,43,57.634300000000003,9.7326761944444407,0.16986724462352734,174.01580000000001,-37.247399999999999,3.6629999999999998,3.7269999999999999,-6.4000000000000057E-2,{"$f":"+VLOOKUP(W543,Data!$E$5:$F$32,2)","v":-7.0000000000000007E-2},5.9999999999999498E-3,"B9Vn","B9",{"$f":"+DEGREES(ACOS(SIN(Index!$H$6)*SIN(Base!N543)+COS(Index!$H$6)*COS(Base!N543)*COS(Index!$H$3-Base!H543)))","v":82.130621694338728}]
["HD 213660","22 32 26,37752","+39 46 47,0326",22,32,26.377520000000001,338.10990633333336,5.9011310991262951,"+",39,46,47.032600000000002,39.779731277777799,0.69428728635579362,95.868899999999996,-15.6776,6.03,5.88,0.15000000000000036,{"$f":"+VLOOKUP(W544,Data!$E$5:$F$32,2)","v":0.17},-1.9999999999999657E-2,"A6V","A6",{"$f":"+DEGREES(ACOS(SIN(Index!$H$6)*SIN(Base!N544)+COS(Index!$H$6)*COS(Base!N544)*COS(Index!$H$3-Base!H544)))","v":28.648714526865668}]
["HD 213798","22 29 52,97918","+78 49 27,4282",22,29,52.979179999999999,337.47074658333338,5.8899756570425721,"+",78,49,27.4282,78.824285611111094,1.3757433144462792,116.15940000000001,17.8611,5.54,5.46,8.0000000000000071E-2,{"$f":"+VLOOKUP(W545,Data!$E$5:$F$32,2)","v":0.08},0,"A3V","A3",{"$f":"+DEGREES(ACOS(SIN(Index!$H$6)*SIN(Base!N545)+COS(Index!$H$6)*COS(Base!N545)*COS(Index!$H$3-Base!H545)))","v":66.368345120196935}]
["HD 21402 ","03 28 20,70004","+33 48 27,2070",3,28,20.700040000000001,52.086250166666666,0.90907656042577856,"+",33,48,27.207000000000001,33.807557500000001,0.59005319043230287,156.60509999999999,-18.611000000000001,5.77,5.73,3.9999999999999147E-2,{"$f":"+VLOOKUP(W546,Data!$E$5:$F$32,2)","v":0.05},-1.0000000000000855E-2,"A2V","A2",{"$f":"+DEGREES(ACOS(SIN(Index!$H$6)*SIN(Base!N546)+COS(Index!$H$6)*COS(Base!N546)*COS(Index!$H$3-Base!H546)))","v":78.360438386049324}]
["HD 214035","22 32 16,22682","+76 13 35,1857",22,32,16.22682,338.06761175000003,5.9003929193913693,"+",76,13,35.185699999999997,76.226440472222194,1.3304023633157385,114.8237,15.596399999999999,5.71,5.7,9.9999999999997868E-3,{"$f":"+VLOOKUP(W547,Data!$E$5:$F$32,2)","v":0.05},-4.0000000000000216E-2,"A2V","A2",{"$f":"+DEGREES(ACOS(SIN(Index!$H$6)*SIN(Base!N547)+COS(Index!$H$6)*COS(Base!N547)*COS(Index!$H$3-Base!H547)))","v":63.840524014887279}]
["HD 214150","22 36 58,85405","-40 35 27,7272",22,36,58.854050000000001,339.24522520833335,5.920946151555083,"-",40,35,27.7272,-40.591035333333302,-0.70844721336002014,358.26659999999998,-59.261699999999998,5.9340000000000002,5.8780000000000001,5.600000000000005E-2,{"$f":"+VLOOKUP(W548,Data!$E$5:$F$32,2)","v":0.02},3.6000000000000046E-2,"A1V","A1",{"$f":"+DEGREES(ACOS(SIN(Index!$H$6)*SIN(Base!N548)+COS(Index!$H$6)*COS(Base!N548)*COS(Index!$H$3-Base!H548)))","v":54.271244874864593}]
["HD 214167","22 35 52,28442","+39 38 03,5830",22,35,52.284419999999997,338.96785174999997,5.9161050714495227,"+",39,38,3.5830000000000002,39.634328611111101,0.6917495310812799,96.375500000000002,-16.146100000000001,5.58,5.73,-0.15000000000000036,{"$f":"+VLOOKUP(W549,Data!$E$5:$F$32,2)","v":-0.24},8.9999999999999636E-2,"B2Ve","B2",{"$f":"+DEGREES(ACOS(SIN(Index!$H$6)*SIN(Base!N549)+COS(Index!$H$6)*COS(Base!N549)*COS(Index!$H$3-Base!H549)))","v":28.765050915694985}]
["HD 21428 ","03 29 22,05019","+49 30 32,2114",3,29,22.050190000000001,52.341875791666666,0.91353806923449687,"+",49,30,32.211399999999998,49.508947611111097,0.8640941450112698,147.4461,-5.6961000000000004,4.5780000000000003,4.6779999999999999,-9.9999999999999645E-2,{"$f":"+VLOOKUP(W550,Data!$E$5:$F$32,2)","v":-0.2},0.10000000000000037,"B3V","B3",{"$f":"+DEGREES(ACOS(SIN(Index!$H$6)*SIN(Base!N550)+COS(Index!$H$6)*COS(Base!N550)*COS(Index!$H$3-Base!H550)))","v":76.935918192653617}]
["HD 21447 ","03 30 00,18302","+55 27 06,5158",3,30,0.18301999999999999,52.500762583333334,0.91631116688701053,"+",55,27,6.5157999999999996,55.451809944444399,0.96781665972068864,144.14439999999999,-0.74970000000000003,5.14,5.09,4.9999999999999822E-2,{"$f":"+VLOOKUP(W551,Data!$E$5:$F$32,2)","v":0.02},2.9999999999999822E-2,"A1V","A1",{"$f":"+DEGREES(ACOS(SIN(Index!$H$6)*SIN(Base!N551)+COS(Index!$H$6)*COS(Base!N551)*COS(Index!$H$3-Base!H551)))","v":76.659352228817895}]
["HD 214484","22 38 51,46650","-33 04 52,8542",22,38,51.466500000000003,339.71444374999999,5.9291355600185724,"-",33,4,52.854199999999999,-33.081348388888898,-0.57737845038543278,13.0274,-60.841000000000001,5.7039999999999997,5.6680000000000001,3.5999999999999588E-2,{"$f":"+VLOOKUP(W552,Data!$E$5:$F$32,2)","v":0.05},-1.4000000000000415E-2,"A2Vp","A2",{"$f":"+DEGREES(ACOS(SIN(Index!$H$6)*SIN(Base!N552)+COS(Index!$H$6)*COS(Base!N552)*COS(Index!$H$3-Base!H552)))","v":47.110159561493106}]
["HD 214680","22 39 15,67864","+39 03 00,9712",22,39,15.67864,339.81532766666663,5.930896316526713,"+",39,3,0.97119999999999995,39.0502697777778,0.68155578141425699,96.650899999999993,-16.9833,4.67,4.88,-0.20999999999999996,{"$f":"+VLOOKUP(W553,Data!$E$5:$F$32,2)","v":-0.04},-0.16999999999999996,"O9V","O9",{"$f":"+DEGREES(ACOS(SIN(Index!$H$6)*SIN(Base!N553)+COS(Index!$H$6)*COS(Base!N553)*COS(Index!$H$3-Base!H553)))","v":28.501731529501487}]
["HD 214748","22 40 39,34075","-27 02 37,0157",22,40,39.34075,340.16391979166667,5.9369803968544872,"-",27,2,37.015700000000002,-27.0436154722222,-0.47200013163355847,25.486599999999999,-60.974200000000003,4.0860000000000003,4.18,-9.3999999999999417E-2,{"$f":"+VLOOKUP(W554,Data!$E$5:$F$32,2)","v":-0.11},1.6000000000000583E-2,"B8Ve","B8",{"$f":"+DEGREES(ACOS(SIN(Index!$H$6)*SIN(Base!N554)+COS(Index!$H$6)*COS(Base!N554)*COS(Index!$H$3-Base!H554)))","v":41.45728440756006}]
["HD 214923","22 41 27,72072","+10 49 52,9079",22,41,27.72072,340.36550299999999,5.9404986875566372,"+",10,49,52.907899999999998,10.8313633055556,0.18904295216164185,78.858699999999999,-40.662100000000002,3.31,3.4,-8.9999999999999858E-2,{"$f":"+VLOOKUP(W555,Data!$E$5:$F$32,2)","v":-0.11},2.0000000000000143E-2,"B8V","B8",{"$f":"+DEGREES(ACOS(SIN(Index!$H$6)*SIN(Base!N555)+COS(Index!$H$6)*COS(Base!N555)*COS(Index!$H$3-Base!H555)))","v":12.472190278206677}]
["HD 21551 ","03 30 36,95212","+48 06 12,9495",3,30,36.952120000000001,52.653967166666661,0.91898509129532313,"+",48,6,12.9495,48.103597083333298,0.83956615115690714,148.42320000000001,-6.7323000000000004,5.7770000000000001,5.8170000000000002,-4.0000000000000036E-2,{"$f":"+VLOOKUP(W556,Data!$E$5:$F$32,2)","v":-0.11},6.9999999999999965E-2,"B8V","B8",{"$f":"+DEGREES(ACOS(SIN(Index!$H$6)*SIN(Base!N556)+COS(Index!$H$6)*COS(Base!N556)*COS(Index!$H$3-Base!H556)))","v":77.251301772892774}]
["HD 215766","22 47 42,76932","-14 03 23,1409",22,47,42.76932,341.92820550000005,5.9677729914107847,"-",14,3,23.140899999999998,-14.0564280277778,-0.24533095015433556,51.0623,-58.354100000000003,5.6609999999999996,5.6779999999999999,-1.7000000000000348E-2,{"$f":"+VLOOKUP(W557,Data!$E$5:$F$32,2)","v":-7.0000000000000007E-2},5.2999999999999658E-2,"B9V","B9",{"$f":"+DEGREES(ACOS(SIN(Index!$H$6)*SIN(Base!N557)+COS(Index!$H$6)*COS(Base!N557)*COS(Index!$H$3-Base!H557)))","v":30.15029577653786}]
["HD 216608","22 53 40,15601","+44 44 56,9969",22,53,40.156010000000002,343.41731670833332,5.9937628849245517,"+",44,44,56.996899999999997,44.749165805555599,0.78102028082780584,101.914,-13.263,6.0750000000000002,5.8079999999999998,0.26700000000000035,{"$f":"+VLOOKUP(W558,Data!$E$5:$F$32,2)","v":0.08},0.18700000000000033,"A3Vm+,,,","A3",{"$f":"+DEGREES(ACOS(SIN(Index!$H$6)*SIN(Base!N558)+COS(Index!$H$6)*COS(Base!N558)*COS(Index!$H$3-Base!H558)))","v":34.796761555787327}]
["HD 216627","22 54 39,01351","-15 49 14,9782",22,54,39.013509999999997,343.66255629166665,5.9980431231099374,"-",15,49,14.978199999999999,-15.8208272777778,-0.27612552638655413,49.579000000000001,-60.668300000000002,3.3439999999999999,3.2690000000000001,7.4999999999999734E-2,{"$f":"+VLOOKUP(W559,Data!$E$5:$F$32,2)","v":0.08},-5.0000000000002681E-3,"A3V","A3",{"$f":"+DEGREES(ACOS(SIN(Index!$H$6)*SIN(Base!N559)+COS(Index!$H$6)*COS(Base!N559)*COS(Index!$H$3-Base!H559)))","v":32.507172647036818}]
["HD 216735","22 55 13,67197","+08 48 58,1932",22,55,13.67197,343.80696654166667,6.0005635574460658,"+",8,48,58.193199999999997,8.8161647777777805,0.15387110277057647,80.789900000000003,-44.341000000000001,4.9080000000000004,4.9059999999999997,2.0000000000006679E-3,{"$f":"+VLOOKUP(W560,Data!$E$5:$F$32,2)","v":0.02},-1.7999999999999333E-2,"A1V","A1",{"$f":"+DEGREES(ACOS(SIN(Index!$H$6)*SIN(Base!N560)+COS(Index!$H$6)*COS(Base!N560)*COS(Index!$H$3-Base!H560)))","v":16.217353899437036}]
["HD 21686 ","03 30 24,46716","+11 20 11,1876",3,30,24.46716,52.601946499999997,0.91807715938290735,"+",11,20,11.1876,11.336441000000001,0.1978582209080785,173.3246,-35.5456,5.0970000000000004,5.125,-2.7999999999999581E-2,{"$f":"+VLOOKUP(W561,Data!$E$5:$F$32,2)","v":-0.01},-1.7999999999999579E-2,"A0Vn","A0",{"$f":"+DEGREES(ACOS(SIN(Index!$H$6)*SIN(Base!N561)+COS(Index!$H$6)*COS(Base!N561)*COS(Index!$H$3-Base!H561)))","v":82.59082259933399}]
["HD 216956","22 57 39,04625","-29 37 20,0533",22,57,39.046250000000001,344.41269270833334,6.0111354734198832,"-",29,37,20.0533,-29.6222370277778,-0.51700556794090158,20.488099999999999,-64.909599999999998,1.25,1.1599999999999999,9.000000000000008E-2,{"$f":"+VLOOKUP(W562,Data!$E$5:$F$32,2)","v":0.12},-2.9999999999999916E-2,"A4V","A4",{"$f":"+DEGREES(ACOS(SIN(Index!$H$6)*SIN(Base!N562)+COS(Index!$H$6)*COS(Base!N562)*COS(Index!$H$3-Base!H562)))","v":45.198028761735195}]
["HD 217232","22 59 11,81391","+11 43 43,8351",22,59,11.81391,344.79922462500002,6.017881728029761,"+",11,43,43.835099999999997,11.728843083333301,0.20470692925392975,84.232100000000003,-42.553800000000003,6.07,5.75,0.32000000000000028,{"$f":"+VLOOKUP(W563,Data!$E$5:$F$32,2)","v":0.27},5.0000000000000266E-2,"A8V+,,,","A8",{"$f":"+DEGREES(ACOS(SIN(Index!$H$6)*SIN(Base!N563)+COS(Index!$H$6)*COS(Base!N563)*COS(Index!$H$3-Base!H563)))","v":16.678750412832002}]
["HD 217782","23 02 36,38176","+42 45 28,0628",23,2,36.38176,345.65159066666672,6.0327583218890357,"+",42,45,28.062799999999999,42.7577952222222,0.74626430752127793,102.517,-15.758599999999999,5.18,5.093,8.6999999999999744E-2,{"$f":"+VLOOKUP(W564,Data!$E$5:$F$32,2)","v":0.08},6.9999999999997425E-3,"A3Vn","A3",{"$f":"+DEGREES(ACOS(SIN(Index!$H$6)*SIN(Base!N564)+COS(Index!$H$6)*COS(Base!N564)*COS(Index!$H$3-Base!H564)))","v":33.879329201586721}]
["HD 217891","23 03 52,61349","+03 49 12,1662",23,3,52.613489999999999,345.96922287500001,6.038302049734833,"+",3,49,12.1662,3.8200461666666699,6.6672383186521453E-2,78.794200000000004,-49.6068,4.3760000000000003,4.4859999999999998,-0.10999999999999943,{"$f":"+VLOOKUP(W565,Data!$E$5:$F$32,2)","v":-0.14000000000000001},3.0000000000000582E-2,"B6Ve","B6",{"$f":"+DEGREES(ACOS(SIN(Index!$H$6)*SIN(Base!N565)+COS(Index!$H$6)*COS(Base!N565)*COS(Index!$H$3-Base!H565)))","v":20.041372273981079}]
["HD 21790 ","03 30 37,05823","-05 04 30,5239",3,30,37.058230000000002,52.654409291666667,0.91899280783227855,"-",5,4,30.523900000000001,-5.0751455277777797,-8.8577999477587585E-2,189.96010000000001,-46.176000000000002,4.6420000000000003,4.7270000000000003,-8.4999999999999964E-2,{"$f":"+VLOOKUP(W566,Data!$E$5:$F$32,2)","v":-7.0000000000000007E-2},-1.4999999999999958E-2,"B9Vs","B9",{"$f":"+DEGREES(ACOS(SIN(Index!$H$6)*SIN(Base!N566)+COS(Index!$H$6)*COS(Base!N566)*COS(Index!$H$3-Base!H566)))","v":86.150658011085255}]
["HD 21819 ","03 33 39,05989","+54 58 29,4936",3,33,39.059890000000003,53.412749541666663,0.93222834204517546,"+",54,58,29.493600000000001,54.974859333333299,0.95949230118740092,144.8442,-0.84219999999999995,6.0880000000000001,5.9809999999999999,0.10700000000000021,{"$f":"+VLOOKUP(W567,Data!$E$5:$F$32,2)","v":0.08},2.7000000000000204E-2,"A3V","A3",{"$f":"+DEGREES(ACOS(SIN(Index!$H$6)*SIN(Base!N567)+COS(Index!$H$6)*COS(Base!N567)*COS(Index!$H$3-Base!H567)))","v":77.206953409423861}]
["HD 218242","23 06 53,62552","-38 53 32,2484",23,6,53.625520000000002,346.72343966666665,6.0514656160232434,"-",38,53,32.248399999999997,-38.892291222222198,-0.67879853547226698,357.92070000000001,-65.253299999999996,5.63,5.6239999999999997,6.0000000000002274E-3,{"$f":"+VLOOKUP(W568,Data!$E$5:$F$32,2)","v":0.02},-1.3999999999999773E-2,"A1V","A1",{"$f":"+DEGREES(ACOS(SIN(Index!$H$6)*SIN(Base!N568)+COS(Index!$H$6)*COS(Base!N568)*COS(Index!$H$3-Base!H568)))","v":54.476183606360436}]
["HD 218396","23 07 28,71507","+21 08 03,3053",23,7,28.715070000000001,346.86964612500003,6.0540174001088412,"+",21,8,3.3052999999999999,21.1342514722222,0.3688622731347363,92.764200000000002,-35.575099999999999,6.2069999999999999,5.9530000000000003,0.25399999999999956,{"$f":"+VLOOKUP(W569,Data!$E$5:$F$32,2)","v":0.15},0.10399999999999957,"A5V","A5",{"$f":"+DEGREES(ACOS(SIN(Index!$H$6)*SIN(Base!N569)+COS(Index!$H$6)*COS(Base!N569)*COS(Index!$H$3-Base!H569)))","v":20.144424257760733}]
["HD 21856 ","03 32 40,01581","+35 27 42,2238",3,32,40.015810000000002,53.166732541666669,0.92793453537929671,"+",35,27,42.223799999999997,35.461728833333297,0.61892392659107354,156.3159,-16.753499999999999,5.8159999999999998,5.899,-8.3000000000000185E-2,{"$f":"+VLOOKUP(W570,Data!$E$5:$F$32,2)","v":-0.26},0.17699999999999982,"B1V","B1",{"$f":"+DEGREES(ACOS(SIN(Index!$H$6)*SIN(Base!N570)+COS(Index!$H$6)*COS(Base!N570)*COS(Index!$H$3-Base!H570)))","v":79.021785215987279}]
["HD 21882 ","03 29 55,14745","-42 38 03,3231",3,29,55.147449999999999,52.479781041666662,0.91594496990278274,"-",42,38,3.3231000000000002,-42.634256416666702,-0.74410814861035335,249.2141,-54.409399999999998,5.9550000000000001,5.7679999999999998,0.18700000000000028,{"$f":"+VLOOKUP(W571,Data!$E$5:$F$32,2)","v":0.15},3.7000000000000283E-2,"A5V","A5",{"$f":"+DEGREES(ACOS(SIN(Index!$H$6)*SIN(Base!N571)+COS(Index!$H$6)*COS(Base!N571)*COS(Index!$H$3-Base!H571)))","v":94.703706112441779}]
["HD 218918","23 11 44,19021","+08 43 12,3967",23,11,44.19021,347.93412587500001,6.0725960765671463,"+",8,43,12.396699999999999,8.7201101944444392,0.1521946340297784,85.471800000000002,-46.771900000000002,5.2779999999999996,5.157,0.12099999999999955,{"$f":"+VLOOKUP(W572,Data!$E$5:$F$32,2)","v":0.15},-2.9000000000000442E-2,"A5Vn","A5",{"$f":"+DEGREES(ACOS(SIN(Index!$H$6)*SIN(Base!N572)+COS(Index!$H$6)*COS(Base!N572)*COS(Index!$H$3-Base!H572)))","v":20.200192295021253}]
["HD 21912 ","03 33 35,03352","+39 53 58,1256",3,33,35.033520000000003,53.395972999999998,0.93193553615599412,"+",39,53,58.125599999999999,39.899479333333304,0.6963772841980983,153.7226,-13.0861,5.9260000000000002,5.7960000000000003,0.12999999999999989,{"$f":"+VLOOKUP(W573,Data!$E$5:$F$32,2)","v":0.08},4.9999999999999892E-2,"A3V","A3",{"$f":"+DEGREES(ACOS(SIN(Index!$H$6)*SIN(Base!N573)+COS(Index!$H$6)*COS(Base!N573)*COS(Index!$H$3-Base!H573)))","v":78.629791796350261}]
["HD 219402","23 15 34,25731","-03 29 46,9580",23,15,34.257309999999997,348.89273879166666,6.0893270282151262,"-",3,29,46.957999999999998,-3.49637722222222,-6.1023294419511188E-2,74.6614,-57.092500000000001,5.61,5.55,6.0000000000000497E-2,{"$f":"+VLOOKUP(W574,Data!$E$5:$F$32,2)","v":0.08},-1.9999999999999504E-2,"A3V","A3",{"$f":"+DEGREES(ACOS(SIN(Index!$H$6)*SIN(Base!N574)+COS(Index!$H$6)*COS(Base!N574)*COS(Index!$H$3-Base!H574)))","v":26.471278571119353}]
["HD 219485","23 14 37,10616","+74 13 52,5743",23,14,37.106160000000003,348.65460900000005,6.0851708793034556,"+",74,13,52.574300000000001,74.231270638888901,1.2955800805876061,116.37609999999999,12.605,5.87,5.89,-1.9999999999999574E-2,{"$f":"+VLOOKUP(W575,Data!$E$5:$F$32,2)","v":-0.01},-9.9999999999995735E-3,"A0V","A0",{"$f":"+DEGREES(ACOS(SIN(Index!$H$6)*SIN(Base!N575)+COS(Index!$H$6)*COS(Base!N575)*COS(Index!$H$3-Base!H575)))","v":62.735745896087003}]
["HD 219688","23 17 54,21372","-09 10 57,0675",23,17,54.213720000000002,349.47589049999999,6.0995049455641723,"-",9,10,57.067500000000003,-9.1825187499999998,-0.16026518581361407,67.617199999999997,-61.544699999999999,4.24,4.4000000000000004,-0.16000000000000014,{"$f":"+VLOOKUP(W576,Data!$E$5:$F$32,2)","v":-0.16},0,"B5V","B5",{"$f":"+DEGREES(ACOS(SIN(Index!$H$6)*SIN(Base!N576)+COS(Index!$H$6)*COS(Base!N576)*COS(Index!$H$3-Base!H576)))","v":30.677151715894713}]
["HD 21981 ","03 30 36,95371","-47 22 30,4532",3,30,36.953710000000001,52.653973791666665,0.91898520692338614,"-",47,22,30.453199999999999,-47.375125888888903,-0.8268519303079167,256.86619999999999,-52.995899999999999,6.093,5.98,0.11299999999999955,{"$f":"+VLOOKUP(W577,Data!$E$5:$F$32,2)","v":0.02},9.2999999999999541E-2,"A1V","A1",{"$f":"+DEGREES(ACOS(SIN(Index!$H$6)*SIN(Base!N577)+COS(Index!$H$6)*COS(Base!N577)*COS(Index!$H$3-Base!H577)))","v":95.856609178211201}]
["HD 219832","23 18 57,67658","-09 36 38,7054",23,18,57.676580000000001,349.74031908333336,6.1041200949797236,"-",9,36,38.705399999999997,-9.6107514999999992,-0.16773925726598379,67.313299999999998,-62.025100000000002,4.9829999999999997,5.0010000000000003,-1.8000000000000682E-2,{"$f":"+VLOOKUP(W578,Data!$E$5:$F$32,2)","v":-0.01},-8.0000000000006819E-3,"A0V","A0",{"$f":"+DEGREES(ACOS(SIN(Index!$H$6)*SIN(Base!N578)+COS(Index!$H$6)*COS(Base!N578)*COS(Index!$H$3-Base!H578)))","v":31.164483181633308}]
["HD 220061","23 20 38,24188","+23 44 25,2098",23,20,38.241880000000002,350.15934116666665,{"$f":"+RADIANS(G579)","v":6.1114334099724559},"+",23,44,25.209800000000001,{"$f":"VALUE(CONCATENATE(I579,+J579+K579/60+L579/3600))","v":23.740336055555598},{"$f":"+RADIANS(M579)","v":0.41434702969936865},97.514600000000002,-34.610500000000002,4.7560000000000002,4.5919999999999996,0.16400000000000059,{"$f":"+VLOOKUP(W579,Data!$E$5:$F$32,2)","v":0.15},{"$f":"+S579-T579","v":1.4000000000000595E-2},"A5V",{"$f":"IF(MID(V579,3,1)<>\",\",LEFT(V579,2),LEFT(V579,4))","v":"A5"},{"$f":"+DEGREES(ACOS(SIN(Index!$H$6)*SIN(Base!N579)+COS(Index!$H$6)*COS(Base!N579)*COS(Index!$H$3-Base!H579)))","v":23.958815097216256}]
["HD 220278","23 22 39,17113","-15 02 21,6245",23,22,39.171129999999998,350.66321304166667,6.120227633199403,"-",15,2,21.624500000000001,-15.0393401388889,-0.26248600275095257,58.786000000000001,-66.082499999999996,5.43,5.22,0.20999999999999996,{"$f":"+VLOOKUP(W580,Data!$E$5:$F$32,2)","v":0.08},0.12999999999999995,"A3V","A3",{"$f":"+DEGREES(ACOS(SIN(Index!$H$6)*SIN(Base!N580)+COS(Index!$H$6)*COS(Base!N580)*COS(Index!$H$3-Base!H580)))","v":35.769848618417321}]
["HD 22091 ","03 34 26,62704","+24 27 51,8294",3,34,26.627040000000001,53.610945999999998,0.9356875228088839,"+",24,27,51.8294,24.464397055555601,0.42698427813465134,163.95400000000001,-25.140699999999999,6.0979999999999999,5.9859999999999998,0.1120000000000001,{"$f":"+VLOOKUP(W581,Data!$E$5:$F$32,2)","v":0.08},3.2000000000000098E-2,"A3V+,,,","A3",{"$f":"+DEGREES(ACOS(SIN(Index!$H$6)*SIN(Base!N581)+COS(Index!$H$6)*COS(Base!N581)*COS(Index!$H$3-Base!H581)))","v":81.097391323762693}]
["HD 221565","23 33 16,62300","-20 54 52,2155",23,33,16.623000000000001,353.31926249999998,6.1665844413431312,"-",20,54,52.215499999999999,-20.914504305555599,-0.36502696155447539,47.930300000000003,-71.128299999999996,4.7279999999999998,4.7089999999999996,1.9000000000000128E-2,{"$f":"+VLOOKUP(W582,Data!$E$5:$F$32,2)","v":-0.01},2.900000000000013E-2,"A0V","A0",{"$f":"+DEGREES(ACOS(SIN(Index!$H$6)*SIN(Base!N582)+COS(Index!$H$6)*COS(Base!N582)*COS(Index!$H$3-Base!H582)))","v":41.90229827042522}]
["HD 221760","23 35 04,56417","-42 36 54,2709",23,35,4.5641699999999998,353.76901737499998,6.1744341447387772,"-",42,36,54.270899999999997,-42.615075249999997,-0.74377337409764566,343.06720000000001,-68.074700000000007,4.7960000000000003,4.7110000000000003,8.4999999999999964E-2,{"$f":"+VLOOKUP(W583,Data!$E$5:$F$32,2)","v":0.05},3.4999999999999962E-2,"A2Vp,,,","A2",{"$f":"+DEGREES(ACOS(SIN(Index!$H$6)*SIN(Base!N583)+COS(Index!$H$6)*COS(Base!N583)*COS(Index!$H$3-Base!H583)))","v":60.172336218689139}]
["HD 22192 ","03 36 29,37982","+48 11 33,4789",3,36,29.379819999999999,54.122415916666668,0.94461435687961837,"+",48,11,33.478900000000003,48.192633027777802,0.84112012154008653,149.1729,-6.0896999999999997,4.2549999999999999,4.3099999999999996,-5.4999999999999716E-2,{"$f":"+VLOOKUP(W584,Data!$E$5:$F$32,2)","v":-0.16},0.10500000000000029,"B5Ve","B5",{"$f":"+DEGREES(ACOS(SIN(Index!$H$6)*SIN(Base!N584)+COS(Index!$H$6)*COS(Base!N584)*COS(Index!$H$3-Base!H584)))","v":78.218599733701552}]
["HD 22203 ","03 33 47,27613","-21 37 58,3830",3,33,47.276130000000002,53.446983875000001,0.93282584387906742,"-",21,37,58.383000000000003,-21.632884166666699,-0.37756505541088364,213.5204,-52.784500000000001,4.16,4.3,-0.13999999999999968,{"$f":"+VLOOKUP(W585,Data!$E$5:$F$32,2)","v":-7.0000000000000007E-2},-6.9999999999999674E-2,"B9V","B9",{"$f":"+DEGREES(ACOS(SIN(Index!$H$6)*SIN(Base!N585)+COS(Index!$H$6)*COS(Base!N585)*COS(Index!$H$3-Base!H585)))","v":90.709984166469056}]
["HD 222095","23 37 50,99418","-45 29 32,4672",23,37,50.99418,354.46247575000001,6.1865372766080569,"-",45,29,32.467199999999998,-45.492351999999997,-0.79399132687622731,336.65899999999999,-66.5184,4.8209999999999997,4.7359999999999998,8.4999999999999964E-2,{"$f":"+VLOOKUP(W586,Data!$E$5:$F$32,2)","v":0.05},3.4999999999999962E-2,"A2V","A2",{"$f":"+DEGREES(ACOS(SIN(Index!$H$6)*SIN(Base!N586)+COS(Index!$H$6)*COS(Base!N586)*COS(Index!$H$3-Base!H586)))","v":62.921556796299051}]
["HD 222109","23 37 32,04280","+44 25 44,3723",23,37,32.0428,354.38351166666666,6.1851590933630707,"+",44,25,44.372300000000003,44.428992305555603,0.7754321990751718,109.2814,-16.475100000000001,5.7530000000000001,5.8170000000000002,-6.4000000000000057E-2,{"$f":"+VLOOKUP(W587,Data!$E$5:$F$32,2)","v":-0.11},4.5999999999999944E-2,"B8V","B8",{"$f":"+DEGREES(ACOS(SIN(Index!$H$6)*SIN(Base!N587)+COS(Index!$H$6)*COS(Base!N587)*COS(Index!$H$3-Base!H587)))","v":39.107399036722185}]
["HD 222133","23 37 56,80285","+18 24 02,3996",23,37,56.802849999999999,354.48667854166666,6.1869596950108141,"+",18,24,2.3996,18.400666555555599,0.32115221595604931,99.544300000000007,-41.109699999999997,5.4909999999999997,5.4820000000000002,8.9999999999994529E-3,{"$f":"+VLOOKUP(W588,Data!$E$5:$F$32,2)","v":0.02},-1.1000000000000548E-2,"A1Vn","A1",{"$f":"+DEGREES(ACOS(SIN(Index!$H$6)*SIN(Base!N588)+COS(Index!$H$6)*COS(Base!N588)*COS(Index!$H$3-Base!H588)))","v":26.364451015055977}]
["HD 222173","23 38 08,20130","+43 16 05,0649",23,38,8.2012999999999998,354.53417208333337,6.1877886136863314,"+",43,16,5.0648999999999997,43.268073583333297,0.7551703450243471,109.0333,-17.616700000000002,4.1900000000000004,4.3,-0.10999999999999943,{"$f":"+VLOOKUP(W589,Data!$E$5:$F$32,2)","v":-0.11},5.6898930012039273E-16,"B8V","B8",{"$f":"+DEGREES(ACOS(SIN(Index!$H$6)*SIN(Base!N589)+COS(Index!$H$6)*COS(Base!N589)*COS(Index!$H$3-Base!H589)))","v":38.355475109520533}]
["HD 222304","23 39 08,33209","+50 28 18,2378",23,39,8.3320900000000009,354.78471704166668,6.1921614481335201,"+",50,28,18.2378,50.4717327222222,0.88089791518933802,111.33629999999999,-10.7651,5.24,5.35,-0.10999999999999943,{"$f":"+VLOOKUP(W590,Data!$E$5:$F$32,2)","v":-7.0000000000000007E-2},-3.9999999999999425E-2,"B9Ve","B9",{"$f":"+DEGREES(ACOS(SIN(Index!$H$6)*SIN(Base!N590)+COS(Index!$H$6)*COS(Base!N590)*COS(Index!$H$3-Base!H590)))","v":43.793537361889427}]
["HD 222386","23 39 10,17490","+75 17 34,3668",23,39,10.174899999999999,354.79239541666664,6.192295461058472,"+",75,17,34.366799999999998,75.292879666666707,1.3141086534912247,118.29559999999999,13.0756,6.0629999999999997,5.9589999999999996,0.10400000000000009,{"$f":"+VLOOKUP(W591,Data!$E$5:$F$32,2)","v":0.08},2.4000000000000091E-2,"A3V","A3",{"$f":"+DEGREES(ACOS(SIN(Index!$H$6)*SIN(Base!N591)+COS(Index!$H$6)*COS(Base!N591)*COS(Index!$H$3-Base!H591)))","v":64.399873458338178}]
["HD 222439","23 40 24,50763","+44 20 02,1566",23,40,24.507629999999999,355.10211512500001,6.1977010897272056,"+",44,20,2.1566000000000001,44.333932388888897,0.77377309054266641,109.7659,-16.714400000000001,4.0759999999999996,4.1369999999999996,-6.0999999999999943E-2,{"$f":"+VLOOKUP(W592,Data!$E$5:$F$32,2)","v":-0.01},-5.0999999999999941E-2,"A0V","A0",{"$f":"+DEGREES(ACOS(SIN(Index!$H$6)*SIN(Base!N592)+COS(Index!$H$6)*COS(Base!N592)*COS(Index!$H$3-Base!H592)))","v":39.398886194021294}]
["HD 22252 ","03 30 51,70736","-66 29 22,9732",3,30,51.707360000000001,52.71544733333333,0.92005812262833131,"-",66,29,22.973199999999999,-66.489714777777806,-1.1604644415841525,282.22969999999998,-43.683300000000003,5.7510000000000003,5.806,-5.4999999999999716E-2,{"$f":"+VLOOKUP(W593,Data!$E$5:$F$32,2)","v":-0.11},5.5000000000000285E-2,"B8V","B8",{"$f":"+DEGREES(ACOS(SIN(Index!$H$6)*SIN(Base!N593)+COS(Index!$H$6)*COS(Base!N593)*COS(Index!$H$3-Base!H593)))","v":99.568003823613552}]
["HD 222602","23 41 56,69001","+07 15 01,9659",23,41,56.690010000000001,355.48620837499999,6.2044047815743912,"+",7,15,1.9659,7.2505460833333304,0.12654590172174576,94.364800000000002,-51.724899999999998,5.9939999999999998,5.9020000000000001,9.1999999999999638E-2,{"$f":"+VLOOKUP(W594,Data!$E$5:$F$32,2)","v":0.08},1.1999999999999636E-2,"A3Vn","A3",{"$f":"+DEGREES(ACOS(SIN(Index!$H$6)*SIN(Base!N594)+COS(Index!$H$6)*COS(Base!N594)*COS(Index!$H$3-Base!H594)))","v":27.817050721615278}]
["HD 222603","23 42 02,80612","+01 46 48,1484",23,42,2.8061199999999999,355.51169216666665,6.2048495576448666,"+",1,46,48.148400000000002,1.7800412222222199,3.1067580149001794E-2,90.144900000000007,-56.608600000000003,4.7,4.5,0.20000000000000018,{"$f":"+VLOOKUP(W595,Data!$E$5:$F$32,2)","v":0.2},0,"A7V","A7",{"$f":"+DEGREES(ACOS(SIN(Index!$H$6)*SIN(Base!N595)+COS(Index!$H$6)*COS(Base!N595)*COS(Index!$H$3-Base!H595)))","v":29.549102321491858}]
["HD 222661","23 42 43,34473","-14 32 41,6523",23,42,43.344729999999998,355.6806030416667,6.2077976085560422,"-",14,32,41.652299999999997,-14.544903416666701,-0.25385645400540663,67.660300000000007,-69.643699999999995,4.4509999999999996,4.4829999999999997,-3.2000000000000028E-2,{"$f":"+VLOOKUP(W596,Data!$E$5:$F$32,2)","v":-7.0000000000000007E-2},3.7999999999999978E-2,"B9V","B9",{"$f":"+DEGREES(ACOS(SIN(Index!$H$6)*SIN(Base!N596)+COS(Index!$H$6)*COS(Base!N596)*COS(Index!$H$3-Base!H596)))","v":38.76776932239656}]
["HD 222847","23 44 12,07893","-18 16 36,9688",23,44,12.07893,356.05032887499999,6.2142505416773881,"-",18,16,36.968800000000002,-18.276935777777801,-0.31899270649777328,59.174399999999999,-72.172600000000003,5.1589999999999998,5.2350000000000003,-7.6000000000000512E-2,{"$f":"+VLOOKUP(W597,Data!$E$5:$F$32,2)","v":-7.0000000000000007E-2},-6.0000000000005049E-3,"B9V","B9",{"$f":"+DEGREES(ACOS(SIN(Index!$H$6)*SIN(Base!N597)+COS(Index!$H$6)*COS(Base!N597)*COS(Index!$H$3-Base!H597)))","v":41.638293594892431}]
["HD 223145","23 47 15,99579","-50 13 35,2578",23,47,15.99579,356.81664912500003,6.2276253531645942,"-",50,13,35.257800000000003,-50.226460500000002,-0.87661710734787746,326.58449999999999,-63.8521,5,5.1609999999999996,-0.16099999999999959,{"$f":"+VLOOKUP(W598,Data!$E$5:$F$32,2)","v":-0.2},3.9000000000000423E-2,"B3V","B3",{"$f":"+DEGREES(ACOS(SIN(Index!$H$6)*SIN(Base!N598)+COS(Index!$H$6)*COS(Base!N598)*COS(Index!$H$3-Base!H598)))","v":67.808230605364898}]
["HD 223274","23 47 54,77158","+67 48 24,5072",23,47,54.77158,356.97821491666667,6.2304452081877688,"+",67,48,24.507200000000001,67.806807555555594,1.1834520471106129,116.9697,5.6734,5.0540000000000003,5.048,6.0000000000002274E-3,{"$f":"+VLOOKUP(W599,Data!$E$5:$F$32,2)","v":0.02},-1.3999999999999773E-2,"A1Vn","A1",{"$f":"+DEGREES(ACOS(SIN(Index!$H$6)*SIN(Base!N599)+COS(Index!$H$6)*COS(Base!N599)*COS(Index!$H$3-Base!H599)))","v":58.393707513016764}]
["HD 223352","23 48 55,54658","-28 07 48,9745",23,48,55.546579999999999,357.23144408333337,6.2348648909081836,"-",28,7,48.974499999999999,-28.130270694444398,-0.49096584309532648,25.1767,-76.127399999999994,4.5860000000000003,4.577,9.0000000000003411E-3,{"$f":"+VLOOKUP(W600,Data!$E$5:$F$32,2)","v":-0.01},1.9000000000000343E-2,"A0V","A0",{"$f":"+DEGREES(ACOS(SIN(Index!$H$6)*SIN(Base!N600)+COS(Index!$H$6)*COS(Base!N600)*COS(Index!$H$3-Base!H600)))","v":49.749522789982933}]
["HD 223781","23 52 37,10541","+10 56 50,3620",23,52,37.105409999999999,358.15460587500002,6.250977103701377,"+",10,56,50.362000000000002,10.947322777777799,0.19106682675079412,100.4442,-49.338999999999999,5.47,5.3,0.16999999999999993,{"$f":"+VLOOKUP(W601,Data!$E$5:$F$32,2)","v":0.12},4.9999999999999933E-2,"A4Vn","A4",{"$f":"+DEGREES(ACOS(SIN(Index!$H$6)*SIN(Base!N601)+COS(Index!$H$6)*COS(Base!N601)*COS(Index!$H$3-Base!H601)))","v":29.786640923252051}]
["HD 224392","23 57 35,07819","-64 17 53,6293",23,57,35.078189999999999,359.396159125,6.2726462957527129,"-",64,17,53.629300000000001,-64.298230361111095,-1.1222158230071713,312.33659999999998,-51.835500000000003,5.0579999999999998,5.0019999999999998,5.600000000000005E-2,{"$f":"+VLOOKUP(W602,Data!$E$5:$F$32,2)","v":0.02},3.6000000000000046E-2,"A1V","A1",{"$f":"+DEGREES(ACOS(SIN(Index!$H$6)*SIN(Base!N602)+COS(Index!$H$6)*COS(Base!N602)*COS(Index!$H$3-Base!H602)))","v":80.598587569818349}]
["HD 224572","23 59 00,53819","+55 45 17,7430",23,59,0.53818999999999995,359.75224245833334,6.2788611223308566,"+",55,45,17.742999999999999,55.754928611111097,0.97310707847827771,115.5545,-6.3639999999999999,4.891,4.9969999999999999,-0.10599999999999987,{"$f":"+VLOOKUP(W603,Data!$E$5:$F$32,2)","v":-0.26},0.15400000000000014,"B1V","B1",{"$f":"+DEGREES(ACOS(SIN(Index!$H$6)*SIN(Base!N603)+COS(Index!$H$6)*COS(Base!N603)*COS(Index!$H$3-Base!H603)))","v":49.729134454924299}]
["HD 22780 ","03 41 07,85747","+37 34 48,7107",3,41,7.8574700000000002,55.282739458333339,0.96486582307010338,"+",37,34,48.710700000000003,37.580197416666699,0.6558981784703013,156.37299999999999,-14.037699999999999,5.4790000000000001,5.5410000000000004,-6.2000000000000277E-2,{"$f":"+VLOOKUP(W604,Data!$E$5:$F$32,2)","v":-0.13},6.7999999999999727E-2,"B7Vne","B7",{"$f":"+DEGREES(ACOS(SIN(Index!$H$6)*SIN(Base!N604)+COS(Index!$H$6)*COS(Base!N604)*COS(Index!$H$3-Base!H604)))","v":80.403585113972881}]
["HD 22951 ","03 42 22,64555","+33 57 54,0893",3,42,22.64555,55.594356458333337,0.97030456572529045,"+",33,57,54.089300000000001,33.965024805555601,0.59280151337849207,158.91990000000001,-16.702999999999999,4.9269999999999996,4.9749999999999996,-4.8000000000000043E-2,{"$f":"+VLOOKUP(W605,Data!$E$5:$F$32,2)","v":-0.3},0.25199999999999995,"B0,5V","B0,5",{"$f":"+DEGREES(ACOS(SIN(Index!$H$6)*SIN(Base!N605)+COS(Index!$H$6)*COS(Base!N605)*COS(Index!$H$3-Base!H605)))","v":81.217997526907169}]
["HD 23016 ","03 42 18,94710","+19 42 00,9206",3,42,18.947099999999999,55.578946250000001,0.97003560685145551,"+",19,42,0.92059999999999997,19.700255722222199,0.34383432583763079,168.99590000000001,-27.508299999999998,5.6639999999999997,5.681,-1.7000000000000348E-2,{"$f":"+VLOOKUP(W606,Data!$E$5:$F$32,2)","v":-7.0000000000000007E-2},5.2999999999999658E-2,"B9Vne","B9",{"$f":"+DEGREES(ACOS(SIN(Index!$H$6)*SIN(Base!N606)+COS(Index!$H$6)*COS(Base!N606)*COS(Index!$H$3-Base!H606)))","v":83.76435008286434}]
["HD 23300 ","03 45 59,26000","+45 40 54,8277",3,45,59.26,56.496916666666664,0.98605721305819294,"+",45,40,54.8277,45.681896583333298,0.79729950393471427,152.0009,-7.1087999999999996,5.5739999999999998,5.6529999999999996,-7.8999999999999737E-2,{"$f":"+VLOOKUP(W607,Data!$E$5:$F$32,2)","v":-0.14000000000000001},6.1000000000000276E-2,"B6V","B6",{"$f":"+DEGREES(ACOS(SIN(Index!$H$6)*SIN(Base!N607)+COS(Index!$H$6)*COS(Base!N607)*COS(Index!$H$3-Base!H607)))","v":80.131120586382735}]
["HD 23324 ","03 45 09,73992","+24 50 21,3368",3,45,9.7399199999999997,56.290582999999998,0.98245601121714721,"+",24,50,21.3368,24.839260222222201,0.43352687463743578,165.70519999999999,-23.264299999999999,5.585,5.6509999999999998,-6.5999999999999837E-2,{"$f":"+VLOOKUP(W608,Data!$E$5:$F$32,2)","v":-0.11},4.4000000000000164E-2,"B8V","B8",{"$f":"+DEGREES(ACOS(SIN(Index!$H$6)*SIN(Base!N608)+COS(Index!$H$6)*COS(Base!N608)*COS(Index!$H$3-Base!H608)))","v":83.425193428758007}]
["HD 23363 ","03 44 30,51002","-01 09 47,1437",3,44,30.510020000000001,56.127125083333333,0.97960313238286334,"-",1,9,47.143700000000003,-1.16309547222222,-2.0299845505315987E-2,188.3211,-41.084800000000001,5.15,5.25,-9.9999999999999645E-2,{"$f":"+VLOOKUP(W609,Data!$E$5:$F$32,2)","v":-0.13},3.000000000000036E-2,"B7V","B7",{"$f":"+DEGREES(ACOS(SIN(Index!$H$6)*SIN(Base!N609)+COS(Index!$H$6)*COS(Base!N609)*COS(Index!$H$3-Base!H609)))","v":88.662974064059924}]
["HD 23432 ","03 45 54,47689","+24 33 16,2442",3,45,54.476889999999997,56.476987041666668,0.98570937548325532,"+",24,33,16.244199999999999,24.5545122777778,0.42855708546859506,166.04939999999999,-23.363299999999999,5.7270000000000003,5.7610000000000001,-3.3999999999999808E-2,{"$f":"+VLOOKUP(W610,Data!$E$5:$F$32,2)","v":-0.11},7.6000000000000192E-2,"B8V","B8",{"$f":"+DEGREES(ACOS(SIN(Index!$H$6)*SIN(Base!N610)+COS(Index!$H$6)*COS(Base!N610)*COS(Index!$H$3-Base!H610)))","v":83.645567559968129}]
["HD 23466 ","03 45 40,44358","+06 02 59,9751",3,45,40.443579999999997,56.418514916666666,0.98468884438136761,"+",6,2,59.975099999999998,6.0499930833333302,0.10559229902705029,181.28219999999999,-36.390999999999998,5.234,5.3319999999999999,-9.7999999999999865E-2,{"$f":"+VLOOKUP(W611,Data!$E$5:$F$32,2)","v":-0.2},0.10200000000000015,"B3V","B3",{"$f":"+DEGREES(ACOS(SIN(Index!$H$6)*SIN(Base!N611)+COS(Index!$H$6)*COS(Base!N611)*COS(Index!$H$3-Base!H611)))","v":87.379225346553127}]
["HD 23523 ","03 49 36,59742","+63 17 49,0722",3,49,36.59742,57.402489250000002,1.0018624362531505,"+",63,17,49.072200000000002,63.296964500000001,1.1047404370429663,141.44919999999999,7.0255000000000001,6.0060000000000002,5.8319999999999999,0.17400000000000038,{"$f":"+VLOOKUP(W612,Data!$E$5:$F$32,2)","v":0.15},2.4000000000000382E-2,"A5Vn","A5",{"$f":"+DEGREES(ACOS(SIN(Index!$H$6)*SIN(Base!N612)+COS(Index!$H$6)*COS(Base!N612)*COS(Index!$H$3-Base!H612)))","v":78.580576523484581}]
["HD 23738 ","03 46 27,42837","-29 20 17,3620",3,46,27.428370000000001,56.614284874999996,0.98810567473077626,"-",29,20,17.361999999999998,-29.3381561111111,-0.51204742060298403,226.80930000000001,-51.610700000000001,6.0279999999999996,5.9169999999999998,0.11099999999999977,{"$f":"+VLOOKUP(W613,Data!$E$5:$F$32,2)","v":0.08},3.0999999999999764E-2,"A3V","A3",{"$f":"+DEGREES(ACOS(SIN(Index!$H$6)*SIN(Base!N613)+COS(Index!$H$6)*COS(Base!N613)*COS(Index!$H$3-Base!H613)))","v":95.170101354970427}]
["HD 23753 ","03 48 20,81574","+23 25 16,5016",3,48,20.815740000000002,57.086732249999997,0.99635143696693063,"+",23,25,16.5016,23.4212504444444,0.40877793518974004,167.33179999999999,-23.825500000000002,5.3780000000000001,5.4409999999999998,-6.2999999999999723E-2,{"$f":"+VLOOKUP(W614,Data!$E$5:$F$32,2)","v":-0.11},4.7000000000000278E-2,"B8V","B8",{"$f":"+DEGREES(ACOS(SIN(Index!$H$6)*SIN(Base!N614)+COS(Index!$H$6)*COS(Base!N614)*COS(Index!$H$3-Base!H614)))","v":84.411883762587024}]
["HD 23793 ","03 48 16,26753","+11 08 35,8677",3,48,16.267530000000001,57.067781375000003,0.99602068180204684,"+",11,8,35.867699999999999,11.143296583333299,0.19448721490540075,177.1712,-32.533999999999999,4.92,5.0599999999999996,-0.13999999999999968,{"$f":"+VLOOKUP(W615,Data!$E$5:$F$32,2)","v":-0.2},6.0000000000000331E-2,"B3V+,,,","B3",{"$f":"+DEGREES(ACOS(SIN(Index!$H$6)*SIN(Base!N615)+COS(Index!$H$6)*COS(Base!N615)*COS(Index!$H$3-Base!H615)))","v":86.917117244373642}]
["HD 23848 ","03 49 32,68952","+33 05 28,9603",3,49,32.689520000000002,57.386206333333327,1.0015782457454891,"+",33,5,28.9603,33.091377861111098,0.5775534976979475,160.7003,-16.416799999999999,5.1980000000000004,5.1440000000000001,5.400000000000027E-2,{"$f":"+VLOOKUP(W616,Data!$E$5:$F$32,2)","v":0.08},-2.5999999999999732E-2,"A3V","A3",{"$f":"+DEGREES(ACOS(SIN(Index!$H$6)*SIN(Base!N616)+COS(Index!$H$6)*COS(Base!N616)*COS(Index!$H$3-Base!H616)))","v":82.839620683975923}]
["HD 23878 ","03 47 39,65058","-23 52 28,8352",3,47,39.650579999999998,56.91521075,0.99335782205397127,"-",23,52,28.8352,-23.8746764444444,-0.41669171180388787,218.37180000000001,-50.302500000000002,5.3129999999999997,5.2430000000000003,6.9999999999999396E-2,{"$f":"+VLOOKUP(W617,Data!$E$5:$F$32,2)","v":0.02},4.9999999999999392E-2,"A1V","A1",{"$f":"+DEGREES(ACOS(SIN(Index!$H$6)*SIN(Base!N617)+COS(Index!$H$6)*COS(Base!N617)*COS(Index!$H$3-Base!H617)))","v":94.320676413524779}]
["HD 23985 ","03 50 18,94122","+25 34 45,7479",3,50,18.941220000000001,57.578921749999999,1.0049417642856753,"+",25,34,45.747900000000001,25.579374416666699,0.44644430417123782,166.10429999999999,-21.933700000000002,5.4470000000000001,5.2370000000000001,0.20999999999999996,{"$f":"+VLOOKUP(W618,Data!$E$5:$F$32,2)","v":0.05},0.15999999999999998,"A2V+,,,","A2",{"$f":"+DEGREES(ACOS(SIN(Index!$H$6)*SIN(Base!N618)+COS(Index!$H$6)*COS(Base!N618)*COS(Index!$H$3-Base!H618)))","v":84.426165314578839}]
["HD 24071 ","03 48 35,38"," -37 37 19,6      ",3,48,35.380000000000003,57.147416666666665,0.9974105798424161,"-",37,37,19.600000000000001,-37.622111111111103,-0.65662971044003093,240.1747,-51.532800000000002,5.42,5.42,0,{"$f":"+VLOOKUP(W619,Data!$E$5:$F$32,2)","v":0.02},-0.02,"A1V","A1",{"$f":"+DEGREES(ACOS(SIN(Index!$H$6)*SIN(Base!N619)+COS(Index!$H$6)*COS(Base!N619)*COS(Index!$H$3-Base!H619)))","v":97.19186454139178}]
["HD 24072 ","03 48 35,600 ","-37 37 17,86    ",3,48,35.6,57.148333333333326,0.99742657869389262,"-",37,37,17.86,-37.621627777777803,-0.65662127468198028,240.1739,-51.5321,4.8499999999999996,4.8600000000000003,-1.0000000000000675E-2,{"$f":"+VLOOKUP(W620,Data!$E$5:$F$32,2)","v":-7.0000000000000007E-2},5.9999999999999332E-2,"B9V","B9",{"$f":"+DEGREES(ACOS(SIN(Index!$H$6)*SIN(Base!N620)+COS(Index!$H$6)*COS(Base!N620)*COS(Index!$H$3-Base!H620)))","v":97.192491182139307}]
["HD 24131 ","03 51 53,72030","+34 21 32,8334",3,51,53.720300000000002,57.973834583333336,1.0118342934857216,"+",34,21,32.833399999999997,34.359120388888897,0.59967977887522572,160.22659999999999,-15.136900000000001,5.7469999999999999,5.7839999999999998,-3.6999999999999922E-2,{"$f":"+VLOOKUP(W621,Data!$E$5:$F$32,2)","v":-0.26},0.22300000000000009,"B1V","B1",{"$f":"+DEGREES(ACOS(SIN(Index!$H$6)*SIN(Base!N621)+COS(Index!$H$6)*COS(Base!N621)*COS(Index!$H$3-Base!H621)))","v":83.088857698788502}]
["HD 2421  ","00 28 13,65460","+44 23 40,0308",0,28,13.6546,7.0568941666666669,0.12316603817311482,"+",44,23,40.030799999999999,44.394452999999999,0.77482937447187417,118.5686,-18.2806,5.218,5.1829999999999998,3.5000000000000142E-2,{"$f":"+VLOOKUP(W622,Data!$E$5:$F$32,2)","v":0.05},-1.4999999999999861E-2,"A2Vs","A2",{"$f":"+DEGREES(ACOS(SIN(Index!$H$6)*SIN(Base!N622)+COS(Index!$H$6)*COS(Base!N622)*COS(Index!$H$3-Base!H622)))","v":46.171944117981752}]
["HD 24263 ","03 52 00,22980","+06 32 05,6584",3,52,0.2298,58.000957499999998,1.012307677684299,"+",6,32,5.6584000000000003,6.5349051111111098,0.11405561049429475,182.071,-34.874899999999997,5.7210000000000001,5.6909999999999998,3.0000000000000249E-2,{"$f":"+VLOOKUP(W623,Data!$E$5:$F$32,2)","v":-0.16},0.19000000000000025,"B5V","B5",{"$f":"+DEGREES(ACOS(SIN(Index!$H$6)*SIN(Base!N623)+COS(Index!$H$6)*COS(Base!N623)*COS(Index!$H$3-Base!H623)))","v":88.8099392387374}]
["HD 24388 ","03 52 41,65702","-05 21 40,5455",3,52,41.657020000000003,58.173570916666669,1.0153203501382493,"-",5,21,40.545499999999997,-5.3612626388888902,-9.3571685112770919E-2,194.48650000000001,-41.737900000000003,5.3879999999999999,5.476,-8.8000000000000078E-2,{"$f":"+VLOOKUP(W624,Data!$E$5:$F$32,2)","v":-0.11},2.1999999999999922E-2,"B8V","B8",{"$f":"+DEGREES(ACOS(SIN(Index!$H$6)*SIN(Base!N624)+COS(Index!$H$6)*COS(Base!N624)*COS(Index!$H$3-Base!H624)))","v":91.573874861296758}]
["HD 24479 ","03 57 25,44380","+63 04 20,1442",3,57,25.4438,59.356015833333338,1.0359579071575526,"+",63,4,20.144200000000001,63.072262277777803,1.1008186434286411,142.2766,7.4169999999999998,4.8929999999999998,4.9459999999999997,-5.2999999999999936E-2,{"$f":"+VLOOKUP(W625,Data!$E$5:$F$32,2)","v":-7.0000000000000007E-2},1.7000000000000071E-2,"B9V","B9",{"$f":"+DEGREES(ACOS(SIN(Index!$H$6)*SIN(Base!N625)+COS(Index!$H$6)*COS(Base!N625)*COS(Index!$H$3-Base!H625)))","v":79.481183146294342}]
["HD 24504 ","03 55 58,17439","+47 52 17,1184",3,55,58.174390000000002,58.992393291666666,1.0296114965709988,"+",47,52,17.118400000000001,47.871421777777798,0.83551392763313981,151.94409999999999,-4.3320999999999996,5.306,5.3789999999999996,-7.299999999999951E-2,{"$f":"+VLOOKUP(W626,Data!$E$5:$F$32,2)","v":-0.14000000000000001},6.7000000000000504E-2,"B6V","B6",{"$f":"+DEGREES(ACOS(SIN(Index!$H$6)*SIN(Base!N626)+COS(Index!$H$6)*COS(Base!N626)*COS(Index!$H$3-Base!H626)))","v":81.488458898543328}]
["HD 24587 ","03 53 42,70302","-24 36 44,0309",3,53,42.703020000000002,58.427929249999998,1.0197597405348011,"-",24,36,44.030900000000003,-24.612230805555601,-0.42956446381772151,219.99549999999999,-49.142800000000001,4.5060000000000002,4.625,-0.11899999999999977,{"$f":"+VLOOKUP(W627,Data!$E$5:$F$32,2)","v":-0.16},4.1000000000000231E-2,"B5V","B5",{"$f":"+DEGREES(ACOS(SIN(Index!$H$6)*SIN(Base!N627)+COS(Index!$H$6)*COS(Base!N627)*COS(Index!$H$3-Base!H627)))","v":95.819916767938992}]
["HD 24626 ","03 53 38,94703","-34 43 56,2697",3,53,38.947029999999998,58.412279291666671,1.0194865972340845,"-",34,43,56.2697,-34.732297138888903,-0.60619294185461758,235.56819999999999,-50.530799999999999,4.9649999999999999,5.0890000000000004,-0.12400000000000055,{"$f":"+VLOOKUP(W628,Data!$E$5:$F$32,2)","v":-0.14000000000000001},1.5999999999999459E-2,"B6V","B6",{"$f":"+DEGREES(ACOS(SIN(Index!$H$6)*SIN(Base!N628)+COS(Index!$H$6)*COS(Base!N628)*COS(Index!$H$3-Base!H628)))","v":97.682776558503036}]
["HD 24640 ","03 56 28,69092","+35 04 51,2349",3,56,28.690919999999998,59.119545500000001,1.0318307212575972,"+",35,4,51.234900000000003,35.080898583333301,0.61227718483738047,160.46870000000001,-13.973800000000001,5.431,5.4889999999999999,-5.7999999999999829E-2,{"$f":"+VLOOKUP(W629,Data!$E$5:$F$32,2)","v":-0.26},0.20200000000000018,"B1,5V","B1,5",{"$f":"+DEGREES(ACOS(SIN(Index!$H$6)*SIN(Base!N629)+COS(Index!$H$6)*COS(Base!N629)*COS(Index!$H$3-Base!H629)))","v":83.877585985667423}]
["HD 24760 ","03 57 51,23205","+40 00 36,7752",3,57,51.232050000000001,59.463466875000002,1.0378332816193334,"+",40,0,36.775199999999998,40.010215333333299,0.69830999199858657,157.35380000000001,-10.0885,2.7330000000000001,2.9009999999999998,-0.16799999999999971,{"$f":"+VLOOKUP(W630,Data!$E$5:$F$32,2)","v":-0.3},0.13200000000000028,"B0,5V+,,,","B0,5",{"$f":"+DEGREES(ACOS(SIN(Index!$H$6)*SIN(Base!N630)+COS(Index!$H$6)*COS(Base!N630)*COS(Index!$H$3-Base!H630)))","v":83.206655526398848}]
["HD 25204 ","04 00 40,81572","+12 29 25,2259",4,0,40.815719999999999,60.170065500000007,1.0501657541156482,"+",12,29,25.225899999999999,12.4903405277778,0.21799756690500888,178.37180000000001,-29.375699999999998,3.31,3.4079999999999999,-9.7999999999999865E-2,{"$f":"+VLOOKUP(W631,Data!$E$5:$F$32,2)","v":-0.2},0.10200000000000015,"B3V+,,,","B3",{"$f":"+DEGREES(ACOS(SIN(Index!$H$6)*SIN(Base!N631)+COS(Index!$H$6)*COS(Base!N631)*COS(Index!$H$3-Base!H631)))","v":89.588581644597042}]
["HD 25267 ","03 59 55,48381","-24 00 58,3798",3,59,55.483809999999998,59.981182541666662,1.0468691245918242,"-",24,0,58.379800000000003,-24.016216611111101,-0.41916205373604332,219.64689999999999,-47.624600000000001,4.5129999999999999,4.62,-0.10700000000000021,{"$f":"+VLOOKUP(W632,Data!$E$5:$F$32,2)","v":-0.14000000000000001},3.2999999999999807E-2,"B6V+,,,","B6",{"$f":"+DEGREES(ACOS(SIN(Index!$H$6)*SIN(Base!N632)+COS(Index!$H$6)*COS(Base!N632)*COS(Index!$H$3-Base!H632)))","v":97.096117434466478}]
["HD 25330 ","04 01 46,13616","+09 59 52,8433",4,1,46.136159999999997,60.442233999999992,1.0549159905608623,"+",9,59,52.843299999999999,9.9980120277777793,0.17449822853871702,180.756,-30.799600000000002,5.6790000000000003,5.6760000000000002,3.0000000000001137E-3,{"$f":"+VLOOKUP(W633,Data!$E$5:$F$32,2)","v":-0.16},0.16300000000000012,"B5V","B5",{"$f":"+DEGREES(ACOS(SIN(Index!$H$6)*SIN(Base!N633)+COS(Index!$H$6)*COS(Base!N633)*COS(Index!$H$3-Base!H633)))","v":90.404110709397486}]
["HD 25340 ","04 01 32,05014","-01 32 58,7831",4,1,32.050139999999999,60.383542249999998,1.053891626279605,"-",1,32,58.783099999999997,-1.54966197222222,-2.7046703708226649E-2,191.88339999999999,-37.8142,5.13,5.28,-0.15000000000000036,{"$f":"+VLOOKUP(W634,Data!$E$5:$F$32,2)","v":-0.16},9.9999999999996481E-3,"B5V","B5",{"$f":"+DEGREES(ACOS(SIN(Index!$H$6)*SIN(Base!N634)+COS(Index!$H$6)*COS(Base!N634)*COS(Index!$H$3-Base!H634)))","v":92.899922771816108}]
["HD 25371 ","04 00 40,65547","-30 29 26,5055",4,0,40.655470000000001,60.169397791666661,1.0501541004067885,"-",30,29,26.505500000000001,-30.490695972222198,-0.53216303593985081,229.22749999999999,-48.708100000000002,5.9560000000000004,5.9219999999999997,3.4000000000000696E-2,{"$f":"+VLOOKUP(W635,Data!$E$5:$F$32,2)","v":0.05},-1.5999999999999306E-2,"A2V","A2",{"$f":"+DEGREES(ACOS(SIN(Index!$H$6)*SIN(Base!N635)+COS(Index!$H$6)*COS(Base!N635)*COS(Index!$H$3-Base!H635)))","v":98.411565189389023}]
["HD 25558 ","04 03 44,60515","+05 26 08,2465",4,3,44.605150000000002,60.935854791666657,1.0635312986317464,"+",5,26,8.2464999999999993,5.4356240277777799,9.4869536185237968E-2,185.3092,-33.282499999999999,5.2290000000000001,5.3079999999999998,-7.8999999999999737E-2,{"$f":"+VLOOKUP(W636,Data!$E$5:$F$32,2)","v":-0.2},0.12100000000000027,"B3V","B3",{"$f":"+DEGREES(ACOS(SIN(Index!$H$6)*SIN(Base!N636)+COS(Index!$H$6)*COS(Base!N636)*COS(Index!$H$3-Base!H636)))","v":91.899282254172633}]
["HD 25940 ","04 08 39,69216","+47 42 45,0429",4,8,39.692160000000001,62.165384000000003,1.0849906315666027,"+",47,42,45.042900000000003,47.712511916666699,0.83274042734286424,153.6542,-3.0451000000000001,3.9670000000000001,4.0030000000000001,-3.6000000000000032E-2,{"$f":"+VLOOKUP(W637,Data!$E$5:$F$32,2)","v":-0.2},0.16399999999999998,"B3Ve","B3",{"$f":"+DEGREES(ACOS(SIN(Index!$H$6)*SIN(Base!N637)+COS(Index!$H$6)*COS(Base!N637)*COS(Index!$H$3-Base!H637)))","v":83.612854294391724}]
["HD 26171 ","04 09 01,57045","+13 23 53,8126",4,9,1.5704499999999999,62.256543541666666,1.086581665713295,"+",13,23,53.812600000000003,13.3982812777778,0.23384412240553556,179.1063,-27.244700000000002,5.976,5.9420000000000002,3.3999999999999808E-2,{"$f":"+VLOOKUP(W638,Data!$E$5:$F$32,2)","v":-7.0000000000000007E-2},0.10399999999999981,"B9,5V","B9,5",{"$f":"+DEGREES(ACOS(SIN(Index!$H$6)*SIN(Base!N638)+COS(Index!$H$6)*COS(Base!N638)*COS(Index!$H$3-Base!H638)))","v":91.363851798327403}]
["HD 26356 ","04 28 13,27286","+83 48 28,0466",4,28,13.27286,67.055303583333341,1.1703358284535186,"+",83,48,28.046600000000002,83.807790722222194,1.4627218869251337,128.40170000000001,23.4009,5.3949999999999996,5.5,-0.10500000000000043,{"$f":"+VLOOKUP(W639,Data!$E$5:$F$32,2)","v":-0.16},5.4999999999999577E-2,"B5V","B5",{"$f":"+DEGREES(ACOS(SIN(Index!$H$6)*SIN(Base!N639)+COS(Index!$H$6)*COS(Base!N639)*COS(Index!$H$3-Base!H639)))","v":78.445533701148889}]
["HD 26591 ","04 11 36,20392","-20 21 22,1673",4,11,36.203919999999997,62.900849666666666,1.0978269289853111,"-",20,21,22.167300000000001,-20.356157583333299,-0.35528197288397806,215.72239999999999,-43.987499999999997,5.9580000000000002,5.7939999999999996,0.16400000000000059,{"$f":"+VLOOKUP(W640,Data!$E$5:$F$32,2)","v":0.02},0.1440000000000006,"A1V+,,,","A1",{"$f":"+DEGREES(ACOS(SIN(Index!$H$6)*SIN(Base!N640)+COS(Index!$H$6)*COS(Base!N640)*COS(Index!$H$3-Base!H640)))","v":99.093096956502123}]
["HD 26612 ","04 10 50,58927","-41 59 36,8537",4,10,50.589269999999999,62.710788625000006,1.0945097380284576,"-",41,59,36.853700000000003,-41.993570472222203,-0.73292606940854743,246.49619999999999,-47.017699999999998,5.26,4.9000000000000004,0.35999999999999943,{"$f":"+VLOOKUP(W641,Data!$E$5:$F$32,2)","v":0.3},5.9999999999999443E-2,"A9V","A9",{"$f":"+DEGREES(ACOS(SIN(Index!$H$6)*SIN(Base!N641)+COS(Index!$H$6)*COS(Base!N641)*COS(Index!$H$3-Base!H641)))","v":102.05503320280378}]
["HD 26670 ","04 16 53,55681","+61 50 59,9698",4,16,53.556809999999999,64.223153374999995,1.1209054824070583,"+",61,50,59.969799999999999,61.849991611111101,1.0794859959447609,144.78200000000001,8.0411999999999999,5.5609999999999999,5.6760000000000002,-0.11500000000000021,{"$f":"+VLOOKUP(W642,Data!$E$5:$F$32,2)","v":-0.16},4.499999999999979E-2,"B5Vn","B5",{"$f":"+DEGREES(ACOS(SIN(Index!$H$6)*SIN(Base!N642)+COS(Index!$H$6)*COS(Base!N642)*COS(Index!$H$3-Base!H642)))","v":81.900719336288006}]
["HD 26764 ","04 16 43,08708","+53 36 42,4738",4,16,43.08708,64.179529500000001,{"$f":"+RADIANS(G643)","v":1.12014410215583},"+",53,36,42.473799999999997,{"$f":"VALUE(CONCATENATE(I643,+J643+K643/60+L643/3600))","v":53.611798277777801},{"$f":"+RADIANS(M643)","v":0.93570239786224818},150.54130000000001,2.1259999999999999,5.2489999999999997,5.2,4.8999999999999488E-2,{"$f":"+VLOOKUP(W643,Data!$E$5:$F$32,2)","v":0.05},{"$f":"+S643-T643","v":-1.0000000000005144E-3},"A2Vn",{"$f":"IF(MID(V643,3,1)<>\",\",LEFT(V643,2),LEFT(V643,4))","v":"A2"},{"$f":"+DEGREES(ACOS(SIN(Index!$H$6)*SIN(Base!N643)+COS(Index!$H$6)*COS(Base!N643)*COS(Index!$H$3-Base!H643)))","v":83.614609906707045}]
["HD 26793 ","04 14 36,23274","+10 00 41,0529",4,14,36.23274,63.650969750000009,1.1109189942248121,"+",10,0,41.052900000000001,10.011403583333299,0.17473195527512458,183.04300000000001,-28.344000000000001,5.1239999999999997,5.2080000000000002,-8.4000000000000519E-2,{"$f":"+VLOOKUP(W644,Data!$E$5:$F$32,2)","v":-7.0000000000000007E-2},-1.4000000000000512E-2,"B9Vn","B9",{"$f":"+DEGREES(ACOS(SIN(Index!$H$6)*SIN(Base!N644)+COS(Index!$H$6)*COS(Base!N644)*COS(Index!$H$3-Base!H644)))","v":93.47768754100268}]
["HD 2696  ","00 30 22,65465","-23 47 15,6501",0,30,22.65465,7.5943943750000003,0.13254718653868694,"-",23,47,15.6501,-23.787680583333302,-0.41517334759189151,66.872399999999999,-84.191000000000003,5.31,5.19,0.11999999999999922,{"$f":"+VLOOKUP(W645,Data!$E$5:$F$32,2)","v":0.08},3.9999999999999217E-2,"A3V","A3",{"$f":"+DEGREES(ACOS(SIN(Index!$H$6)*SIN(Base!N645)+COS(Index!$H$6)*COS(Base!N645)*COS(Index!$H$3-Base!H645)))","v":53.309577552095995}]
["HD 27084 ","04 19 13,23824","+50 02 55,2970",4,19,13.238239999999999,64.805159333333322,1.1310634026461999,"+",50,2,55.296999999999997,50.048693611111098,0.87351448983573909,153.3056,-0.15590000000000001,5.67,5.4,0.26999999999999957,{"$f":"+VLOOKUP(W646,Data!$E$5:$F$32,2)","v":0.2},6.9999999999999563E-2,"A7V","A7",{"$f":"+DEGREES(ACOS(SIN(Index!$H$6)*SIN(Base!N646)+COS(Index!$H$6)*COS(Base!N646)*COS(Index!$H$3-Base!H646)))","v":84.79688122366224}]
["HD 27322 ","04 21 51,80647","+56 30 22,7392",4,21,51.806469999999997,65.465860291666658,1.1425948097401986,"+",56,30,22.7392,56.506316444444401,0.98622127012937033,149.03020000000001,4.7039,6.03,5.92,0.11000000000000032,{"$f":"+VLOOKUP(W647,Data!$E$5:$F$32,2)","v":0.08},3.0000000000000318E-2,"A3V","A3",{"$f":"+DEGREES(ACOS(SIN(Index!$H$6)*SIN(Base!N647)+COS(Index!$H$6)*COS(Base!N647)*COS(Index!$H$3-Base!H647)))","v":83.681196394345221}]
["HD 27376 ","04 17 53,66241","-33 47 54,0569",4,17,53.662410000000001,64.473593374999993,1.1252764849857531,"-",33,47,54.056899999999999,-33.798349138888902,-0.58989247421220159,234.67500000000001,-45.4711,3.452,3.5459999999999998,-9.3999999999999861E-2,{"$f":"+VLOOKUP(W648,Data!$E$5:$F$32,2)","v":-7.0000000000000007E-2},-2.3999999999999855E-2,"B9V","B9",{"$f":"+DEGREES(ACOS(SIN(Index!$H$6)*SIN(Base!N648)+COS(Index!$H$6)*COS(Base!N648)*COS(Index!$H$3-Base!H648)))","v":102.49852165262305}]
["HD 27616 ","04 20 39,01323","-20 38 22,6434",4,20,39.01323,65.162555124999997,1.1373011359435552,"-",20,38,22.6434,-20.639623166666698,-0.36022938062923227,217.00899999999999,-42.068100000000001,5.36,5.38,-1.9999999999999574E-2,{"$f":"+VLOOKUP(W649,Data!$E$5:$F$32,2)","v":-0.01},-9.9999999999995735E-3,"A0V","A0",{"$f":"+DEGREES(ACOS(SIN(Index!$H$6)*SIN(Base!N649)+COS(Index!$H$6)*COS(Base!N649)*COS(Index!$H$3-Base!H649)))","v":101.22893094725001}]
["HD 27638 ","04 22 34,94293","+25 37 45,5379",4,22,34.942929999999997,65.645595541666665,1.1457317816345938,"+",25,37,45.5379,25.6293160833333,0.44731595068850349,171.506,-16.742100000000001,5.3470000000000004,5.3760000000000003,-2.8999999999999915E-2,{"$f":"+VLOOKUP(W650,Data!$E$5:$F$32,2)","v":-7.0000000000000007E-2},4.1000000000000092E-2,"B9V","B9",{"$f":"+DEGREES(ACOS(SIN(Index!$H$6)*SIN(Base!N650)+COS(Index!$H$6)*COS(Base!N650)*COS(Index!$H$3-Base!H650)))","v":91.500586650435579}]
["HD 2772  ","00 31 46,35935","+54 31 20,2257",0,31,46.359349999999999,7.9431639583333347,0.13863436409866237,"+",54,31,20.2257,54.522284916666699,0.95159338750627609,120.05110000000001,-8.2393999999999998,4.6449999999999996,4.7320000000000002,-8.7000000000000632E-2,{"$f":"+VLOOKUP(W651,Data!$E$5:$F$32,2)","v":-0.11},2.2999999999999368E-2,"B8Vn","B8",{"$f":"+DEGREES(ACOS(SIN(Index!$H$6)*SIN(Base!N651)+COS(Index!$H$6)*COS(Base!N651)*COS(Index!$H$3-Base!H651)))","v":52.361924025116465}]
["HD 27777 ","04 24 29,15549","+34 07 50,7293",4,24,29.15549,66.121481208333336,1.1540375533809755,"+",34,7,50.729300000000002,34.130758138888901,0.59569410572546344,165.38419999999999,-10.6503,5.6680000000000001,5.7220000000000004,-5.400000000000027E-2,{"$f":"+VLOOKUP(W652,Data!$E$5:$F$32,2)","v":-0.11},5.5999999999999731E-2,"B8V","B8",{"$f":"+DEGREES(ACOS(SIN(Index!$H$6)*SIN(Base!N652)+COS(Index!$H$6)*COS(Base!N652)*COS(Index!$H$3-Base!H652)))","v":89.704582313103273}]
["HD 27819 ","04 24 05,75985","+17 26 38,8583",4,24,5.7598500000000001,66.023999375000002,1.1523361744284284,"+",17,26,38.8583,17.4441273055556,0.30445745661899215,178.2884,-21.8596,4.9630000000000001,4.8040000000000003,0.15899999999999981,{"$f":"+VLOOKUP(W653,Data!$E$5:$F$32,2)","v":0.2},-4.1000000000000203E-2,"A7V","A7",{"$f":"+DEGREES(ACOS(SIN(Index!$H$6)*SIN(Base!N653)+COS(Index!$H$6)*COS(Base!N653)*COS(Index!$H$3-Base!H653)))","v":93.917047302661175}]
["HD 27820 ","04 23 51,82553","+09 27 39,4939",4,23,51.825530000000001,65.965939708333337,1.1513228420824846,"+",9,27,39.493899999999996,9.4609705277777802,0.16512508614386789,185.11009999999999,-26.876300000000001,5.1950000000000003,5.1130000000000004,8.1999999999999851E-2,{"$f":"+VLOOKUP(W654,Data!$E$5:$F$32,2)","v":0.08},1.9999999999998491E-3,"A3V","A3",{"$f":"+DEGREES(ACOS(SIN(Index!$H$6)*SIN(Base!N654)+COS(Index!$H$6)*COS(Base!N654)*COS(Index!$H$3-Base!H654)))","v":95.824752346365614}]
["HD 27861 ","04 23 40,85270","-03 44 43,6771",4,23,40.852699999999999,65.920219583333349,1.1505248753668116,"-",3,44,43.677100000000003,-3.7454658611111098,-6.5370711297433506E-2,197.8246,-34.298099999999998,5.2480000000000002,5.1710000000000003,7.6999999999999957E-2,{"$f":"+VLOOKUP(W655,Data!$E$5:$F$32,2)","v":0.05},2.6999999999999955E-2,"A2V","A2",{"$f":"+DEGREES(ACOS(SIN(Index!$H$6)*SIN(Base!N655)+COS(Index!$H$6)*COS(Base!N655)*COS(Index!$H$3-Base!H655)))","v":98.773106171771317}]
["HD 27946 ","04 25 25,01518","+22 11 59,9876",4,25,25.015180000000001,66.354229916666668,1.158099784671156,"+",22,11,59.9876,22.1999965555556,0.38746303382584546,174.64699999999999,-18.536799999999999,5.5060000000000002,5.2750000000000004,0.23099999999999987,{"$f":"+VLOOKUP(W656,Data!$E$5:$F$32,2)","v":0.2},3.0999999999999861E-2,"A7V","A7",{"$f":"+DEGREES(ACOS(SIN(Index!$H$6)*SIN(Base!N656)+COS(Index!$H$6)*COS(Base!N656)*COS(Index!$H$3-Base!H656)))","v":93.006667509024552}]
["HD 28024 ","04 26 18,46368","+22 48 48,8885",4,26,18.46368,66.576931999999999,1.1619866692763734,"+",22,48,48.888500000000001,22.813580138888899,0.39817208759119654,174.30179999999999,-17.9788,4.5449999999999999,4.2930000000000001,0.25199999999999978,{"$f":"+VLOOKUP(W657,Data!$E$5:$F$32,2)","v":0.27},-1.8000000000000238E-2,"A8Vn","A8",{"$f":"+DEGREES(ACOS(SIN(Index!$H$6)*SIN(Base!N657)+COS(Index!$H$6)*COS(Base!N657)*COS(Index!$H$3-Base!H657)))","v":93.04657303945018}]
["HD 28149 ","04 27 17,44733","+22 59 46,8012",4,27,17.447330000000001,66.822697208333338,1.1662760813486399,"+",22,59,46.801200000000001,22.9963336666667,0.40136173837055411,174.31290000000001,-17.688099999999999,5.4210000000000003,5.5149999999999997,-9.3999999999999417E-2,{"$f":"+VLOOKUP(W658,Data!$E$5:$F$32,2)","v":-0.13},3.6000000000000587E-2,"B7V","B7",{"$f":"+DEGREES(ACOS(SIN(Index!$H$6)*SIN(Base!N658)+COS(Index!$H$6)*COS(Base!N658)*COS(Index!$H$3-Base!H658)))","v":93.217471729008977}]
["HD 2834  ","00 31 24,98046","-48 48 12,6538",0,31,24.980460000000001,7.8540852500000007,0.13707964734482198,"-",48,48,12.6538,-48.803514944444402,-0.85178202232681233,311.74869999999999,-67.980599999999995,4.79,4.7699999999999996,2.0000000000000462E-2,{"$f":"+VLOOKUP(W659,Data!$E$5:$F$32,2)","v":-0.01},3.0000000000000464E-2,"A0V","A0",{"$f":"+DEGREES(ACOS(SIN(Index!$H$6)*SIN(Base!N659)+COS(Index!$H$6)*COS(Base!N659)*COS(Index!$H$3-Base!H659)))","v":70.901890017280238}]
["HD 28355 ","04 28 50,16426","+13 02 51,3693",4,28,50.164259999999999,67.209017750000001,1.1730186467688113,"+",13,2,51.369300000000003,13.047602583333299,0.22772362457088388,182.78059999999999,-23.7273,5.226,5.0140000000000002,0.21199999999999974,{"$f":"+VLOOKUP(W660,Data!$E$5:$F$32,2)","v":0.2},1.1999999999999733E-2,"A7V","A7",{"$f":"+DEGREES(ACOS(SIN(Index!$H$6)*SIN(Base!N660)+COS(Index!$H$6)*COS(Base!N660)*COS(Index!$H$3-Base!H660)))","v":96.127815981932926}]
["HD 28375 ","04 28 32,11967","+01 22 50,9578",4,28,32.119669999999999,67.133831958333332,1.1717064071535093,"+",1,22,50.957799999999999,1.38082161111111,2.4099883496581587E-2,193.41800000000001,-30.565899999999999,5.4269999999999996,5.5279999999999996,-0.10099999999999998,{"$f":"+VLOOKUP(W661,Data!$E$5:$F$32,2)","v":-0.2},9.9000000000000032E-2,"B3V","B3",{"$f":"+DEGREES(ACOS(SIN(Index!$H$6)*SIN(Base!N661)+COS(Index!$H$6)*COS(Base!N661)*COS(Index!$H$3-Base!H661)))","v":98.838703695305682}]
["HD 28780 ","04 36 24,19837","+64 15 41,7682",4,36,24.198370000000001,69.100826541666663,1.2060369390015699,"+",64,15,41.7682,64.261602277777797,1.1215765423543103,144.53530000000001,11.301600000000001,5.88,5.91,-3.0000000000000249E-2,{"$f":"+VLOOKUP(W662,Data!$E$5:$F$32,2)","v":0.02},-5.0000000000000253E-2,"A1V","A1",{"$f":"+DEGREES(ACOS(SIN(Index!$H$6)*SIN(Base!N662)+COS(Index!$H$6)*COS(Base!N662)*COS(Index!$H$3-Base!H662)))","v":83.480027454781748}]
["HD 2884  ","00 31 32,66807","-62 57 29,5875",0,31,32.66807,7.8861169583333339,0.13763870612027715,"-",62,57,29.587499999999999,-62.95821875,-1.0988282083783287,306.77870000000001,-54.0212,4.29,4.335,-4.4999999999999929E-2,{"$f":"+VLOOKUP(W663,Data!$E$5:$F$32,2)","v":-7.0000000000000007E-2},2.5000000000000078E-2,"B9V","B9",{"$f":"+DEGREES(ACOS(SIN(Index!$H$6)*SIN(Base!N663)+COS(Index!$H$6)*COS(Base!N663)*COS(Index!$H$3-Base!H663)))","v":81.689785753677413}]
["HD 2885  ","00 31 33,47660","-62 57 56,0254",0,31,33.476599999999998,7.8894858333333335,0.13769750408111528,"-",62,57,56.025399999999998,-62.965562611111103,-1.0989563829345266,306.77449999999999,-54.014099999999999,4.649,4.5140000000000002,0.13499999999999979,{"$f":"+VLOOKUP(W664,Data!$E$5:$F$32,2)","v":0.05},8.4999999999999784E-2,"A2V","A2",{"$f":"+DEGREES(ACOS(SIN(Index!$H$6)*SIN(Base!N664)+COS(Index!$H$6)*COS(Base!N664)*COS(Index!$H$3-Base!H664)))","v":81.69642872106958}]
["HD 28910 ","04 33 50,91753","+14 50 39,9232",4,33,50.917529999999999,68.462156375000006,1.1948900417589758,"+",14,50,39.923200000000001,14.8444231111111,0.25908405884802876,182.05,-21.664999999999999,4.8860000000000001,4.657,0.22900000000000009,{"$f":"+VLOOKUP(W665,Data!$E$5:$F$32,2)","v":0.27},-4.0999999999999925E-2,"A8V","A8",{"$f":"+DEGREES(ACOS(SIN(Index!$H$6)*SIN(Base!N665)+COS(Index!$H$6)*COS(Base!N665)*COS(Index!$H$3-Base!H665)))","v":96.845642553313539}]
["HD 28978 ","04 34 08,26869","+05 34 07,0520",4,34,8.2686899999999994,68.534452874999999,1.1961518537216438,"+",5,34,7.0519999999999996,5.5686255555555597,9.719085075514293E-2,190.3245,-27.080100000000002,5.7380000000000004,5.681,5.7000000000000384E-2,{"$f":"+VLOOKUP(W666,Data!$E$5:$F$32,2)","v":0.05},7.0000000000003809E-3,"A2Vs","A2",{"$f":"+DEGREES(ACOS(SIN(Index!$H$6)*SIN(Base!N666)+COS(Index!$H$6)*COS(Base!N666)*COS(Index!$H$3-Base!H666)))","v":99.229015581102004}]
["HD 2913  ","00 32 23,78125","+06 57 19,6571",0,32,23.78125,8.0990885416666654,0.14135576146262926,"+",6,57,19.6571,6.9554603055555599,0.12139568332371536,114.54640000000001,-55.606000000000002,5.6829999999999998,5.6980000000000004,-1.5000000000000568E-2,{"$f":"+VLOOKUP(W667,Data!$E$5:$F$32,2)","v":-7.0000000000000007E-2},5.4999999999999438E-2,"B9,5V","B9,5",{"$f":"+DEGREES(ACOS(SIN(Index!$H$6)*SIN(Base!N667)+COS(Index!$H$6)*COS(Base!N667)*COS(Index!$H$3-Base!H667)))","v":40.113307715993656}]
["HD 29316 ","04 39 58,07002","+53 28 22,9163",4,39,58.07002,69.991958416666662,1.2215901242897904,"+",53,28,22.9163,53.473032305555598,0.93328047475723974,153.03059999999999,4.5275999999999996,5.6859999999999999,5.3760000000000003,0.30999999999999961,{"$f":"+VLOOKUP(W668,Data!$E$5:$F$32,2)","v":0.27},3.9999999999999591E-2,"A8V","A8",{"$f":"+DEGREES(ACOS(SIN(Index!$H$6)*SIN(Base!N668)+COS(Index!$H$6)*COS(Base!N668)*COS(Index!$H$3-Base!H668)))","v":86.986478991950889}]
["HD 29335 ","04 37 13,67409","+00 59 53,9284",4,37,13.67409,69.306975375000007,1.2096349148923817,"+",0,59,53.928400000000003,0.99831344444444403,1.7423856572481043E-2,195.1343,-28.939,5.2009999999999996,5.3070000000000004,-0.10600000000000076,{"$f":"+VLOOKUP(W669,Data!$E$5:$F$32,2)","v":-0.13},2.3999999999999244E-2,"B7V","B7",{"$f":"+DEGREES(ACOS(SIN(Index!$H$6)*SIN(Base!N669)+COS(Index!$H$6)*COS(Base!N669)*COS(Index!$H$3-Base!H669)))","v":101.04165815494113}]
["HD 29365 ","04 38 15,83001","+20 41 05,0016",4,38,15.83001,69.565958374999994,1.2141550209490741,"+",20,41,5.0015999999999998,20.684722666666701,0.36101651539523549,177.88380000000001,-17.2165,5.8380000000000001,5.8570000000000002,-1.9000000000000128E-2,{"$f":"+VLOOKUP(W670,Data!$E$5:$F$32,2)","v":-0.11},9.0999999999999873E-2,"B8V","B8",{"$f":"+DEGREES(ACOS(SIN(Index!$H$6)*SIN(Base!N670)+COS(Index!$H$6)*COS(Base!N670)*COS(Index!$H$3-Base!H670)))","v":96.292297274789476}]
["HD 29388 ","04 38 09,46296","+12 30 39,0089",4,38,9.4629600000000007,69.539428999999998,1.2136919960068278,"+",12,30,39.008899999999997,12.510835805555599,0.21835527698334228,184.73679999999999,-22.2407,4.399,4.2709999999999999,0.12800000000000011,{"$f":"+VLOOKUP(W671,Data!$E$5:$F$32,2)","v":0.17},-4.1999999999999899E-2,"A6V","A6",{"$f":"+DEGREES(ACOS(SIN(Index!$H$6)*SIN(Base!N671)+COS(Index!$H$6)*COS(Base!N671)*COS(Index!$H$3-Base!H671)))","v":98.462229084631758}]
["HD 29488 ","04 39 16,50230","+15 55 04,7029",4,39,16.502300000000002,69.818759583333332,1.2185672343875109,"+",15,55,4.7028999999999996,15.9179730277778,0.2778210395783734,181.9948,-19.973600000000001,4.8319999999999999,4.6749999999999998,0.15700000000000003,{"$f":"+VLOOKUP(W672,Data!$E$5:$F$32,2)","v":0.15},7.000000000000034E-3,"A5Vn","A5",{"$f":"+DEGREES(ACOS(SIN(Index!$H$6)*SIN(Base!N672)+COS(Index!$H$6)*COS(Base!N672)*COS(Index!$H$3-Base!H672)))","v":97.823774900190358}]
["HD 29526 ","04 41 24,12862","+48 18 03,1629",4,41,24.128620000000002,70.350535916666672,1.2278484822883606,"+",48,18,3.1629,48.300878583333301,0.84300936288518047,157.06540000000001,1.2766999999999999,5.649,5.6479999999999997,1.000000000000334E-3,{"$f":"+VLOOKUP(W673,Data!$E$5:$F$32,2)","v":-0.01},1.1000000000000334E-2,"A0V","A0",{"$f":"+DEGREES(ACOS(SIN(Index!$H$6)*SIN(Base!N673)+COS(Index!$H$6)*COS(Base!N673)*COS(Index!$H$3-Base!H673)))","v":88.757576021648916}]
["HD 29573 ","04 38 53,55464","-12 07 23,2277",4,38,53.554639999999999,69.723144333333323,1.2168984334598933,"-",12,7,23.227699999999999,-12.123118805555601,-0.21158833876738747,208.964,-34.848599999999998,5.0780000000000003,5.0049999999999999,7.3000000000000398E-2,{"$f":"+VLOOKUP(W674,Data!$E$5:$F$32,2)","v":-0.01},8.3000000000000393E-2,"A0V","A0",{"$f":"+DEGREES(ACOS(SIN(Index!$H$6)*SIN(Base!N674)+COS(Index!$H$6)*COS(Base!N674)*COS(Index!$H$3-Base!H674)))","v":104.1045883929404}]
["HD 29646 ","04 41 19,76123","+28 36 53,9835",4,41,19.761230000000001,70.332338458333339,1.2275308767249495,"+",28,36,53.983499999999999,28.614995416666702,0.49942588546392064,172.01740000000001,-11.6372,5.742,5.726,1.6000000000000014E-2,{"$f":"+VLOOKUP(W675,Data!$E$5:$F$32,2)","v":0.05},-3.3999999999999989E-2,"A2V","A2",{"$f":"+DEGREES(ACOS(SIN(Index!$H$6)*SIN(Base!N675)+COS(Index!$H$6)*COS(Base!N675)*COS(Index!$H$3-Base!H675)))","v":94.69250537863185}]
["HD 29722 ","04 42 54,33020","+43 21 54,5272",4,42,54.330199999999998,70.726375833333336,1.2344081262946149,"+",43,21,54.527200000000001,43.365146444444399,0.75686458606506701,160.9511,-1.7787999999999999,5.3280000000000003,5.3010000000000002,2.7000000000000135E-2,{"$f":"+VLOOKUP(W676,Data!$E$5:$F$32,2)","v":0.02},7.0000000000001346E-3,"A1Vn","A1",{"$f":"+DEGREES(ACOS(SIN(Index!$H$6)*SIN(Base!N676)+COS(Index!$H$6)*COS(Base!N676)*COS(Index!$H$3-Base!H676)))","v":90.522124262290333}]
["HD 29763 ","04 42 14,70161","+22 57 24,9214",4,42,14.701610000000001,70.561256708333346,1.2315262539053531,"+",22,57,24.921399999999998,22.9569226111111,0.40067388568942247,176.64449999999999,-15.0718,4.1520000000000001,4.2640000000000002,-0.1120000000000001,{"$f":"+VLOOKUP(W677,Data!$E$5:$F$32,2)","v":-0.2},8.7999999999999912E-2,"B3V","B3",{"$f":"+DEGREES(ACOS(SIN(Index!$H$6)*SIN(Base!N677)+COS(Index!$H$6)*COS(Base!N677)*COS(Index!$H$3-Base!H677)))","v":96.537909524304752}]
["HD 3003  ","00 32 43,90572","-63 01 53,4040",0,32,43.905720000000002,8.1829404999999991,0.14281925421979103,"-",63,1,53.404000000000003,-63.031501111111098,-1.1001072268633529,306.53550000000001,-53.965699999999998,5.1139999999999999,5.07,4.3999999999999595E-2,{"$f":"+VLOOKUP(W678,Data!$E$5:$F$32,2)","v":-0.01},5.3999999999999597E-2,"A0V","A0",{"$f":"+DEGREES(ACOS(SIN(Index!$H$6)*SIN(Base!N678)+COS(Index!$H$6)*COS(Base!N678)*COS(Index!$H$3-Base!H678)))","v":81.832161548895996}]
["HD 30076 ","04 44 05,32090","-08 30 12,8425",4,44,5.3209,71.022170416666668,1.2395707156833464,"-",8,30,12.842499999999999,-8.5035673611111093,-0.14841524861651448,205.72219999999999,-32.1233,5.6989999999999998,5.7750000000000004,-7.6000000000000512E-2,{"$f":"+VLOOKUP(W679,Data!$E$5:$F$32,2)","v":-0.24},0.16399999999999948,"B2Ve","B2",{"$f":"+DEGREES(ACOS(SIN(Index!$H$6)*SIN(Base!N679)+COS(Index!$H$6)*COS(Base!N679)*COS(Index!$H$3-Base!H679)))","v":104.69950277390529}]
["HD 30127 ","04 44 07,98222","-18 39 59,7095",4,44,7.9822199999999999,71.03325925,1.2397642523352179,"-",18,39,59.709499999999998,-18.666585972222201,-0.32579338532186419,216.98509999999999,-36.198500000000003,5.5570000000000004,5.5270000000000001,3.0000000000000249E-2,{"$f":"+VLOOKUP(W680,Data!$E$5:$F$32,2)","v":0.02},1.0000000000000248E-2,"A1V","A1",{"$f":"+DEGREES(ACOS(SIN(Index!$H$6)*SIN(Base!N680)+COS(Index!$H$6)*COS(Base!N680)*COS(Index!$H$3-Base!H680)))","v":106.39422697003005}]
["HD 30739 ","04 50 36,72298","+08 54 00,6493",4,50,36.72298,72.65301241666667,1.2680342781631557,"+",8,54,0.64929999999999999,8.9001803611111097,0.15533745132272675,189.8227,-21.828499999999998,4.3719999999999999,4.3529999999999998,1.9000000000000128E-2,{"$f":"+VLOOKUP(W681,Data!$E$5:$F$32,2)","v":0.02},-9.9999999999987252E-4,"A1Vn","A1",{"$f":"+DEGREES(ACOS(SIN(Index!$H$6)*SIN(Base!N681)+COS(Index!$H$6)*COS(Base!N681)*COS(Index!$H$3-Base!H681)))","v":102.35640022220828}]
["HD 30958 ","04 55 03,12443","+55 15 32,7912",4,55,3.1244299999999998,73.763018458333335,1.2874075383072685,"+",55,15,32.791200000000003,55.259108666666698,0.9644533879506676,153.07,7.3581000000000003,5.53,5.52,1.0000000000000675E-2,{"$f":"+VLOOKUP(W682,Data!$E$5:$F$32,2)","v":-7.0000000000000007E-2},8.0000000000000682E-2,"B9,5V","B9,5",{"$f":"+DEGREES(ACOS(SIN(Index!$H$6)*SIN(Base!N682)+COS(Index!$H$6)*COS(Base!N682)*COS(Index!$H$3-Base!H682)))","v":88.493418755667435}]
["HD 31093 ","04 51 28,21644","-34 54 22,6341",4,51,28.216439999999999,72.867568500000004,1.2717789882475057,"-",34,54,22.6341,-34.906287249999998,-0.609229642159417,237.3426,-38.739199999999997,5.9290000000000003,5.8310000000000004,9.7999999999999865E-2,{"$f":"+VLOOKUP(W683,Data!$E$5:$F$32,2)","v":0.02},7.7999999999999861E-2,"A1Vn","A1",{"$f":"+DEGREES(ACOS(SIN(Index!$H$6)*SIN(Base!N683)+COS(Index!$H$6)*COS(Base!N683)*COS(Index!$H$3-Base!H683)))","v":109.49203445132095}]
["HD 31134 ","04 56 07,07310","+52 52 11,1337",4,56,7.0731000000000002,74.02947125,1.2920580168229823,"+",52,52,11.133699999999999,52.8697593611111,0.92275137558848241,155.0538,5.9974999999999996,5.83,5.74,8.9999999999999858E-2,{"$f":"+VLOOKUP(W684,Data!$E$5:$F$32,2)","v":0.05},3.9999999999999855E-2,"A2Vs","A2",{"$f":"+DEGREES(ACOS(SIN(Index!$H$6)*SIN(Base!N684)+COS(Index!$H$6)*COS(Base!N684)*COS(Index!$H$3-Base!H684)))","v":89.471298197252452}]
["HD 31278 ","04 57 17,19609","+53 45 07,5654",4,57,17.196090000000002,74.321650375000004,1.2971575045598285,"+",53,45,7.5654000000000003,53.752101500000002,0.93815115104118285,154.46510000000001,6.6806000000000001,4.444,4.452,-8.0000000000000071E-3,{"$f":"+VLOOKUP(W685,Data!$E$5:$F$32,2)","v":0.02},-2.8000000000000008E-2,"A1V","A1",{"$f":"+DEGREES(ACOS(SIN(Index!$H$6)*SIN(Base!N685)+COS(Index!$H$6)*COS(Base!N685)*COS(Index!$H$3-Base!H685)))","v":89.324323648758934}]
["HD 31283 ","04 54 46,89718","+11 25 33,6335",4,54,46.897179999999999,73.695404916666661,1.2862274593862506,"+",11,25,33.633499999999998,11.426009305555599,0.19942148274545601,188.2081,-19.558900000000001,5.3,5.1859999999999999,0.11399999999999988,{"$f":"+VLOOKUP(W686,Data!$E$5:$F$32,2)","v":0.08},3.3999999999999878E-2,"A3V","A3",{"$f":"+DEGREES(ACOS(SIN(Index!$H$6)*SIN(Base!N686)+COS(Index!$H$6)*COS(Base!N686)*COS(Index!$H$3-Base!H686)))","v":102.66981928783983}]
["HD 31295 ","04 54 53,72877","+10 09 02,9952",4,54,53.728769999999997,73.723869875000005,1.2867242666306105,"+",10,9,2.9952000000000001,10.150831999999999,0.17716544021680103,189.346,-20.253299999999999,4.7370000000000001,4.6559999999999997,8.1000000000000405E-2,{"$f":"+VLOOKUP(W687,Data!$E$5:$F$32,2)","v":-0.01},9.10000000000004E-2,"A0V","A0",{"$f":"+DEGREES(ACOS(SIN(Index!$H$6)*SIN(Base!N687)+COS(Index!$H$6)*COS(Base!N687)*COS(Index!$H$3-Base!H687)))","v":103.0432195006095}]
["HD 31331 ","04 54 50,70946","+00 28 01,8062",4,54,50.70946,73.711289416666673,1.2865046962112838,"+",0,28,1.8062,0.46716838888888901,8.1536265473484068E-3,198.21780000000001,-25.452000000000002,5.86,5.9749999999999996,-0.11499999999999932,{"$f":"+VLOOKUP(W688,Data!$E$5:$F$32,2)","v":-0.16},4.5000000000000678E-2,"B5V","B5",{"$f":"+DEGREES(ACOS(SIN(Index!$H$6)*SIN(Base!N688)+COS(Index!$H$6)*COS(Base!N688)*COS(Index!$H$3-Base!H688)))","v":105.4509086226802}]
["HD 31373 ","04 55 50,15389","+15 02 25,0044",4,55,50.153889999999997,73.958974541666663,1.2908276171507473,"+",15,2,25.0044,15.040279,0.26250238896856021,185.23769999999999,-17.281199999999998,5.7009999999999996,5.7850000000000001,-8.4000000000000519E-2,{"$f":"+VLOOKUP(W689,Data!$E$5:$F$32,2)","v":-7.0000000000000007E-2},-1.4000000000000512E-2,"B9V","B9",{"$f":"+DEGREES(ACOS(SIN(Index!$H$6)*SIN(Base!N689)+COS(Index!$H$6)*COS(Base!N689)*COS(Index!$H$3-Base!H689)))","v":101.90032653545047}]
["HD 31512 ","04 56 24,18609","-05 10 16,8710",4,56,24.18609,74.100775374999998,1.2933025085744858,"-",5,10,16.870999999999999,-5.17135305555556,-9.0257137602513762E-2,203.93260000000001,-27.875399999999999,5.3680000000000003,5.49,-0.12199999999999989,{"$f":"+VLOOKUP(W690,Data!$E$5:$F$32,2)","v":-0.14000000000000001},1.8000000000000127E-2,"B6V","B6",{"$f":"+DEGREES(ACOS(SIN(Index!$H$6)*SIN(Base!N690)+COS(Index!$H$6)*COS(Base!N690)*COS(Index!$H$3-Base!H690)))","v":107.04719817421712}]
["HD 31592 ","04 58 09,39400","+25 03 01,4614",4,58,9.3940000000000001,74.539141666666666,1.300953443693827,"+",25,3,1.4614,25.0504059444444,0.43721206269171453,177.24420000000001,-10.9193,5.8049999999999997,5.7889999999999997,1.6000000000000014E-2,{"$f":"+VLOOKUP(W691,Data!$E$5:$F$32,2)","v":-0.01},2.6000000000000016E-2,"A0V","A0",{"$f":"+DEGREES(ACOS(SIN(Index!$H$6)*SIN(Base!N691)+COS(Index!$H$6)*COS(Base!N691)*COS(Index!$H$3-Base!H691)))","v":99.362543146912429}]
["HD 31647 ","04 59 15,40974","+37 53 24,8816",4,59,15.409739999999999,74.814207249999995,1.3057542437819123,"+",37,53,24.881599999999999,37.890244888888901,0.66130952769806439,167.15049999999999,-2.8767999999999998,5.008,4.9889999999999999,1.9000000000000128E-2,{"$f":"+VLOOKUP(W692,Data!$E$5:$F$32,2)","v":0.02},-9.9999999999987252E-4,"A1V","A1",{"$f":"+DEGREES(ACOS(SIN(Index!$H$6)*SIN(Base!N692)+COS(Index!$H$6)*COS(Base!N692)*COS(Index!$H$3-Base!H692)))","v":95.25773037008419}]
["HD 319   ","00 07 46,89955","-22 30 30,8173",0,7,46.899549999999998,1.9454147916666669,3.3953893431582879E-2,"-",22,30,30.817299999999999,-22.508560361111101,-0.39284848818527257,55.563400000000001,-79.076099999999997,6.0679999999999996,5.9420000000000002,0.12599999999999945,{"$f":"+VLOOKUP(W693,Data!$E$5:$F$32,2)","v":0.02},0.10599999999999944,"A1V","A1",{"$f":"+DEGREES(ACOS(SIN(Index!$H$6)*SIN(Base!N693)+COS(Index!$H$6)*COS(Base!N693)*COS(Index!$H$3-Base!H693)))","v":48.544658881716387}]
["HD 32249 ","05 01 26,34599","-07 10 26,2662",5,1,26.34599,75.359774958333333,1.3152761965848891,"-",7,10,26.266200000000001,-7.1739628333333298,-0.12520927185736783,206.59360000000001,-27.6891,4.62,4.8099999999999996,-0.1899999999999995,{"$f":"+VLOOKUP(W694,Data!$E$5:$F$32,2)","v":-0.2},1.0000000000000508E-2,"B3V","B3",{"$f":"+DEGREES(ACOS(SIN(Index!$H$6)*SIN(Base!N694)+COS(Index!$H$6)*COS(Base!N694)*COS(Index!$H$3-Base!H694)))","v":108.66716750786759}]
["HD 32301 ","05 03 05,74725","+21 35 23,8627",5,3,5.7472500000000002,75.773946874999993,1.322504860200018,"+",21,35,23.8627,21.589961861111099,0.3768159198563914,180.77160000000001,-12.0646,4.7809999999999997,4.6260000000000003,0.15499999999999936,{"$f":"+VLOOKUP(W695,Data!$E$5:$F$32,2)","v":0.2},-4.5000000000000651E-2,"A7V","A7",{"$f":"+DEGREES(ACOS(SIN(Index!$H$6)*SIN(Base!N695)+COS(Index!$H$6)*COS(Base!N695)*COS(Index!$H$3-Base!H695)))","v":101.54846137990695}]
["HD 32309 ","05 01 25,58052","-20 03 06,9147",5,1,25.58052,75.356585500000008,1.3152205300356175,"-",20,3,6.9146999999999998,-20.051920750000001,-0.34997203843647079,220.273,-32.848599999999998,4.8520000000000003,4.8940000000000001,-4.1999999999999815E-2,{"$f":"+VLOOKUP(W696,Data!$E$5:$F$32,2)","v":-7.0000000000000007E-2},2.8000000000000191E-2,"B9V","B9",{"$f":"+DEGREES(ACOS(SIN(Index!$H$6)*SIN(Base!N696)+COS(Index!$H$6)*COS(Base!N696)*COS(Index!$H$3-Base!H696)))","v":110.61533413849043}]
["HD 32343 ","05 06 08,45158","+58 58 20,5388",5,6,8.4515799999999999,76.535214916666661,1.3357914940173108,"+",58,58,20.538799999999998,58.972371888888901,1.0292620571716589,150.9872,10.7958,5,5.03,-3.0000000000000249E-2,{"$f":"+VLOOKUP(W697,Data!$E$5:$F$32,2)","v":-0.24},0.20999999999999974,"B2,5Ve","B2,5",{"$f":"+DEGREES(ACOS(SIN(Index!$H$6)*SIN(Base!N697)+COS(Index!$H$6)*COS(Base!N697)*COS(Index!$H$3-Base!H697)))","v":88.544517332534326}]
["HD 32630 ","05 06 30,89337","+41 14 04,1127",5,6,30.893370000000001,76.628722374999995,1.3374235070403988,"+",41,14,4.1127000000000002,41.234475750000001,0.71967736717125819,165.35380000000001,0.2717,3.012,3.1579999999999999,-0.14599999999999991,{"$f":"+VLOOKUP(W698,Data!$E$5:$F$32,2)","v":-0.2},5.4000000000000103E-2,"B3V","B3",{"$f":"+DEGREES(ACOS(SIN(Index!$H$6)*SIN(Base!N698)+COS(Index!$H$6)*COS(Base!N698)*COS(Index!$H$3-Base!H698)))","v":95.351722551224427}]
["HD 32964 ","05 06 45,65314","-04 39 18,5939",5,6,45.65314,76.69022141666666,1.3384968678043034,"-",4,39,18.593900000000001,-4.6551649722222201,-8.1247955988788118E-2,204.7757,-25.354600000000001,5.05,5.0970000000000004,-4.7000000000000597E-2,{"$f":"+VLOOKUP(W699,Data!$E$5:$F$32,2)","v":-7.0000000000000007E-2},2.299999999999941E-2,"B9V+,,,","B9",{"$f":"+DEGREES(ACOS(SIN(Index!$H$6)*SIN(Base!N699)+COS(Index!$H$6)*COS(Base!N699)*COS(Index!$H$3-Base!H699)))","v":109.46892347539624}]
["HD 32977 ","05 07 48,39995","+20 25 06,1646",5,7,48.399949999999997,76.951666458333321,1.3430599445944003,"+",20,25,6.1646000000000001,20.418379055555601,0.35636794243969544,182.3991,-11.8497,5.38,5.28,9.9999999999999645E-2,{"$f":"+VLOOKUP(W700,Data!$E$5:$F$32,2)","v":0.15},-5.000000000000035E-2,"A5V","A5",{"$f":"+DEGREES(ACOS(SIN(Index!$H$6)*SIN(Base!N700)+COS(Index!$H$6)*COS(Base!N700)*COS(Index!$H$3-Base!H700)))","v":102.96737799057814}]
["HD 32990 ","05 08 06,62291","+24 15 54,6314",5,8,6.6229100000000001,77.027595458333337,1.3443851556421473,"+",24,15,54.631399999999999,24.265175388888899,0.42350720411000675,179.24940000000001,-9.5637000000000008,5.532,5.5039999999999996,2.8000000000000469E-2,{"$f":"+VLOOKUP(W701,Data!$E$5:$F$32,2)","v":-0.24},0.26800000000000046,"B2V","B2",{"$f":"+DEGREES(ACOS(SIN(Index!$H$6)*SIN(Base!N701)+COS(Index!$H$6)*COS(Base!N701)*COS(Index!$H$3-Base!H701)))","v":101.75646783789462}]
["HD 32991 ","05 07 55,43645","+21 42 17,3651",5,7,55.436450000000001,76.980985208333323,1.3435716533144695,"+",21,42,17.365100000000002,21.7048236388889,0.37882063606330807,181.34280000000001,-11.0855,6.08,5.92,0.16000000000000014,{"$f":"+VLOOKUP(W702,Data!$E$5:$F$32,2)","v":-0.24},0.40000000000000013,"B2Ve","B2",{"$f":"+DEGREES(ACOS(SIN(Index!$H$6)*SIN(Base!N702)+COS(Index!$H$6)*COS(Base!N702)*COS(Index!$H$3-Base!H702)))","v":102.57198955190303}]
["HD 33224 ","05 08 20,19029","-08 39 55,1671",5,8,20.190290000000001,77.084126208333345,1.3453718033582693,"-",8,39,55.167099999999998,-8.6653241944444392,-0.15123843794578079,208.95240000000001,-26.8263,5.72,5.78,-6.0000000000000497E-2,{"$f":"+VLOOKUP(W703,Data!$E$5:$F$32,2)","v":-0.11},4.9999999999999503E-2,"B8V","B8",{"$f":"+DEGREES(ACOS(SIN(Index!$H$6)*SIN(Base!N703)+COS(Index!$H$6)*COS(Base!N703)*COS(Index!$H$3-Base!H703)))","v":110.62095870938948}]
["HD 33541 ","05 18 13,23565","+73 16 05,0458",5,18,13.23565,79.555148541666654,1.3884992789652484,"+",73,16,5.0457999999999998,73.2680682777778,1.278769028023234,139.2312,19.5916,5.79,5.83,-4.0000000000000036E-2,{"$f":"+VLOOKUP(W704,Data!$E$5:$F$32,2)","v":-0.01},-3.0000000000000034E-2,"A0V","A0",{"$f":"+DEGREES(ACOS(SIN(Index!$H$6)*SIN(Base!N704)+COS(Index!$H$6)*COS(Base!N704)*COS(Index!$H$3-Base!H704)))","v":83.972282696574283}]
["HD 3369  ","00 36 52,84926","+33 43 09,6384",0,36,52.849260000000001,9.2202052499999994,0.16092293932216689,"+",33,43,9.6384000000000007,33.719344,0.58851357441259489,119.4693,-29.054500000000001,4.2229999999999999,4.335,-0.1120000000000001,{"$f":"+VLOOKUP(W705,Data!$E$5:$F$32,2)","v":-0.16},4.7999999999999904E-2,"B5V","B5",{"$f":"+DEGREES(ACOS(SIN(Index!$H$6)*SIN(Base!N705)+COS(Index!$H$6)*COS(Base!N705)*COS(Index!$H$3-Base!H705)))","v":43.148097979723005}]
["HD 33802 ","05 12 17,90190","-11 52 09,1863",5,12,17.901900000000001,78.074591250000012,1.3626586794612554,"-",11,52,9.1862999999999992,-11.869218416666699,-0.20715694100918211,212.6729,-27.316400000000002,4.3659999999999997,4.4569999999999999,-9.1000000000000192E-2,{"$f":"+VLOOKUP(W706,Data!$E$5:$F$32,2)","v":-0.11},1.8999999999999809E-2,"B8V","B8",{"$f":"+DEGREES(ACOS(SIN(Index!$H$6)*SIN(Base!N706)+COS(Index!$H$6)*COS(Base!N706)*COS(Index!$H$3-Base!H706)))","v":112.11835563298771}]
["HD 33949 ","05 13 13,87761","-12 56 28,6463",5,13,13.877610000000001,78.307823374999998,{"$f":"+RADIANS(G707)","v":1.3667293479639282},"-",12,56,28.6463,{"$f":"VALUE(CONCATENATE(I707,+J707+K707/60+L707/3600))","v":-12.9412906388889},{"$f":"+RADIANS(M707)","v":-0.22586813110613183},213.8794,-27.5503,4.327,4.4210000000000003,-9.4000000000000306E-2,{"$f":"+VLOOKUP(W707,Data!$E$5:$F$32,2)","v":-0.13},{"$f":"+S707-T707","v":3.5999999999999699E-2},"B7V",{"$f":"IF(MID(V707,3,1)<>\",\",LEFT(V707,2),LEFT(V707,4))","v":"B7"},{"$f":"+DEGREES(ACOS(SIN(Index!$H$6)*SIN(Base!N707)+COS(Index!$H$6)*COS(Base!N707)*COS(Index!$H$3-Base!H707)))","v":112.50606943096697}]
["HD 34078 ","05 16 18,15000","+34 18 44,3455",5,16,18.149999999999999,79.075625000000002,1.3801300143223412,"+",34,18,44.345500000000001,34.312318194444401,0.59886292648501072,172.0813,-2.2591999999999999,6.18,5.9980000000000002,0.1819999999999995,{"$f":"+VLOOKUP(W708,Data!$E$5:$F$32,2)","v":-0.04},0.2219999999999995,"O9,5Ve,,,","O9,5",{"$f":"+DEGREES(ACOS(SIN(Index!$H$6)*SIN(Base!N708)+COS(Index!$H$6)*COS(Base!N708)*COS(Index!$H$3-Base!H708)))","v":99.77597441962638}]
["HD 34203 ","05 16 04,13416","+11 20 28,8737",5,16,4.1341599999999996,79.017225666666661,1.3791107536747047,"+",11,20,28.873699999999999,11.341353805555601,0.19794396554053401,191.29499999999999,-15.2514,5.5119999999999996,5.524,-1.2000000000000455E-2,{"$f":"+VLOOKUP(W709,Data!$E$5:$F$32,2)","v":-0.01},-2.0000000000004545E-3,"A0V","A0",{"$f":"+DEGREES(ACOS(SIN(Index!$H$6)*SIN(Base!N709)+COS(Index!$H$6)*COS(Base!N709)*COS(Index!$H$3-Base!H709)))","v":107.69340849473959}]
["HD 34310 ","05 15 24,37202","-26 56 36,6324",5,15,24.372019999999999,78.851550083333336,1.3762191692553758,"-",26,56,36.632399999999997,-26.943508999999999,-0.47025294409072482,229.2158,-31.965599999999998,4.97,5.04,-7.0000000000000284E-2,{"$f":"+VLOOKUP(W710,Data!$E$5:$F$32,2)","v":-7.0000000000000007E-2},-2.7755575615628914E-16,"B9V","B9",{"$f":"+DEGREES(ACOS(SIN(Index!$H$6)*SIN(Base!N710)+COS(Index!$H$6)*COS(Base!N710)*COS(Index!$H$3-Base!H710)))","v":114.33723764875973}]
["HD 34557 ","05 20 14,66904","+41 05 10,3522",5,20,14.669040000000001,80.061121,1.3973301642875751,"+",41,5,10.3522,41.086208944444401,0.71708962324289882,166.98990000000001,2.2776000000000001,5.5830000000000002,5.468,0.11500000000000021,{"$f":"+VLOOKUP(W711,Data!$E$5:$F$32,2)","v":0.08},3.5000000000000211E-2,"A3V","A3",{"$f":"+DEGREES(ACOS(SIN(Index!$H$6)*SIN(Base!N711)+COS(Index!$H$6)*COS(Base!N711)*COS(Index!$H$3-Base!H711)))","v":97.786032861116254}]
["HD 34759 ","05 21 48,41650","+41 48 16,4615",5,21,48.416499999999999,80.451735416666665,1.4041476719641655,"+",41,48,16.461500000000001,41.804572638888899,0.72962743493774573,166.5652,2.927,5.0730000000000004,5.2,-0.12699999999999978,{"$f":"+VLOOKUP(W712,Data!$E$5:$F$32,2)","v":-0.2},7.3000000000000231E-2,"B3V","B3",{"$f":"+DEGREES(ACOS(SIN(Index!$H$6)*SIN(Base!N712)+COS(Index!$H$6)*COS(Base!N712)*COS(Index!$H$3-Base!H712)))","v":97.754465944370423}]
["HD 34787 ","05 23 27,84379","+57 32 39,8326",5,23,27.843789999999998,80.866015791666669,1.4113782285343124,"+",57,32,39.832599999999999,57.544397944444398,1.0043392102084117,153.49510000000001,11.882099999999999,5.23,5.25,-1.9999999999999574E-2,{"$f":"+VLOOKUP(W713,Data!$E$5:$F$32,2)","v":-0.01},-9.9999999999995735E-3,"A0Vne","A0",{"$f":"+DEGREES(ACOS(SIN(Index!$H$6)*SIN(Base!N713)+COS(Index!$H$6)*COS(Base!N713)*COS(Index!$H$3-Base!H713)))","v":91.207984057918637}]
["HD 34790 ","05 21 12,68806","+29 34 11,5926",5,21,12.68806,80.302866916666659,1.4015494264866601,"+",29,34,11.592599999999999,29.5698868333333,0.51609188468378586,176.57149999999999,-4.1237000000000004,5.71,5.67,4.0000000000000036E-2,{"$f":"+VLOOKUP(W714,Data!$E$5:$F$32,2)","v":0.02},2.0000000000000035E-2,"A1Vs","A1",{"$f":"+DEGREES(ACOS(SIN(Index!$H$6)*SIN(Base!N714)+COS(Index!$H$6)*COS(Base!N714)*COS(Index!$H$3-Base!H714)))","v":102.56444774641867}]
["HD 34868 ","05 19 23,68509","-27 22 07,9814",5,19,23.685089999999999,79.848687874999996,1.3936225068160244,"-",27,22,7.9813999999999998,-27.368883722222201,-0.47767713354825853,229.9924,-31.237200000000001,5.95,5.9729999999999999,-2.2999999999999687E-2,{"$f":"+VLOOKUP(W715,Data!$E$5:$F$32,2)","v":-0.01},-1.2999999999999687E-2,"A0V","A0",{"$f":"+DEGREES(ACOS(SIN(Index!$H$6)*SIN(Base!N715)+COS(Index!$H$6)*COS(Base!N715)*COS(Index!$H$3-Base!H715)))","v":115.23827206288391}]
["HD 34904 ","05 22 50,31453","+41 01 45,3349",5,22,50.314529999999998,80.709643874999983,1.4086490237308245,"+",41,1,45.334899999999998,41.029259694444399,0.71609567132385732,167.31469999999999,2.6478000000000002,5.6639999999999997,5.5449999999999999,0.11899999999999977,{"$f":"+VLOOKUP(W716,Data!$E$5:$F$32,2)","v":0.08},3.8999999999999771E-2,"A3V","A3",{"$f":"+DEGREES(ACOS(SIN(Index!$H$6)*SIN(Base!N716)+COS(Index!$H$6)*COS(Base!N716)*COS(Index!$H$3-Base!H716)))","v":98.254505314028734}]
["HD 34968 ","05 20 26,91893","-21 14 23,1516",5,20,26.91893,80.112162208333331,1.3982210014271881,"-",21,14,23.151599999999998,-21.239764333333301,-0.3707038199643245,223.35239999999999,-29.074300000000001,4.6840000000000002,4.7290000000000001,-4.4999999999999929E-2,{"$f":"+VLOOKUP(W717,Data!$E$5:$F$32,2)","v":-0.01},-3.4999999999999927E-2,"A0V","A0",{"$f":"+DEGREES(ACOS(SIN(Index!$H$6)*SIN(Base!N717)+COS(Index!$H$6)*COS(Base!N717)*COS(Index!$H$3-Base!H717)))","v":115.15733776582505}]
["HD 34989 ","05 21 43,56077","+08 25 42,8085",5,21,43.560769999999998,80.431503208333325,1.4037945533137992,"+",8,25,42.808500000000002,8.4285579166666693,0.14710608684086723,194.6241,-15.6075,5.6559999999999997,5.7789999999999999,-0.12300000000000022,{"$f":"+VLOOKUP(W718,Data!$E$5:$F$32,2)","v":-0.26},0.13699999999999979,"B1V","B1",{"$f":"+DEGREES(ACOS(SIN(Index!$H$6)*SIN(Base!N718)+COS(Index!$H$6)*COS(Base!N718)*COS(Index!$H$3-Base!H718)))","v":109.88013238774795}]
["HD 35007 ","05 21 31,84424","-00 24 59,3723",5,21,31.844239999999999,80.38268433333333,1.4029425032079297,"-",0,24,59.372300000000003,-0.416492305555556,-7.2691620411667228E-3,202.636,-20.093699999999998,5.5350000000000001,5.6539999999999999,-0.11899999999999977,{"$f":"+VLOOKUP(W719,Data!$E$5:$F$32,2)","v":-0.2},8.1000000000000238E-2,"B3V","B3",{"$f":"+DEGREES(ACOS(SIN(Index!$H$6)*SIN(Base!N719)+COS(Index!$H$6)*COS(Base!N719)*COS(Index!$H$3-Base!H719)))","v":112.14589297574118}]
["HD 35299 ","05 23 42,30982","-00 09 35,3507",5,23,42.309820000000002,80.926290916666673,1.4124302279226135,"-",0,9,35.350700000000003,-0.159819638888889,-2.7893789079594853E-3,202.67609999999999,-19.4937,5.49,5.7,-0.20999999999999996,{"$f":"+VLOOKUP(W720,Data!$E$5:$F$32,2)","v":-0.26},5.0000000000000044E-2,"B1,5V","B1,5",{"$f":"+DEGREES(ACOS(SIN(Index!$H$6)*SIN(Base!N720)+COS(Index!$H$6)*COS(Base!N720)*COS(Index!$H$3-Base!H720)))","v":112.61421417852161}]
["HD 35411 ","05 24 28,61672","-02 23 49,7311",5,24,28.616720000000001,81.119236333333347,1.4157977607200793,"-",2,23,49.731099999999998,-2.3971475277777801,-4.1838117015764495E-2,204.8657,-20.3916,3.21,3.38,-0.16999999999999993,{"$f":"+VLOOKUP(W721,Data!$E$5:$F$32,2)","v":-0.3},0.13000000000000006,"B0,5V","B0,5",{"$f":"+DEGREES(ACOS(SIN(Index!$H$6)*SIN(Base!N721)+COS(Index!$H$6)*COS(Base!N721)*COS(Index!$H$3-Base!H721)))","v":113.3120541248318}]
["HD 35439 ","05 24 44,82664","+01 50 47,2039",5,24,44.826639999999998,81.186777666666671,1.4169765793679328,"+",1,50,47.203899999999997,1.84644552777778,3.2226553918446678E-2,200.958,-18.289200000000001,4.7009999999999996,4.8730000000000002,-0.1720000000000006,{"$f":"+VLOOKUP(W722,Data!$E$5:$F$32,2)","v":-0.26},8.7999999999999412E-2,"B1Vpe","B1",{"$f":"+DEGREES(ACOS(SIN(Index!$H$6)*SIN(Base!N722)+COS(Index!$H$6)*COS(Base!N722)*COS(Index!$H$3-Base!H722)))","v":112.3799308494177}]
["HD 35505 ","05 24 28,48967","-16 58 32,8063",5,24,28.48967,81.118706958333334,1.4157885213833514,"-",16,58,32.8063,-16.975779527777799,-0.29628324585237081,219.24639999999999,-26.642800000000001,5.6420000000000003,5.6440000000000001,-1.9999999999997797E-3,{"$f":"+VLOOKUP(W723,Data!$E$5:$F$32,2)","v":-0.01},8.0000000000002205E-3,"A0V","A0",{"$f":"+DEGREES(ACOS(SIN(Index!$H$6)*SIN(Base!N723)+COS(Index!$H$6)*COS(Base!N723)*COS(Index!$H$3-Base!H723)))","v":115.71440933172094}]
["HD 35671 ","05 27 10,09352","+17 57 43,9837",5,27,10.09352,81.792056333333335,1.4275406849933474,"+",17,57,43.983699999999999,17.962217694444401,0.31349983972803958,187.06569999999999,-9.4221000000000004,5.3090000000000002,5.3979999999999997,-8.8999999999999524E-2,{"$f":"+VLOOKUP(W724,Data!$E$5:$F$32,2)","v":-0.16},7.1000000000000479E-2,"B5V","B5",{"$f":"+DEGREES(ACOS(SIN(Index!$H$6)*SIN(Base!N724)+COS(Index!$H$6)*COS(Base!N724)*COS(Index!$H$3-Base!H724)))","v":108.09838220018844}]
["HD 35770 ","05 27 45,60884","+15 52 26,5814",5,27,45.608840000000001,81.940036833333338,1.4301234319470948,"+",15,52,26.581399999999999,15.8740503888889,0.2770544449135976,188.93119999999999,-10.424200000000001,5.5250000000000004,5.5119999999999996,1.3000000000000789E-2,{"$f":"+VLOOKUP(W725,Data!$E$5:$F$32,2)","v":-7.0000000000000007E-2},8.3000000000000795E-2,"B9,5Vn","B9,5",{"$f":"+DEGREES(ACOS(SIN(Index!$H$6)*SIN(Base!N725)+COS(Index!$H$6)*COS(Base!N725)*COS(Index!$H$3-Base!H725)))","v":108.94728854802028}]
["HD 35943 ","05 29 16,50008","+25 09 00,7781",5,29,16.500080000000001,82.318750333333341,1.4367332294438464,"+",25,9,0.77810000000000001,25.150216138888901,0.43895407921182678,181.25409999999999,-5.0991,5.44,5.48,-4.0000000000000036E-2,{"$f":"+VLOOKUP(W726,Data!$E$5:$F$32,2)","v":-7.0000000000000007E-2},2.9999999999999971E-2,"B9Vn","B9",{"$f":"+DEGREES(ACOS(SIN(Index!$H$6)*SIN(Base!N726)+COS(Index!$H$6)*COS(Base!N726)*COS(Index!$H$3-Base!H726)))","v":105.9176990346602}]
["HD 36162 ","05 30 26,16439","+15 21 37,6089",5,30,26.164390000000001,82.609018291666672,1.4417993610298048,"+",15,21,37.608899999999998,15.360446916666699,0.26809037327364499,189.72149999999999,-10.1518,6.0369999999999999,5.94,9.6999999999999531E-2,{"$f":"+VLOOKUP(W727,Data!$E$5:$F$32,2)","v":0.08},1.6999999999999529E-2,"A3Vn","A3",{"$f":"+DEGREES(ACOS(SIN(Index!$H$6)*SIN(Base!N727)+COS(Index!$H$6)*COS(Base!N727)*COS(Index!$H$3-Base!H727)))","v":109.72742255077674}]
["HD 36166 ","05 29 54,77392","+01 47 21,3279",5,29,54.773919999999997,82.478224666666677,1.4395165816329361,"+",1,47,21.3279,1.78925775,3.122843890432557E-2,201.67339999999999,-17.191299999999998,5.5609999999999999,5.742,-0.18100000000000005,{"$f":"+VLOOKUP(W728,Data!$E$5:$F$32,2)","v":-0.24},5.8999999999999941E-2,"B2V","B2",{"$f":"+DEGREES(ACOS(SIN(Index!$H$6)*SIN(Base!N728)+COS(Index!$H$6)*COS(Base!N728)*COS(Index!$H$3-Base!H728)))","v":113.64373689779458}]
["HD 36187 ","05 28 15,33533","-37 13 50,7485",5,28,15.335330000000001,82.06389720833333,1.4322852033035995,"-",37,13,50.7485,-37.230763472222201,-0.64979940562151384,241.75360000000001,-31.834299999999999,5.5860000000000003,5.5620000000000003,2.4000000000000021E-2,{"$f":"+VLOOKUP(W729,Data!$E$5:$F$32,2)","v":0.02},4.0000000000000209E-3,"A1V","A1",{"$f":"+DEGREES(ACOS(SIN(Index!$H$6)*SIN(Base!N729)+COS(Index!$H$6)*COS(Base!N729)*COS(Index!$H$3-Base!H729)))","v":116.87485843884814}]
["HD 36267 ","05 30 47,05091","+05 56 53,2925",5,30,47.050910000000002,82.69604545833333,1.4433182716268198,"+",5,56,53.292499999999997,5.9481368055555599,0.10381457161600226,198.02440000000001,-14.943899999999999,4.07,4.2,-0.12999999999999989,{"$f":"+VLOOKUP(W730,Data!$E$5:$F$32,2)","v":-0.16},3.000000000000011E-2,"B5V","B5",{"$f":"+DEGREES(ACOS(SIN(Index!$H$6)*SIN(Base!N730)+COS(Index!$H$6)*COS(Base!N730)*COS(Index!$H$3-Base!H730)))","v":112.74142318430684}]
["HD 36351 ","05 31 14,53183","+03 17 31,6729",5,31,14.531829999999999,82.810549291666661,1.4453167405246412,"+",3,17,31.672899999999998,3.2921313611111098,5.7458531659551275E-2,200.4752,-16.165900000000001,5.29,5.46,-0.16999999999999993,{"$f":"+VLOOKUP(W731,Data!$E$5:$F$32,2)","v":-0.26},9.000000000000008E-2,"B1,5V","B1,5",{"$f":"+DEGREES(ACOS(SIN(Index!$H$6)*SIN(Base!N731)+COS(Index!$H$6)*COS(Base!N731)*COS(Index!$H$3-Base!H731)))","v":113.57644556646062}]
["HD 36473 ","05 31 07,62809","-20 51 49,1644",5,31,7.6280900000000003,82.781783708333336,1.4448146863842179,"-",20,51,49.164400000000001,-20.863656777777798,-0.36413950477825346,223.93799999999999,-26.6084,5.5430000000000001,5.5330000000000004,9.9999999999997868E-3,{"$f":"+VLOOKUP(W732,Data!$E$5:$F$32,2)","v":-0.01},1.9999999999999789E-2,"A0V","A0",{"$f":"+DEGREES(ACOS(SIN(Index!$H$6)*SIN(Base!N732)+COS(Index!$H$6)*COS(Base!N732)*COS(Index!$H$3-Base!H732)))","v":117.61603041889683}]
["HD 36512 ","05 31 55,86019","-07 18 05,5371",5,31,55.860190000000003,82.98275079166666,1.4483222236765143,"-",7,18,5.5370999999999997,-7.3015380833333303,-0.12743588001392273,210.43559999999999,-20.983000000000001,4.3600000000000003,4.62,-0.25999999999999979,{"$f":"+VLOOKUP(W733,Data!$E$5:$F$32,2)","v":-0.3},4.0000000000000202E-2,"B0V","B0",{"$f":"+DEGREES(ACOS(SIN(Index!$H$6)*SIN(Base!N733)+COS(Index!$H$6)*COS(Base!N733)*COS(Index!$H$3-Base!H733)))","v":116.12103412791907}]
["HD 36653 ","05 33 54,28465","+14 18 20,0843",5,33,54.284649999999999,83.476186041666665,1.4569342934344158,"+",14,18,20.084299999999999,14.3055789722222,0.24967945446934384,191.0806,-9.9939999999999998,5.4720000000000004,5.5880000000000001,-0.11599999999999966,{"$f":"+VLOOKUP(W734,Data!$E$5:$F$32,2)","v":-0.2},8.4000000000000352E-2,"B3V","B3",{"$f":"+DEGREES(ACOS(SIN(Index!$H$6)*SIN(Base!N734)+COS(Index!$H$6)*COS(Base!N734)*COS(Index!$H$3-Base!H734)))","v":110.87366802732552}]
["HD 36695 ","05 33 31,44643","-01 09 21,8666",5,33,31.446429999999999,83.381026791666656,1.4552734512081871,"-",1,9,21.866599999999998,-1.15607405555556,-2.0177298666328364E-2,204.83709999999999,-17.812799999999999,5.16,5.38,-0.21999999999999975,{"$f":"+VLOOKUP(W735,Data!$E$5:$F$32,2)","v":-0.26},4.0000000000000258E-2,"B1V","B1",{"$f":"+DEGREES(ACOS(SIN(Index!$H$6)*SIN(Base!N735)+COS(Index!$H$6)*COS(Base!N735)*COS(Index!$H$3-Base!H735)))","v":115.23373157885223}]
["HD 36777 ","05 34 16,77267","+03 46 00,8188",5,34,16.772670000000002,83.569886124999996,1.4585696683979754,"+",3,46,0.81879999999999997,3.7668941111111098,6.5744704812873977E-2,200.4332,-15.272399999999999,5.3879999999999999,5.3319999999999999,5.600000000000005E-2,{"$f":"+VLOOKUP(W736,Data!$E$5:$F$32,2)","v":0.05},6.000000000000047E-3,"A2V","A2",{"$f":"+DEGREES(ACOS(SIN(Index!$H$6)*SIN(Base!N736)+COS(Index!$H$6)*COS(Base!N736)*COS(Index!$H$3-Base!H736)))","v":114.18019256761522}]
["HD 36862 ","05 35 08,4 "," +09 56 06         ",5,35,8.4,83.784999999999997,1.4623241137834488,"+",9,56,6,9.9350000000000005,0.17339846118563665,195.0514,-11.994199999999999,5.65,5.61,4.0000000000000036E-2,{"$f":"+VLOOKUP(W737,Data!$E$5:$F$32,2)","v":-0.3},0.34,"B0,5V","B0,5",{"$f":"+DEGREES(ACOS(SIN(Index!$H$6)*SIN(Base!N737)+COS(Index!$H$6)*COS(Base!N737)*COS(Index!$H$3-Base!H737)))","v":112.58466576049764}]
["HD 36959 ","05 35 01,00645","-06 00 33,3828",5,35,1.0064500000000001,83.754193541666666,1.4617864396546538,"-",6,0,33.382800000000003,-6.0092730000000003,-0.10488159950119721,209.56700000000001,-19.720600000000001,5.44,5.67,-0.22999999999999954,{"$f":"+VLOOKUP(W738,Data!$E$5:$F$32,2)","v":-0.26},3.0000000000000471E-2,"B1Vv","B1",{"$f":"+DEGREES(ACOS(SIN(Index!$H$6)*SIN(Base!N738)+COS(Index!$H$6)*COS(Base!N738)*COS(Index!$H$3-Base!H738)))","v":116.63094382056032}]
["HD 36960 ","05 35 02,68074","-06 00 07,3036",5,35,2.6807400000000001,83.761169749999993,1.4619081974593755,"-",6,0,7.3036000000000003,-6.0020287777777801,-0.10475516397167332,209.5634,-19.711099999999998,4.53,4.78,-0.25,{"$f":"+VLOOKUP(W739,Data!$E$5:$F$32,2)","v":-0.3},4.9999999999999989E-2,"B0,5V","B0,5",{"$f":"+DEGREES(ACOS(SIN(Index!$H$6)*SIN(Base!N739)+COS(Index!$H$6)*COS(Base!N739)*COS(Index!$H$3-Base!H739)))","v":116.63635217076866}]
["HD 37018 ","05 35 23,16427","-04 50 18,0881",5,35,23.164269999999998,83.846517791666656,1.4633978017965881,"-",4,50,18.088100000000001,-4.8383578055555496,-8.4445274096511938E-2,208.50370000000001,-19.109200000000001,4.4039999999999999,4.5910000000000002,-0.18700000000000028,{"$f":"+VLOOKUP(W740,Data!$E$5:$F$32,2)","v":-0.26},7.2999999999999732E-2,"B1V","B1",{"$f":"+DEGREES(ACOS(SIN(Index!$H$6)*SIN(Base!N740)+COS(Index!$H$6)*COS(Base!N740)*COS(Index!$H$3-Base!H740)))","v":116.48919004947486}]
["HD 37041 ","05 35 22,90115","-05 24 57,8207",5,35,22.901150000000001,83.845421458333334,1.4633786671702222,"-",5,24,57.820700000000002,-5.4160613055555604,-9.4528102271807177E-2,209.04849999999999,-19.372199999999999,4.9800000000000004,5.08,-9.9999999999999645E-2,{"$f":"+VLOOKUP(W741,Data!$E$5:$F$32,2)","v":-0.04},-5.9999999999999644E-2,"O9,5Vpe","O9,5",{"$f":"+DEGREES(ACOS(SIN(Index!$H$6)*SIN(Base!N741)+COS(Index!$H$6)*COS(Base!N741)*COS(Index!$H$3-Base!H741)))","v":116.60394563991173}]
["HD 37209 ","05 36 35,69332","-06 03 53,1086",5,36,35.69332,84.148722166666658,1.4686722631542697,"-",6,3,53.108600000000003,-6.0647523888888903,-0.1058498975043027,209.8065,-19.3949,5.5,5.72,-0.21999999999999975,{"$f":"+VLOOKUP(W742,Data!$E$5:$F$32,2)","v":-0.26},4.0000000000000258E-2,"B1V","B1",{"$f":"+DEGREES(ACOS(SIN(Index!$H$6)*SIN(Base!N742)+COS(Index!$H$6)*COS(Base!N742)*COS(Index!$H$3-Base!H742)))","v":117.02661931100363}]
["HD 37269 ","05 38 38,08510","+30 29 32,7054",5,38,38.085099999999997,84.658687916666665,1.4775728445641723,"+",30,29,32.705399999999997,30.492418166666699,0.53219309390326697,177.87790000000001,-0.4677,5.8150000000000004,5.4029999999999996,0.41200000000000081,{"$f":"+VLOOKUP(W743,Data!$E$5:$F$32,2)","v":-7.0000000000000007E-2},0.48200000000000082,"B9,5V+,,,","B9,5",{"$f":"+DEGREES(ACOS(SIN(Index!$H$6)*SIN(Base!N743)+COS(Index!$H$6)*COS(Base!N743)*COS(Index!$H$3-Base!H743)))","v":105.63617464567007}]
["HD 37468 ","05 38 44,77934","-02 36 00,1186",5,38,44.779339999999998,84.686580583333324,1.4780596634346665,"-",2,36,0.1186,-2.6000329444444401,-4.5379135540878288E-2,206.81630000000001,-17.335899999999999,3.56,3.8,-0.23999999999999977,{"$f":"+VLOOKUP(W744,Data!$E$5:$F$32,2)","v":-0.04},-0.19999999999999976,"O9,5V","O9,5",{"$f":"+DEGREES(ACOS(SIN(Index!$H$6)*SIN(Base!N744)+COS(Index!$H$6)*COS(Base!N744)*COS(Index!$H$3-Base!H744)))","v":116.83262396910366}]
["HD 37507 ","05 38 53,08296","-07 12 46,1838",5,38,53.08296,84.721178999999992,1.4786635197214768,"-",7,12,46.183799999999998,-7.2128288333333304,-0.12588761152444794,211.16480000000001,-19.3977,4.93,4.8,0.12999999999999989,{"$f":"+VLOOKUP(W745,Data!$E$5:$F$32,2)","v":0.12},9.9999999999998979E-3,"A4V","A4",{"$f":"+DEGREES(ACOS(SIN(Index!$H$6)*SIN(Base!N745)+COS(Index!$H$6)*COS(Base!N745)*COS(Index!$H$3-Base!H745)))","v":117.8004055127675}]
["HD 37594 ","05 39 31,15049","-03 33 52,9344",5,39,31.150490000000001,84.879793708333338,1.4814318686239842,"-",3,33,52.934399999999997,-3.5647039999999999,-6.221582165901194E-2,207.80680000000001,-17.610299999999999,6.2489999999999997,5.9870000000000001,0.26199999999999957,{"$f":"+VLOOKUP(W746,Data!$E$5:$F$32,2)","v":0.27},-8.0000000000004512E-3,"A8Vs","A8",{"$f":"+DEGREES(ACOS(SIN(Index!$H$6)*SIN(Base!N746)+COS(Index!$H$6)*COS(Base!N746)*COS(Index!$H$3-Base!H746)))","v":117.23145069170285}]
["HD 37717 ","05 38 43,52561","-40 42 26,3223",5,38,43.52561,84.681356708333325,1.477968489616204,"-",40,42,26.322299999999998,-40.707311750000002,-0.71047661967327491,246.20500000000001,-30.521699999999999,5.7270000000000003,5.8040000000000003,-7.6999999999999957E-2,{"$f":"+VLOOKUP(W747,Data!$E$5:$F$32,2)","v":-0.11},3.3000000000000043E-2,"B8V","B8",{"$f":"+DEGREES(ACOS(SIN(Index!$H$6)*SIN(Base!N747)+COS(Index!$H$6)*COS(Base!N747)*COS(Index!$H$3-Base!H747)))","v":118.5221150673958}]
["HD 38091 ","05 46 30,38987","+56 06 56,0708",5,46,30.389869999999998,86.626624458333339,1.5119198166865662,"+",56,6,56.070799999999998,56.115575222222198,0.97940154927832601,156.39410000000001,13.876899999999999,6.08,5.931,0.14900000000000002,{"$f":"+VLOOKUP(W748,Data!$E$5:$F$32,2)","v":0.12},2.9000000000000026E-2,"A4Vn","A4",{"$f":"+DEGREES(ACOS(SIN(Index!$H$6)*SIN(Base!N748)+COS(Index!$H$6)*COS(Base!N748)*COS(Index!$H$3-Base!H748)))","v":94.657825376941872}]
["HD 38104 ","05 45 54,04306","+49 49 34,6097",5,45,54.043059999999997,86.475179416666663,1.5092766020736628,"+",49,49,34.609699999999997,49.826280472222201,0.86963264826243247,161.97900000000001,10.7464,5.5030000000000001,5.4610000000000003,4.1999999999999815E-2,{"$f":"+VLOOKUP(W749,Data!$E$5:$F$32,2)","v":0.05},-8.0000000000001875E-3,"A2Vp,,,","A2",{"$f":"+DEGREES(ACOS(SIN(Index!$H$6)*SIN(Base!N749)+COS(Index!$H$6)*COS(Base!N749)*COS(Index!$H$3-Base!H749)))","v":97.784839063162764}]
["HD 38170 ","05 42 15,19445","-34 40 04,1277",5,42,15.19445,85.563310208333334,1.493361482040692,"-",34,40,4.1276999999999999,-34.667813250000002,-0.60506748567901614,239.61969999999999,-28.4895,5.2530000000000001,5.2850000000000001,-3.2000000000000028E-2,{"$f":"+VLOOKUP(W750,Data!$E$5:$F$32,2)","v":-7.0000000000000007E-2},3.7999999999999978E-2,"B9,5V","B9,5",{"$f":"+DEGREES(ACOS(SIN(Index!$H$6)*SIN(Base!N750)+COS(Index!$H$6)*COS(Base!N750)*COS(Index!$H$3-Base!H750)))","v":119.91438256538891}]
["HD 38206 ","05 43 21,67057","-18 33 26,9175",5,43,21.670570000000001,85.840294041666681,1.4981957619071542,"-",18,33,26.9175,-18.5574770833333,-0.32388907596756022,222.7407,-23.083200000000001,5.7190000000000003,5.73,-1.1000000000000121E-2,{"$f":"+VLOOKUP(W751,Data!$E$5:$F$32,2)","v":-0.01},-1.0000000000001206E-3,"A0V","A0",{"$f":"+DEGREES(ACOS(SIN(Index!$H$6)*SIN(Base!N751)+COS(Index!$H$6)*COS(Base!N751)*COS(Index!$H$3-Base!H751)))","v":120.33354279954108}]
["HD 38545 ","05 47 13,15363","+14 29 17,9674",5,47,13.15363,86.804806791666664,1.5150296850721188,"+",14,29,17.967400000000001,14.488324277777799,0.25286896174385209,192.60079999999999,-7.1359000000000004,5.798,5.7249999999999996,7.3000000000000398E-2,{"$f":"+VLOOKUP(W752,Data!$E$5:$F$32,2)","v":0.08},-6.9999999999996038E-3,"A3Vn","A3",{"$f":"+DEGREES(ACOS(SIN(Index!$H$6)*SIN(Base!N752)+COS(Index!$H$6)*COS(Base!N752)*COS(Index!$H$3-Base!H752)))","v":113.83027510960767}]
["HD 38666 ","05 45 59,89496","-32 18 23,1630",5,45,59.894959999999998,86.49956233333333,1.5097021642507353,"-",32,18,23.163,-32.306434166666698,-0.56385364578712438,237.28620000000001,-27.1021,4.8890000000000002,5.1479999999999997,-0.25899999999999945,{"$f":"+VLOOKUP(W753,Data!$E$5:$F$32,2)","v":-0.04},-0.21899999999999945,"O9,5V","O9,5",{"$f":"+DEGREES(ACOS(SIN(Index!$H$6)*SIN(Base!N753)+COS(Index!$H$6)*COS(Base!N753)*COS(Index!$H$3-Base!H753)))","v":120.89136949469733}]
["HD 38710 ","05 48 00,23160","+06 27 14,9448",5,48,0.2316,87.000964999999994,1.5184532916623483,"+",6,27,14.944800000000001,6.4541513333333302,0.11264619118864866,199.751,-10.9763,5.51,5.3,0.20999999999999996,{"$f":"+VLOOKUP(W754,Data!$E$5:$F$32,2)","v":0.15},5.999999999999997E-2,"A5V","A5",{"$f":"+DEGREES(ACOS(SIN(Index!$H$6)*SIN(Base!N754)+COS(Index!$H$6)*COS(Base!N754)*COS(Index!$H$3-Base!H754)))","v":116.68639188598118}]
["HD 3901  ","00 42 03,89542","+50 30 45,0915",0,42,3.8954200000000001,10.516230916666666,0.18354285439585474,"+",50,30,45.091500000000003,50.512525416666698,0.88160988201815449,121.40689999999999,-12.3315,4.681,4.7969999999999997,-0.11599999999999966,{"$f":"+VLOOKUP(W755,Data!$E$5:$F$32,2)","v":-0.24},0.12400000000000033,"B2V","B2",{"$f":"+DEGREES(ACOS(SIN(Index!$H$6)*SIN(Base!N755)+COS(Index!$H$6)*COS(Base!N755)*COS(Index!$H$3-Base!H755)))","v":51.368900801866829}]
["HD 39014 ","05 44 46,37811","-65 44 07,9011",5,44,46.37811,86.193242124999998,1.5043558680499238,"-",65,44,7.9010999999999996,-65.735528083333307,-1.1473014005913635,275.47410000000002,-31.3721,4.5599999999999996,4.3499999999999996,0.20999999999999996,{"$f":"+VLOOKUP(W756,Data!$E$5:$F$32,2)","v":0.2},9.9999999999999534E-3,"A7V","A7",{"$f":"+DEGREES(ACOS(SIN(Index!$H$6)*SIN(Base!N756)+COS(Index!$H$6)*COS(Base!N756)*COS(Index!$H$3-Base!H756)))","v":112.96794381903827}]
["HD 39060 ","05 47 17,08769","-51 03 59,4412",5,47,17.087689999999998,86.821198708333327,1.5153157779886646,"-",51,3,59.441200000000002,-51.066511444444401,-0.89127876221292013,258.36380000000003,-30.611699999999999,4.0289999999999999,3.8610000000000002,0.16799999999999971,{"$f":"+VLOOKUP(W757,Data!$E$5:$F$32,2)","v":0.17},-2.0000000000003071E-3,"A6V","A6",{"$f":"+DEGREES(ACOS(SIN(Index!$H$6)*SIN(Base!N757)+COS(Index!$H$6)*COS(Base!N757)*COS(Index!$H$3-Base!H757)))","v":117.89889501860722}]
["HD 39190 ","05 49 53,50011","-22 58 18,7450",5,49,53.500109999999999,87.472917124999995,1.5266904101553822,"-",22,58,18.745000000000001,-22.9718736111111,-0.40093482986588813,227.81710000000001,-23.289300000000001,5.9169999999999998,5.8659999999999997,5.1000000000000156E-2,{"$f":"+VLOOKUP(W758,Data!$E$5:$F$32,2)","v":0.02},3.1000000000000156E-2,"A1V","A1",{"$f":"+DEGREES(ACOS(SIN(Index!$H$6)*SIN(Base!N758)+COS(Index!$H$6)*COS(Base!N758)*COS(Index!$H$3-Base!H758)))","v":122.04895095867609}]
["HD 39220 ","05 54 57,82770","+59 53 18,1229",5,54,57.8277,88.740948750000001,1.5488217370310464,"+",59,53,18.122900000000001,59.8883674722222,1.0452491960345511,153.44049999999999,16.590900000000001,5.2,5.2,0,{"$f":"+VLOOKUP(W759,Data!$E$5:$F$32,2)","v":0.05},-0.05,"A2V","A2",{"$f":"+DEGREES(ACOS(SIN(Index!$H$6)*SIN(Base!N759)+COS(Index!$H$6)*COS(Base!N759)*COS(Index!$H$3-Base!H759)))","v":93.608080122156807}]
["HD 39283 ","05 54 50,78082","+55 42 25,0084",5,54,50.780819999999999,88.711586750000009,1.5483092734560759,"+",55,42,25.008400000000002,55.706946777777802,0.97226963750546858,157.3262,14.7234,5.0190000000000001,4.968,5.1000000000000156E-2,{"$f":"+VLOOKUP(W760,Data!$E$5:$F$32,2)","v":0.05},1.0000000000001535E-3,"A2V","A2",{"$f":"+DEGREES(ACOS(SIN(Index!$H$6)*SIN(Base!N760)+COS(Index!$H$6)*COS(Base!N760)*COS(Index!$H$3-Base!H760)))","v":95.866008683559471}]
["HD 39357 ","05 53 19,64606","+27 36 44,1378",5,53,19.646059999999999,88.331858583333329,1.5416817666851805,"+",27,36,44.137799999999999,27.612260500000001,0.48192485964337572,182.00810000000001,0.77459999999999996,4.5490000000000004,4.5570000000000004,-8.0000000000000071E-3,{"$f":"+VLOOKUP(W761,Data!$E$5:$F$32,2)","v":-0.01},1.9999999999999931E-3,"A0V","A0",{"$f":"+DEGREES(ACOS(SIN(Index!$H$6)*SIN(Base!N761)+COS(Index!$H$6)*COS(Base!N761)*COS(Index!$H$3-Base!H761)))","v":109.78587489646475}]
["HD 39421 ","05 52 07,72896","-09 02 30,8424",5,52,7.7289599999999998,88.032204000000007,1.5364518075873224,"-",9,2,30.842400000000001,-9.0419006666666704,-0.1578109372716037,214.40969999999999,-17.252500000000001,6.0469999999999997,5.9640000000000004,8.2999999999999297E-2,{"$f":"+VLOOKUP(W762,Data!$E$5:$F$32,2)","v":0.05},3.2999999999999294E-2,"A2Vn","A2",{"$f":"+DEGREES(ACOS(SIN(Index!$H$6)*SIN(Base!N762)+COS(Index!$H$6)*COS(Base!N762)*COS(Index!$H$3-Base!H762)))","v":121.34454019015381}]
["HD 39698 ","05 54 56,68747","+19 44 58,6058",5,54,56.687469999999998,88.736197791666683,1.548738817165505,"+",19,44,58.605800000000002,19.749612722222199,0.34469576799653767,188.98,-2.8837000000000002,5.758,5.9009999999999998,-0.14299999999999979,{"$f":"+VLOOKUP(W763,Data!$E$5:$F$32,2)","v":-0.24},9.7000000000000197E-2,"B2V","B2",{"$f":"+DEGREES(ACOS(SIN(Index!$H$6)*SIN(Base!N763)+COS(Index!$H$6)*COS(Base!N763)*COS(Index!$H$3-Base!H763)))","v":113.50682972047838}]
["HD 39764 ","05 53 06,88101","-33 48 04,9079",5,53,6.8810099999999998,88.278670874999989,1.5407534660531734,"-",33,48,4.9078999999999997,-33.801363305555597,-0.58994508134473933,239.3612,-26.0943,4.7329999999999997,4.8630000000000004,-0.13000000000000078,{"$f":"+VLOOKUP(W764,Data!$E$5:$F$32,2)","v":-0.16},2.9999999999999222E-2,"B5V","B5",{"$f":"+DEGREES(ACOS(SIN(Index!$H$6)*SIN(Base!N764)+COS(Index!$H$6)*COS(Base!N764)*COS(Index!$H$3-Base!H764)))","v":122.23545248769149}]
["HD 39844 ","05 49 53,52107","-66 54 04,2787",5,49,53.521070000000002,87.473004458333335,1.5266919344095957,"-",66,54,4.2786999999999997,-66.901188527777805,-1.1676460133071807,276.80419999999998,-30.8017,4.9649999999999999,5.0910000000000002,-0.12600000000000033,{"$f":"+VLOOKUP(W765,Data!$E$5:$F$32,2)","v":-0.14000000000000001},1.3999999999999679E-2,"B6V","B6",{"$f":"+DEGREES(ACOS(SIN(Index!$H$6)*SIN(Base!N765)+COS(Index!$H$6)*COS(Base!N765)*COS(Index!$H$3-Base!H765)))","v":113.00543821013896}]
["HD 40446 ","05 58 49,57219","+00 33 10,7200",5,58,49.572189999999999,89.706550791666672,1.5656746719221093,"+",0,33,10.72,0.55297777777777801,9.6512829125837592E-3,206.35050000000001,-11.426299999999999,5.2320000000000002,5.2130000000000001,1.9000000000000128E-2,{"$f":"+VLOOKUP(W766,Data!$E$5:$F$32,2)","v":0.02},-9.9999999999987252E-4,"A1Vs","A1",{"$f":"+DEGREES(ACOS(SIN(Index!$H$6)*SIN(Base!N766)+COS(Index!$H$6)*COS(Base!N766)*COS(Index!$H$3-Base!H766)))","v":120.94568506830754}]
["HD 4058  ","00 43 28,07045","+47 01 28,3694",0,43,28.070450000000001,10.866960208333333,0.18966423531862561,"+",47,1,28.369399999999999,47.024547055555601,0.82073317537845014,121.52030000000001,-15.8254,5.1230000000000002,4.9589999999999996,0.16400000000000059,{"$f":"+VLOOKUP(W767,Data!$E$5:$F$32,2)","v":0.15},1.4000000000000595E-2,"A5V","A5",{"$f":"+DEGREES(ACOS(SIN(Index!$H$6)*SIN(Base!N767)+COS(Index!$H$6)*COS(Base!N767)*COS(Index!$H$3-Base!H767)))","v":49.792468231294237}]
["HD 40932A","06 02 23,00"," +09 38 50,2      ",6,2,23,90.595833333333331,1.5811955802546962,"+",9,38,50.2,9.6472777777777807,0.16837676107670413,198.68360000000001,-6.3127000000000004,4.3,4.0999999999999996,0.20000000000000018,{"$f":"+VLOOKUP(W768,Data!$E$5:$F$32,2)","v":0.02},0.18000000000000019,"A1Vm","A1",{"$f":"+DEGREES(ACOS(SIN(Index!$H$6)*SIN(Base!N768)+COS(Index!$H$6)*COS(Base!N768)*COS(Index!$H$3-Base!H768)))","v":119.0147283860172}]
["HD 40953 ","05 50 16,78640","-79 21 40,9076",5,50,16.7864,87.569943333333342,1.528383836951525,"-",79,21,40.907600000000002,-79.361363222222195,-1.3851170870989136,291.13290000000001,-29.4374,5.3840000000000003,5.4509999999999996,-6.6999999999999282E-2,{"$f":"+VLOOKUP(W769,Data!$E$5:$F$32,2)","v":-7.0000000000000007E-2},3.0000000000007243E-3,"B9V","B9",{"$f":"+DEGREES(ACOS(SIN(Index!$H$6)*SIN(Base!N769)+COS(Index!$H$6)*COS(Base!N769)*COS(Index!$H$3-Base!H769)))","v":107.7210967593505}]
["HD 41040 ","06 03 27,36610","+19 41 26,0221",6,3,27.366099999999999,90.864025416666664,1.5858764151366458,"+",19,41,26.022099999999998,19.690561694444401,0.34366513313512848,190.0283,-1.1755,5.0389999999999997,5.1349999999999998,-9.6000000000000085E-2,{"$f":"+VLOOKUP(W770,Data!$E$5:$F$32,2)","v":-0.11},1.3999999999999915E-2,"B8V","B8",{"$f":"+DEGREES(ACOS(SIN(Index!$H$6)*SIN(Base!N770)+COS(Index!$H$6)*COS(Base!N770)*COS(Index!$H$3-Base!H770)))","v":115.35122978037673}]
["HD 41335 ","06 04 13,50144","-06 42 32,1775",6,4,13.501440000000001,91.056256000000005,{"$f":"+RADIANS(G771)","v":1.5892314717388418},"-",6,42,32.177500000000002,{"$f":"VALUE(CONCATENATE(I771,+J771+K771/60+L771/3600))","v":-6.70893819444444},{"$f":"+RADIANS(M771)","v":-0.11709306080585902},213.6002,-13.536899999999999,5.1719999999999997,5.2510000000000003,-7.9000000000000625E-2,{"$f":"+VLOOKUP(W771,Data!$E$5:$F$32,2)","v":-0.24},{"$f":"+S771-T771","v":0.16099999999999937},"B2Vne",{"$f":"IF(MID(V771,3,1)<>\",\",LEFT(V771,2),LEFT(V771,4))","v":"B2"},{"$f":"+DEGREES(ACOS(SIN(Index!$H$6)*SIN(Base!N771)+COS(Index!$H$6)*COS(Base!N771)*COS(Index!$H$3-Base!H771)))","v":123.88903682179931}]
["HD 4142  ","00 44 26,19215","+47 51 50,3430",0,44,26.192150000000002,11.109133958333333,0.19389096461802721,"+",47,51,50.343000000000004,47.863984166666697,0.83538411683076819,121.7163,-14.991199999999999,5.5339999999999998,5.6459999999999999,-0.1120000000000001,{"$f":"+VLOOKUP(W772,Data!$E$5:$F$32,2)","v":-0.16},4.7999999999999904E-2,"B5V","B5",{"$f":"+DEGREES(ACOS(SIN(Index!$H$6)*SIN(Base!N772)+COS(Index!$H$6)*COS(Base!N772)*COS(Index!$H$3-Base!H772)))","v":50.346716428064177}]
["HD 41534 ","06 04 20,26523","-32 10 20,7383",6,4,20.265229999999999,91.084438458333338,1.5897233484280646,"-",32,10,20.738299999999999,-32.172427305555601,-0.56151478484047301,238.4256,-23.3614,5.4489999999999998,5.6310000000000002,-0.18200000000000038,{"$f":"+VLOOKUP(W773,Data!$E$5:$F$32,2)","v":-0.24},5.7999999999999607E-2,"B2,5V","B2,5",{"$f":"+DEGREES(ACOS(SIN(Index!$H$6)*SIN(Base!N773)+COS(Index!$H$6)*COS(Base!N773)*COS(Index!$H$3-Base!H773)))","v":124.76314193621282}]
["HD 41695 ","06 06 09,32339","-14 56 06,9188",6,6,9.3233899999999998,91.538847458333322,1.5976542816287593,"-",14,56,6.9188000000000001,-14.935255222222199,-0.26066937825345476,221.5086,-16.637899999999998,4.7140000000000004,4.6689999999999996,4.5000000000000817E-2,{"$f":"+VLOOKUP(W774,Data!$E$5:$F$32,2)","v":-0.01},5.5000000000000819E-2,"A0V","A0",{"$f":"+DEGREES(ACOS(SIN(Index!$H$6)*SIN(Base!N774)+COS(Index!$H$6)*COS(Base!N774)*COS(Index!$H$3-Base!H774)))","v":125.49094208818443}]
["HD 41753 ","06 07 34,32588","+14 46 06,5061",6,7,34.325879999999998,91.893024499999996,1.6038358371408159,"+",14,46,6.5061,14.7684739166667,0.25775849534073658,194.8064,-2.7212000000000001,4.25,4.4029999999999996,-0.15299999999999958,{"$f":"+VLOOKUP(W775,Data!$E$5:$F$32,2)","v":-0.2},4.700000000000043E-2,"B3V","B3",{"$f":"+DEGREES(ACOS(SIN(Index!$H$6)*SIN(Base!N775)+COS(Index!$H$6)*COS(Base!N775)*COS(Index!$H$3-Base!H775)))","v":118.27893320567344}]
["HD 41759 ","06 05 27,17874","-35 30 49,1295",6,5,27.178740000000001,91.363244749999993,1.5945894361929234,"-",35,30,49.1295,-35.513647083333296,-0.61983007099544707,241.98,-24.1584,5.8220000000000001,5.7969999999999997,2.5000000000000355E-2,{"$f":"+VLOOKUP(W776,Data!$E$5:$F$32,2)","v":0.02},5.0000000000003549E-3,"A1V","A1",{"$f":"+DEGREES(ACOS(SIN(Index!$H$6)*SIN(Base!N776)+COS(Index!$H$6)*COS(Base!N776)*COS(Index!$H$3-Base!H776)))","v":124.51248421065347}]
["HD 41841 ","06 06 32,09651","-23 06 39,0324",6,6,32.096510000000002,91.633735458333334,1.5993103896493919,"-",23,6,39.032400000000003,-23.110842333333299,-0.40336029162595494,229.45859999999999,-19.775300000000001,5.53,5.4619999999999997,6.8000000000000504E-2,{"$f":"+VLOOKUP(W777,Data!$E$5:$F$32,2)","v":0.05},1.8000000000000502E-2,"A2V","A2",{"$f":"+DEGREES(ACOS(SIN(Index!$H$6)*SIN(Base!N777)+COS(Index!$H$6)*COS(Base!N777)*COS(Index!$H$3-Base!H777)))","v":125.87765909057082}]
["HD 41843 ","06 06 05,53938","-29 45 31,0395",6,6,5.5393800000000004,91.523080749999991,1.5973791006561411,"-",29,45,31.0395,-29.7586220833333,-0.51938593621086049,236.0814,-22.222200000000001,5.827,5.7889999999999997,3.8000000000000256E-2,{"$f":"+VLOOKUP(W778,Data!$E$5:$F$32,2)","v":0.02},1.8000000000000255E-2,"A1V","A1",{"$f":"+DEGREES(ACOS(SIN(Index!$H$6)*SIN(Base!N778)+COS(Index!$H$6)*COS(Base!N778)*COS(Index!$H$3-Base!H778)))","v":125.40239059363513}]
["HD 42111 ","06 08 57,90421","+02 29 58,8926",6,8,57.904209999999999,92.241267541666673,1.6099138248150593,"+",2,29,58.892600000000002,2.49969238888889,4.3627862473153652E-2,205.80609999999999,-8.2764000000000006,5.7510000000000003,5.6879999999999997,6.3000000000000611E-2,{"$f":"+VLOOKUP(W779,Data!$E$5:$F$32,2)","v":0.08},-1.6999999999999391E-2,"A3Vn","A3",{"$f":"+DEGREES(ACOS(SIN(Index!$H$6)*SIN(Base!N779)+COS(Index!$H$6)*COS(Base!N779)*COS(Index!$H$3-Base!H779)))","v":122.84807076165055}]
["HD 42126J","06 11 36,59169","+48 42 39,5532",6,11,36.59169,92.902465375000006,1.6214539040137785,"+",48,42,39.553199999999997,48.710987000000003,0.85016710504615511,164.9735,13.950200000000001,5.88,5.78,9.9999999999999645E-2,{"$f":"+VLOOKUP(W780,Data!$E$5:$F$32,2)","v":0.08},1.9999999999999643E-2,"A3V+,,,","A3",{"$f":"+DEGREES(ACOS(SIN(Index!$H$6)*SIN(Base!N780)+COS(Index!$H$6)*COS(Base!N780)*COS(Index!$H$3-Base!H780)))","v":101.9123578703035}]
["HD 4222  ","00 45 17,17380","+55 13 17,0280",0,45,17.1738,11.321557500000001,0.19759845482885793,"+",55,13,17.027999999999999,55.221396666666699,0.96379518938315556,122.04689999999999,-7.6398000000000001,5.4340000000000002,5.4139999999999997,2.0000000000000462E-2,{"$f":"+VLOOKUP(W781,Data!$E$5:$F$32,2)","v":0.05},-2.9999999999999541E-2,"A2Vs","A2",{"$f":"+DEGREES(ACOS(SIN(Index!$H$6)*SIN(Base!N781)+COS(Index!$H$6)*COS(Base!N781)*COS(Index!$H$3-Base!H781)))","v":54.347878361080724}]
["HD 42301 ","06 08 57,86539","-22 25 38,6780",6,8,57.865389999999998,92.241105791666669,1.609911001744994,"-",22,25,38.677999999999997,-22.4274105555556,-0.39143215689097588,229.01089999999999,-18.999199999999998,5.4790000000000001,5.4820000000000002,-3.0000000000001137E-3,{"$f":"+VLOOKUP(W782,Data!$E$5:$F$32,2)","v":-0.01},6.9999999999998865E-3,"A0V","A0",{"$f":"+DEGREES(ACOS(SIN(Index!$H$6)*SIN(Base!N782)+COS(Index!$H$6)*COS(Base!N782)*COS(Index!$H$3-Base!H782)))","v":126.4466245698618}]
["HD 42303 ","06 07 52,85895","-42 09 14,5489",6,7,52.85895,91.97024562499999,1.6051836000241599,"-",42,9,14.5489,-42.154041361111098,-0.73572681477326063,249.16380000000001,-25.509699999999999,5.5039999999999996,5.4980000000000002,5.9999999999993392E-3,{"$f":"+VLOOKUP(W783,Data!$E$5:$F$32,2)","v":-0.01},1.5999999999999341E-2,"A0V","A0",{"$f":"+DEGREES(ACOS(SIN(Index!$H$6)*SIN(Base!N783)+COS(Index!$H$6)*COS(Base!N783)*COS(Index!$H$3-Base!H783)))","v":123.60335390526075}]
["HD 42509 ","06 12 01,34009","+19 47 25,9463",6,12,1.34009,93.005583708333333,1.6232536584496142,"+",19,47,25.946300000000001,19.790540638888899,0.34541009489835345,190.92099999999999,0.63449999999999995,5.7050000000000001,5.7530000000000001,-4.8000000000000043E-2,{"$f":"+VLOOKUP(W784,Data!$E$5:$F$32,2)","v":-7.0000000000000007E-2},2.1999999999999964E-2,"B9,5V","B9,5",{"$f":"+DEGREES(ACOS(SIN(Index!$H$6)*SIN(Base!N784)+COS(Index!$H$6)*COS(Base!N784)*COS(Index!$H$3-Base!H784)))","v":117.12182028760735}]
["HD 42525 ","06 06 09,38182","-66 02 22,6387",6,6,9.3818199999999994,91.539090916666652,1.5976585307782674,"-",66,2,22.6387,-66.039621861111101,-1.1526088382484141,275.79559999999998,-29.185400000000001,5.6870000000000003,5.6970000000000001,-9.9999999999997868E-3,{"$f":"+VLOOKUP(W785,Data!$E$5:$F$32,2)","v":-0.01},2.1337098754514727E-16,"A0V","A0",{"$f":"+DEGREES(ACOS(SIN(Index!$H$6)*SIN(Base!N785)+COS(Index!$H$6)*COS(Base!N785)*COS(Index!$H$3-Base!H785)))","v":114.83995030087399}]
["HD 42545 ","06 12 03,27955","+16 07 49,4614",6,12,3.27955,93.01366479166667,1.623394699960909,"+",16,7,49.461399999999998,16.130405944444401,0.28152869341382036,194.1344,-1.1180000000000001,4.8129999999999997,4.9470000000000001,-0.13400000000000034,{"$f":"+VLOOKUP(W786,Data!$E$5:$F$32,2)","v":-0.16},2.5999999999999662E-2,"B5Vn","B5",{"$f":"+DEGREES(ACOS(SIN(Index!$H$6)*SIN(Base!N786)+COS(Index!$H$6)*COS(Base!N786)*COS(Index!$H$3-Base!H786)))","v":118.70915892581741}]
["HD 42690 ","06 11 51,81457","-06 33 01,0327",6,11,51.814570000000003,92.965894041666672,1.6225609430872618,"-",6,33,1.0327,-6.5502868611111102,-0.11432407267651339,214.3186,-11.767200000000001,4.8570000000000002,5.0460000000000003,-0.18900000000000006,{"$f":"+VLOOKUP(W787,Data!$E$5:$F$32,2)","v":-0.24},5.0999999999999934E-2,"B2V","B2",{"$f":"+DEGREES(ACOS(SIN(Index!$H$6)*SIN(Base!N787)+COS(Index!$H$6)*COS(Base!N787)*COS(Index!$H$3-Base!H787)))","v":125.72265978764683}]
["HD 42818 ","06 18 50,77630","+69 19 11,2310",6,18,50.776299999999999,94.711567916666667,1.6530286998720598,"+",69,19,11.231,69.3197863888889,1.2098585092652616,145.15940000000001,22.461200000000002,4.7830000000000004,4.7619999999999996,2.1000000000000796E-2,{"$f":"+VLOOKUP(W788,Data!$E$5:$F$32,2)","v":-0.01},3.1000000000000798E-2,"A0Vn","A0",{"$f":"+DEGREES(ACOS(SIN(Index!$H$6)*SIN(Base!N788)+COS(Index!$H$6)*COS(Base!N788)*COS(Index!$H$3-Base!H788)))","v":90.153179235009844}]
["HD 43107 ","06 08 44,26199","-68 50 36,2797",6,8,44.261989999999997,92.184424958333338,1.6089217345805533,"-",68,50,36.279699999999998,-68.843411027777805,-1.2015441907384961,279.00940000000003,-28.996099999999998,4.9859999999999998,5.0439999999999996,-5.7999999999999829E-2,{"$f":"+VLOOKUP(W789,Data!$E$5:$F$32,2)","v":-0.11},5.2000000000000171E-2,"B8V","B8",{"$f":"+DEGREES(ACOS(SIN(Index!$H$6)*SIN(Base!N789)+COS(Index!$H$6)*COS(Base!N789)*COS(Index!$H$3-Base!H789)))","v":113.76306424067361}]
["HD 43112 ","06 15 08,47250","+13 51 03,9607",6,15,8.4725000000000001,93.785302083333335,1.636862311331664,"+",13,51,3.9607000000000001,13.851100194444401,0.24174730341668157,196.4932,-1.554,5.67,5.891,-0.22100000000000009,{"$f":"+VLOOKUP(W790,Data!$E$5:$F$32,2)","v":-0.26},3.8999999999999924E-2,"B1V","B1",{"$f":"+DEGREES(ACOS(SIN(Index!$H$6)*SIN(Base!N790)+COS(Index!$H$6)*COS(Base!N790)*COS(Index!$H$3-Base!H790)))","v":120.32655877497851}]
["HD 43153 ","06 15 25,12824","+16 08 35,4219",6,15,25.128240000000002,93.854700999999991,1.6380735509248143,"+",16,8,35.421900000000001,16.143172750000002,0.28175151620572747,194.50989999999999,-0.40250000000000002,5.226,5.327,-0.10099999999999998,{"$f":"+VLOOKUP(W791,Data!$E$5:$F$32,2)","v":-0.13},2.9000000000000026E-2,"B7V","B7",{"$f":"+DEGREES(ACOS(SIN(Index!$H$6)*SIN(Base!N791)+COS(Index!$H$6)*COS(Base!N791)*COS(Index!$H$3-Base!H791)))","v":119.43651300056963}]
["HD 43157 ","06 14 36,70297","-04 34 06,4392",6,14,36.702970000000001,93.652929041666667,1.6345519659137011,"-",4,34,6.4391999999999996,-4.56845533333333,-7.9734587296961659E-2,212.82509999999999,-10.2684,5.6669999999999998,5.82,-0.15300000000000047,{"$f":"+VLOOKUP(W792,Data!$E$5:$F$32,2)","v":-0.16},6.9999999999995344E-3,"B5V","B5",{"$f":"+DEGREES(ACOS(SIN(Index!$H$6)*SIN(Base!N792)+COS(Index!$H$6)*COS(Base!N792)*COS(Index!$H$3-Base!H792)))","v":125.99484920691712}]
["HD 43378 ","06 19 37,38458","+59 00 39,4683",6,19,37.38458,94.905769083333325,1.6564181496416073,"+",59,0,39.468299999999999,59.010963416666698,1.0299356063947562,155.59389999999999,19.116599999999998,4.476,4.4459999999999997,3.0000000000000249E-2,{"$f":"+VLOOKUP(W793,Data!$E$5:$F$32,2)","v":0.05},-1.9999999999999754E-2,"A2Vs","A2",{"$f":"+DEGREES(ACOS(SIN(Index!$H$6)*SIN(Base!N793)+COS(Index!$H$6)*COS(Base!N793)*COS(Index!$H$3-Base!H793)))","v":96.662355800446946}]
["HD 43445 ","06 15 44,88569","-13 43 06,2928",6,15,44.885689999999997,93.937023708333342,1.6395103532343904,"-",13,43,6.2927999999999997,-13.7184146666667,-0.23943150408721431,221.36920000000001,-14.0184,4.9240000000000004,4.9980000000000002,-7.3999999999999844E-2,{"$f":"+VLOOKUP(W794,Data!$E$5:$F$32,2)","v":-7.0000000000000007E-2},-3.999999999999837E-3,"B9V","B9",{"$f":"+DEGREES(ACOS(SIN(Index!$H$6)*SIN(Base!N794)+COS(Index!$H$6)*COS(Base!N794)*COS(Index!$H$3-Base!H794)))","v":127.69344770337599}]
["HD 43525 ","06 17 06,62041","+09 56 32,5997",6,17,6.6204099999999997,94.277585041666654,1.6454542698060386,"+",9,56,32.599699999999999,9.9423888055555594,0.17352742017037079,200.16499999999999,-2.9855,5.4989999999999997,5.399,9.9999999999999645E-2,{"$f":"+VLOOKUP(W795,Data!$E$5:$F$32,2)","v":0.05},4.9999999999999642E-2,"A2V","A2",{"$f":"+DEGREES(ACOS(SIN(Index!$H$6)*SIN(Base!N795)+COS(Index!$H$6)*COS(Base!N795)*COS(Index!$H$3-Base!H795)))","v":122.29265813400684}]
["HD 43940 ","06 17 09,56816","-37 15 12,5961",6,17,9.5681600000000007,94.289867333333333,1.6456686362353123,"-",37,15,12.5961,-37.2534989166667,-0.65019621398397454,244.5557,-22.431899999999999,6.02,5.88,0.13999999999999968,{"$f":"+VLOOKUP(W796,Data!$E$5:$F$32,2)","v":0.05},8.9999999999999677E-2,"A2V","A2",{"$f":"+DEGREES(ACOS(SIN(Index!$H$6)*SIN(Base!N796)+COS(Index!$H$6)*COS(Base!N796)*COS(Index!$H$3-Base!H796)))","v":126.48907907779372}]
["HD 44112 ","06 19 42,79890","-07 49 22,4730",6,19,42.798900000000003,94.928328750000006,1.6568118901030933,"-",7,49,22.472999999999999,-7.8229091666666699,-0.13653552204277922,216.36160000000001,-10.5868,5.0720000000000001,5.2460000000000004,-0.17400000000000038,{"$f":"+VLOOKUP(W797,Data!$E$5:$F$32,2)","v":-0.24},6.5999999999999615E-2,"B2,5V","B2,5",{"$f":"+DEGREES(ACOS(SIN(Index!$H$6)*SIN(Base!N797)+COS(Index!$H$6)*COS(Base!N797)*COS(Index!$H$3-Base!H797)))","v":127.86754313852543}]
["HD 44323 ","06 19 40,95612","-34 23 47,7288",6,19,40.956119999999999,94.920650499999994,1.6566778793598018,"-",34,23,47.7288,-34.396591333333298,-0.60033377022961243,241.81379999999999,-21.040099999999999,5.6710000000000003,5.75,-7.8999999999999737E-2,{"$f":"+VLOOKUP(W798,Data!$E$5:$F$32,2)","v":-7.0000000000000007E-2},-8.9999999999997304E-3,"B9V","B9",{"$f":"+DEGREES(ACOS(SIN(Index!$H$6)*SIN(Base!N798)+COS(Index!$H$6)*COS(Base!N798)*COS(Index!$H$3-Base!H798)))","v":127.58070971902035}]
["HD 44402 ","06 20 18,79204","-30 03 48,1202",6,20,18.79204,95.078300166666651,1.6594293851078064,"-",30,3,48.120199999999997,-30.063366722222199,-0.52470473353727287,237.52199999999999,-19.433599999999998,2.83,3,-0.16999999999999993,{"$f":"+VLOOKUP(W799,Data!$E$5:$F$32,2)","v":-0.24},7.0000000000000062E-2,"B2,5V","B2,5",{"$f":"+DEGREES(ACOS(SIN(Index!$H$6)*SIN(Base!N799)+COS(Index!$H$6)*COS(Base!N799)*COS(Index!$H$3-Base!H799)))","v":128.42708215364644}]
["HD 44458 ","06 21 24,71513","-11 46 23,6627",6,21,24.715129999999998,95.352979708333322,1.6642234474977589,"-",11,46,23.662700000000001,-11.773239638888899,-0.20548179532491953,220.1705,-11.9384,5.5629999999999997,5.585,-2.2000000000000242E-2,{"$f":"+VLOOKUP(W800,Data!$E$5:$F$32,2)","v":-0.26},0.23799999999999977,"B1Vpe","B1",{"$f":"+DEGREES(ACOS(SIN(Index!$H$6)*SIN(Base!N800)+COS(Index!$H$6)*COS(Base!N800)*COS(Index!$H$3-Base!H800)))","v":128.85821685556385}]
["HD 44506 ","06 20 36,23946","-34 08 38,9177",6,20,36.239460000000001,95.150997750000002,1.6606981972952164,"-",34,8,38.917700000000004,-34.144143805555601,-0.59592772968137175,241.62610000000001,-20.777100000000001,5.3460000000000001,5.5250000000000004,-0.17900000000000027,{"$f":"+VLOOKUP(W801,Data!$E$5:$F$32,2)","v":-0.26},8.0999999999999739E-2,"B1,5Ve","B1,5",{"$f":"+DEGREES(ACOS(SIN(Index!$H$6)*SIN(Base!N801)+COS(Index!$H$6)*COS(Base!N801)*COS(Index!$H$3-Base!H801)))","v":127.81606464629029}]
["HD 44691 ","06 26 25,83570","+56 17 06,3452",6,26,25.835699999999999,96.607648749999996,1.6861215532976841,"+",56,17,6.3452000000000002,56.285095888888897,0.98236024306183567,158.63159999999999,18.9956,5.76,5.54,0.21999999999999975,{"$f":"+VLOOKUP(W802,Data!$E$5:$F$32,2)","v":0.08},0.13999999999999974,"A3Vm","A3",{"$f":"+DEGREES(ACOS(SIN(Index!$H$6)*SIN(Base!N802)+COS(Index!$H$6)*COS(Base!N802)*COS(Index!$H$3-Base!H802)))","v":99.08739518427727}]
["HD 45320 ","06 26 39,58599","-01 30 26,4110",6,26,39.585990000000002,96.664941624999997,1.6871215026043678,"-",1,30,26.411000000000001,-1.50733638888889,-2.6307982921232802E-2,211.44630000000001,-6.1997999999999998,5.94,5.8739999999999997,6.6000000000000725E-2,{"$f":"+VLOOKUP(W803,Data!$E$5:$F$32,2)","v":0.08},-1.3999999999999277E-2,"A3Vn","A3",{"$f":"+DEGREES(ACOS(SIN(Index!$H$6)*SIN(Base!N803)+COS(Index!$H$6)*COS(Base!N803)*COS(Index!$H$3-Base!H803)))","v":128.19975913275664}]
["HD 45546 ","06 27 57,56865","-04 45 43,7529",6,27,57.568649999999998,96.989869374999998,1.6927925616729649,"-",4,45,43.752899999999997,-4.7621535833333297,-8.3115259514812759E-2,214.51609999999999,-7.3861999999999997,4.8639999999999999,5.0350000000000001,-0.17100000000000026,{"$f":"+VLOOKUP(W804,Data!$E$5:$F$32,2)","v":-0.24},6.8999999999999728E-2,"B2V","B2",{"$f":"+DEGREES(ACOS(SIN(Index!$H$6)*SIN(Base!N804)+COS(Index!$H$6)*COS(Base!N804)*COS(Index!$H$3-Base!H804)))","v":129.28511079119036}]
["HD 45557 ","06 24 13,84199","-60 16 52,7697",6,24,13.841989999999999,96.057674958333337,1.6765226998334237,"-",60,16,52.7697,-60.281324916666698,-1.0521075972603302,269.51830000000001,-26.632300000000001,5.7779999999999996,5.78,-2.0000000000006679E-3,{"$f":"+VLOOKUP(W805,Data!$E$5:$F$32,2)","v":-0.01},7.9999999999993323E-3,"A0V","A0",{"$f":"+DEGREES(ACOS(SIN(Index!$H$6)*SIN(Base!N805)+COS(Index!$H$6)*COS(Base!N805)*COS(Index!$H$3-Base!H805)))","v":119.31735332758686}]
["HD 45572 ","06 25 43,65308","-48 10 36,8367",6,25,43.653080000000003,96.431887833333334,1.6830539466055277,"-",48,10,36.8367,-48.176899083333304,-0.84084551240520411,256.44839999999999,-23.968900000000001,5.7149999999999999,5.7779999999999996,-6.2999999999999723E-2,{"$f":"+VLOOKUP(W806,Data!$E$5:$F$32,2)","v":-7.0000000000000007E-2},7.0000000000002838E-3,"B9V","B9",{"$f":"+DEGREES(ACOS(SIN(Index!$H$6)*SIN(Base!N806)+COS(Index!$H$6)*COS(Base!N806)*COS(Index!$H$3-Base!H806)))","v":124.71564058738824}]
["HD 45725 ","06 28 49,06971","-07 01 59,0101",6,28,49.069710000000001,97.204457125000005,1.6965378244449114,"-",7,1,59.010100000000001,-7.0330583611111104,-0.1227500248863052,216.66139999999999,-8.2139000000000006,4.4800000000000004,4.62,-0.13999999999999968,{"$f":"+VLOOKUP(W807,Data!$E$5:$F$32,2)","v":-0.2},6.0000000000000331E-2,"B3Ve","B3",{"$f":"+DEGREES(ACOS(SIN(Index!$H$6)*SIN(Base!N807)+COS(Index!$H$6)*COS(Base!N807)*COS(Index!$H$3-Base!H807)))","v":129.94774835224726}]
["HD 45813 ","06 28 10,20747","-32 34 48,2455",6,28,10.207470000000001,97.042531125000011,1.6937116826003271,"-",32,34,48.2455,-32.5800681944445,-0.56862946051734065,240.64150000000001,-18.7563,4.3109999999999999,4.4619999999999997,-0.1509999999999998,{"$f":"+VLOOKUP(W808,Data!$E$5:$F$32,2)","v":-0.18},2.9000000000000192E-2,"B4V","B4",{"$f":"+DEGREES(ACOS(SIN(Index!$H$6)*SIN(Base!N808)+COS(Index!$H$6)*COS(Base!N808)*COS(Index!$H$3-Base!H808)))","v":129.66755440587482}]
["HD 45871 ","06 28 39,24252","-32 22 16,5985",6,28,39.242519999999999,97.163510500000001,1.6958231710210818,"-",32,22,16.598500000000001,-32.371277361111098,-0.56498537302769003,240.47380000000001,-18.5867,5.57,5.74,-0.16999999999999993,{"$f":"+VLOOKUP(W809,Data!$E$5:$F$32,2)","v":-0.18},1.0000000000000064E-2,"B4Vnpe","B4",{"$f":"+DEGREES(ACOS(SIN(Index!$H$6)*SIN(Base!N809)+COS(Index!$H$6)*COS(Base!N809)*COS(Index!$H$3-Base!H809)))","v":129.80783814396128}]
["HD 46089 ","06 31 48,30005","+11 32 39,8866",6,31,48.300049999999999,97.951250208333335,1.7095718225801984,"+",11,32,39.886600000000001,11.544412944444399,0.20148801609040798,200.43629999999999,0.95389999999999997,5.3940000000000001,5.2229999999999999,0.17100000000000026,{"$f":"+VLOOKUP(W810,Data!$E$5:$F$32,2)","v":0.08},9.1000000000000261E-2,"A3V","A3",{"$f":"+DEGREES(ACOS(SIN(Index!$H$6)*SIN(Base!N810)+COS(Index!$H$6)*COS(Base!N810)*COS(Index!$H$3-Base!H810)))","v":124.97895341395919}]
["HD 46189 ","06 30 46,28810","-27 46 10,4716",6,30,46.2881,97.69286708333334,1.7050621863173563,"-",27,46,10.4716,-27.769575444444399,-0.48467052338652244,236.16650000000001,-16.461200000000002,5.7510000000000003,5.9050000000000002,-0.15399999999999991,{"$f":"+VLOOKUP(W811,Data!$E$5:$F$32,2)","v":-0.24},8.6000000000000076E-2,"B2,5V","B2,5",{"$f":"+DEGREES(ACOS(SIN(Index!$H$6)*SIN(Base!N811)+COS(Index!$H$6)*COS(Base!N811)*COS(Index!$H$3-Base!H811)))","v":131.00224957930877}]
["HD 4622  ","00 48 01,06468","-21 43 20,9909",0,48,1.0646800000000001,12.004436166666668,0.20951693595382012,"-",21,43,20.9909,-21.722497472222202,-0.37912910264642291,114.5566,-84.538499999999999,5.51,5.57,-6.0000000000000497E-2,{"$f":"+VLOOKUP(W812,Data!$E$5:$F$32,2)","v":-7.0000000000000007E-2},9.9999999999995093E-3,"B9V","B9",{"$f":"+DEGREES(ACOS(SIN(Index!$H$6)*SIN(Base!N812)+COS(Index!$H$6)*COS(Base!N812)*COS(Index!$H$3-Base!H812)))","v":55.355153864290614}]
["HD 46487 ","06 33 37,92203","-01 13 12,5524",6,33,37.922029999999999,98.408008458333327,1.7175437579283457,"-",1,13,12.5524,-1.22015344444444,-2.1295694985105192E-2,211.98750000000001,-4.5179,4.9530000000000003,5.0830000000000002,-0.12999999999999989,{"$f":"+VLOOKUP(W813,Data!$E$5:$F$32,2)","v":-0.16},3.000000000000011E-2,"B5Vn","B5",{"$f":"+DEGREES(ACOS(SIN(Index!$H$6)*SIN(Base!N813)+COS(Index!$H$6)*COS(Base!N813)*COS(Index!$H$3-Base!H813)))","v":129.80612543749257}]
["HD 46553 ","06 35 12,06218","+28 01 20,3168",6,35,12.06218,98.80025908333333,1.7243898228276013,"+",28,1,20.316800000000001,28.022310222222199,0.48908157739304126,186.03729999999999,9.1265000000000001,5.2569999999999997,5.266,-9.0000000000003411E-3,{"$f":"+VLOOKUP(W814,Data!$E$5:$F$32,2)","v":-0.01},9.9999999999965915E-4,"A0Vnn","A0",{"$f":"+DEGREES(ACOS(SIN(Index!$H$6)*SIN(Base!N814)+COS(Index!$H$6)*COS(Base!N814)*COS(Index!$H$3-Base!H814)))","v":117.57611476871149}]
["HD 46590 ","06 37 38,38609","+56 51 27,1077",6,37,38.386090000000003,99.409942041666667,1.7350307978438173,"+",56,51,27.107700000000001,56.857529916666699,0.99235110159701101,158.60570000000001,20.6418,5.89,5.89,0,{"$f":"+VLOOKUP(W815,Data!$E$5:$F$32,2)","v":0.05},-0.05,"A2V","A2",{"$f":"+DEGREES(ACOS(SIN(Index!$H$6)*SIN(Base!N815)+COS(Index!$H$6)*COS(Base!N815)*COS(Index!$H$3-Base!H815)))","v":99.877779069376672}]
["HD 46860 ","06 31 58,31021","-58 45 13,8117",6,31,58.310209999999998,97.992959208333332,1.7102997819579127,"-",58,45,13.8117,-58.753836583333303,-1.0254478965578619,268.0299,-25.404499999999999,5.6470000000000002,5.7069999999999999,-5.9999999999999609E-2,{"$f":"+VLOOKUP(W816,Data!$E$5:$F$32,2)","v":-7.0000000000000007E-2},1.0000000000000397E-2,"B9Ve","B9",{"$f":"+DEGREES(ACOS(SIN(Index!$H$6)*SIN(Base!N816)+COS(Index!$H$6)*COS(Base!N816)*COS(Index!$H$3-Base!H816)))","v":120.91868678362663}]
["HD 46936 ","06 34 35,33047","-32 42 58,5146",6,34,35.330469999999998,98.647210291666667,1.7217186174968191,"-",32,42,58.514600000000002,-32.716254055555602,-0.57100635218839313,241.2869,-17.544699999999999,5.5339999999999998,5.61,-7.6000000000000512E-2,{"$f":"+VLOOKUP(W817,Data!$E$5:$F$32,2)","v":-0.11},3.3999999999999489E-2,"B8V","B8",{"$f":"+DEGREES(ACOS(SIN(Index!$H$6)*SIN(Base!N817)+COS(Index!$H$6)*COS(Base!N817)*COS(Index!$H$3-Base!H817)))","v":130.96278736050232}]
["HD 47054 ","06 36 35,33135","-05 12 40,1107",6,36,35.33135,99.147213958333325,1.7304453277521965,"-",5,12,40.110700000000001,-5.21114186111111,-9.0951583264893915E-2,215.8946,-5.6700999999999997,5.44,5.57,-0.12999999999999989,{"$f":"+VLOOKUP(W818,Data!$E$5:$F$32,2)","v":-0.11},-1.9999999999999893E-2,"B8Ve","B8",{"$f":"+DEGREES(ACOS(SIN(Index!$H$6)*SIN(Base!N818)+COS(Index!$H$6)*COS(Base!N818)*COS(Index!$H$3-Base!H818)))","v":131.4805824881029}]
["HD 47144 ","06 35 24,21831","-36 46 47,5626",6,35,24.218309999999999,98.850909625,1.7252738415476032,"-",36,46,47.562600000000003,-36.779878500000002,-0.64192997830847331,245.34690000000001,-18.8352,5.63,5.77,-0.13999999999999968,{"$f":"+VLOOKUP(W819,Data!$E$5:$F$32,2)","v":-0.01},-0.12999999999999967,"A0V","A0",{"$f":"+DEGREES(ACOS(SIN(Index!$H$6)*SIN(Base!N819)+COS(Index!$H$6)*COS(Base!N819)*COS(Index!$H$3-Base!H819)))","v":130.13456538135662}]
["HD 4727  ","00 49 48,84737","+41 04 44,0764",0,49,48.847369999999998,12.453530708333334,0.2173551143586383,"+",41,4,44.0764,41.078910111111099,0.71696223456967834,122.6024,-21.791799999999999,4.3899999999999997,4.524,-0.13400000000000034,{"$f":"+VLOOKUP(W820,Data!$E$5:$F$32,2)","v":-0.16},2.5999999999999662E-2,"B5V+,,,","B5",{"$f":"+DEGREES(ACOS(SIN(Index!$H$6)*SIN(Base!N820)+COS(Index!$H$6)*COS(Base!N820)*COS(Index!$H$3-Base!H820)))","v":48.201073520758072}]
["HD 47575 ","06 39 47,71668","+12 58 57,9630",6,39,47.716679999999997,99.948819499999999,1.7444359837565127,"+",12,58,57.963000000000001,12.9827675,0.22659203889591292,200.05330000000001,3.3481999999999998,6.048,5.9790000000000001,6.899999999999995E-2,{"$f":"+VLOOKUP(W821,Data!$E$5:$F$32,2)","v":0.05},1.8999999999999947E-2,"A2V","A2",{"$f":"+DEGREES(ACOS(SIN(Index!$H$6)*SIN(Base!N821)+COS(Index!$H$6)*COS(Base!N821)*COS(Index!$H$3-Base!H821)))","v":126.12161625961353}]
["HD 4775  ","00 50 43,61086","+64 14 51,1835",0,50,43.610860000000002,12.681711916666668,0.2213376277352341,"+",64,14,51.183500000000002,64.2475509722222,1.1213313008081613,122.85469999999999,1.3758999999999999,5.8479999999999999,5.3730000000000002,0.47499999999999964,{"$f":"+VLOOKUP(W822,Data!$E$5:$F$32,2)","v":-7.0000000000000007E-2},0.54499999999999971,"B9,5V+,,,","B9,5",{"$f":"+DEGREES(ACOS(SIN(Index!$H$6)*SIN(Base!N822)+COS(Index!$H$6)*COS(Base!N822)*COS(Index!$H$3-Base!H822)))","v":60.193838026330702}]
["HD 47839 ","06 40 58,65963","+09 53 44,7229",6,40,58.65963,100.244415125,1.7495951006672532,"+",9,53,44.722900000000003,9.8957563611111095,0.17271353047656182,202.93629999999999,2.1985000000000001,4.4000000000000004,4.6399999999999997,-0.23999999999999932,{"$f":"+VLOOKUP(W823,Data!$E$5:$F$32,2)","v":-0.04},-0.19999999999999932,"O7Ve","O7",{"$f":"+DEGREES(ACOS(SIN(Index!$H$6)*SIN(Base!N823)+COS(Index!$H$6)*COS(Base!N823)*COS(Index!$H$3-Base!H823)))","v":127.71329139576925}]
["HD 48097 ","06 42 24,32722","+17 38 43,1118",6,42,24.327220000000001,100.60136341666666,1.7558250236162052,"+",17,38,43.111800000000002,17.645308833333299,0.30796873667290542,196.16460000000001,6.0157999999999996,5.27,5.21,5.9999999999999609E-2,{"$f":"+VLOOKUP(W824,Data!$E$5:$F$32,2)","v":0.05},9.9999999999996064E-3,"A2V","A2",{"$f":"+DEGREES(ACOS(SIN(Index!$H$6)*SIN(Base!N824)+COS(Index!$H$6)*COS(Base!N824)*COS(Index!$H$3-Base!H824)))","v":124.47697946469258}]
["HD 48250 ","06 46 14,13019","+59 26 30,0227",6,46,14.130190000000001,101.55887579166667,1.7725367671885461,"+",59,26,30.0227,59.4416729722222,1.0374529062590012,156.30500000000001,22.481400000000001,4.95,4.87,8.0000000000000071E-2,{"$f":"+VLOOKUP(W825,Data!$E$5:$F$32,2)","v":0.08},0,"A3V","A3",{"$f":"+DEGREES(ACOS(SIN(Index!$H$6)*SIN(Base!N825)+COS(Index!$H$6)*COS(Base!N825)*COS(Index!$H$3-Base!H825)))","v":98.926654716548015}]
["HD 48250A","06 46 14,15"," +59 26 30,1      ",6,46,14.15,101.55895833333334,1.7725382078123995,"+",59,26,30.1,59.441694444444401,1.0374532810199764,156.30500000000001,22.481400000000001,5.3,5.3,0,{"$f":"+VLOOKUP(W826,Data!$E$5:$F$32,2)","v":0.02},-0.02,"A1,5V","A1,5",{"$f":"+DEGREES(ACOS(SIN(Index!$H$6)*SIN(Base!N826)+COS(Index!$H$6)*COS(Base!N826)*COS(Index!$H$3-Base!H826)))","v":98.926669578174412}]
["HD 4853  ","00 54 53,08720","+83 42 26,7818",0,54,53.087200000000003,13.721196666666666,0.23948005914700421,"+",83,42,26.7818,83.707439388888901,1.4609704257497014,123.033,20.836400000000001,5.68,5.59,8.9999999999999858E-2,{"$f":"+VLOOKUP(W827,Data!$E$5:$F$32,2)","v":0.12},-3.0000000000000138E-2,"A4V","A4",{"$f":"+DEGREES(ACOS(SIN(Index!$H$6)*SIN(Base!N827)+COS(Index!$H$6)*COS(Base!N827)*COS(Index!$H$3-Base!H827)))","v":73.045688113458056}]
["HD 48915 ","06 45 08,91728","-16 42 58,0171",6,45,8.9172799999999999,101.28715533333333,1.7677943505456013,"-",16,42,58.017099999999999,-16.716115861111099,-0.29175125992123585,227.2303,-8.8902999999999999,-1.46,-1.47,1.0000000000000009E-2,{"$f":"+VLOOKUP(W828,Data!$E$5:$F$32,2)","v":0.02},-9.9999999999999915E-3,"A1V","A1",{"$f":"+DEGREES(ACOS(SIN(Index!$H$6)*SIN(Base!N828)+COS(Index!$H$6)*COS(Base!N828)*COS(Index!$H$3-Base!H828)))","v":134.95380112321018}]
["HD 48977 ","06 46 32,41522","+08 35 13,7627",6,46,32.415219999999998,101.63506341666667,1.7738664920940708,"+",8,35,13.762700000000001,8.5871563055555598,0.14987415091533676,204.72810000000001,2.8247,5.76,5.92,-0.16000000000000014,{"$f":"+VLOOKUP(W829,Data!$E$5:$F$32,2)","v":-0.24},7.9999999999999849E-2,"B2,5V","B2,5",{"$f":"+DEGREES(ACOS(SIN(Index!$H$6)*SIN(Base!N829)+COS(Index!$H$6)*COS(Base!N829)*COS(Index!$H$3-Base!H829)))","v":129.50397286661172}]
["HD 49147 ","06 46 39,01559","-10 06 26,4968",6,46,39.015590000000003,101.66256495833333,1.7743464845455286,"-",10,6,26.4968,-10.1073602222222,-0.17640671456288312,221.41540000000001,-5.6426999999999996,5.6130000000000004,5.6529999999999996,-3.9999999999999147E-2,{"$f":"+VLOOKUP(W830,Data!$E$5:$F$32,2)","v":-7.0000000000000007E-2},3.0000000000000859E-2,"B9,5V","B9,5",{"$f":"+DEGREES(ACOS(SIN(Index!$H$6)*SIN(Base!N830)+COS(Index!$H$6)*COS(Base!N830)*COS(Index!$H$3-Base!H830)))","v":134.79283601587883}]
["HD 49908 ","06 51 33,04625","+21 45 40,1277",6,51,33.046250000000001,102.88769270833333,1.7957289975405786,"+",21,45,40.127699999999997,21.7611465833333,0.37980365688828066,193.38470000000001,9.7562999999999995,5.2750000000000004,5.2649999999999997,1.0000000000000675E-2,{"$f":"+VLOOKUP(W831,Data!$E$5:$F$32,2)","v":0.05},-3.9999999999999328E-2,"A2V","A2",{"$f":"+DEGREES(ACOS(SIN(Index!$H$6)*SIN(Base!N831)+COS(Index!$H$6)*COS(Base!N831)*COS(Index!$H$3-Base!H831)))","v":124.14211113096636}]
["HD 50123 ","06 50 23,34804","-31 42 21,8082",6,50,23.348040000000001,102.5972835,1.7906604006770517,"-",31,42,21.808199999999999,-31.706057833333301,-0.55337510201940565,241.6422,-14.0703,5.8310000000000004,5.7430000000000003,8.8000000000000078E-2,{"$f":"+VLOOKUP(W832,Data!$E$5:$F$32,2)","v":-0.14000000000000001},0.22800000000000009,"B6Vnpe","B6",{"$f":"+DEGREES(ACOS(SIN(Index!$H$6)*SIN(Base!N832)+COS(Index!$H$6)*COS(Base!N832)*COS(Index!$H$3-Base!H832)))","v":134.44738671820522}]
["HD 50241 ","06 48 11,45512","-61 56 29,0008",6,48,11.455120000000001,102.04772966666665,1.7810688768684286,"-",61,56,29.000800000000002,-61.9413891111111,-1.0810811832478524,271.9187,-24.099399999999999,3.48,3.3,0.18000000000000016,{"$f":"+VLOOKUP(W833,Data!$E$5:$F$32,2)","v":0.27},-8.9999999999999858E-2,"A8VnkA6","A8",{"$f":"+DEGREES(ACOS(SIN(Index!$H$6)*SIN(Base!N833)+COS(Index!$H$6)*COS(Base!N833)*COS(Index!$H$3-Base!H833)))","v":120.89067700728573}]
["HD 50445 ","06 51 42,42129","-36 13 48,9814",6,51,42.421289999999999,102.926755375,1.7964107696885208,"-",36,13,48.981400000000001,-36.230272611111097,-0.6323375459590117,246.0616,-15.5844,6.1230000000000002,5.9489999999999998,0.17400000000000038,{"$f":"+VLOOKUP(W834,Data!$E$5:$F$32,2)","v":0.08},9.4000000000000375E-2,"A3V","A3",{"$f":"+DEGREES(ACOS(SIN(Index!$H$6)*SIN(Base!N834)+COS(Index!$H$6)*COS(Base!N834)*COS(Index!$H$3-Base!H834)))","v":133.42590911197831}]
["HD 50973 ","06 57 37,10709","+45 05 38,7404",6,57,37.107089999999999,104.404612875,{"$f":"+RADIANS(G835)","v":1.8222042489388131},"+",45,5,38.740400000000001,{"$f":"VALUE(CONCATENATE(I835,+J835+K835/60+L835/3600))","v":45.0940945555556},{"$f":"+RADIANS(M835)","v":0.78704042320009426},171.5538,19.870799999999999,4.9349999999999996,4.9000000000000004,3.4999999999999254E-2,{"$f":"+VLOOKUP(W835,Data!$E$5:$F$32,2)","v":0.05},{"$f":"+S835-T835","v":-1.5000000000000749E-2},"A2Vn",{"$f":"IF(MID(V835,3,1)<>\",\",LEFT(V835,2),LEFT(V835,4))","v":"A2"},{"$f":"+DEGREES(ACOS(SIN(Index!$H$6)*SIN(Base!N835)+COS(Index!$H$6)*COS(Base!N835)*COS(Index!$H$3-Base!H835)))","v":110.24830297391836}]
["HD 51055 ","06 55 02,73837","-20 24 17,5576",6,55,2.7383700000000002,103.761409875,1.8109782388301079,"-",20,24,17.557600000000001,-20.404877111111102,-0.35613228905371758,231.62209999999999,-8.3864999999999998,5.84,5.7949999999999999,4.4999999999999929E-2,{"$f":"+VLOOKUP(W836,Data!$E$5:$F$32,2)","v":0.05},-5.0000000000000738E-3,"A2V","A2",{"$f":"+DEGREES(ACOS(SIN(Index!$H$6)*SIN(Base!N836)+COS(Index!$H$6)*COS(Base!N836)*COS(Index!$H$3-Base!H836)))","v":137.23489023252941}]
["HD 51104 ","06 56 25,83302","+09 57 23,6674",6,56,25.833020000000001,104.10763758333334,1.8170210523021593,"+",9,57,23.667400000000001,9.9565742777777793,0.17377500336659873,204.60659999999999,5.6203000000000003,5.8159999999999998,5.9050000000000002,-8.9000000000000412E-2,{"$f":"+VLOOKUP(W837,Data!$E$5:$F$32,2)","v":-0.11},2.0999999999999588E-2,"B8Vn","B8",{"$f":"+DEGREES(ACOS(SIN(Index!$H$6)*SIN(Base!N837)+COS(Index!$H$6)*COS(Base!N837)*COS(Index!$H$3-Base!H837)))","v":131.12010964889546}]
["HD 52018 ","06 58 35,89921","-25 24 50,9661",6,58,35.899209999999997,104.64958004166667,1.8264797325564279,"-",25,24,50.966099999999997,-25.414157249999999,-0.44356072063208762,236.55289999999999,-9.8214000000000006,5.4169999999999998,5.577,-0.16000000000000014,{"$f":"+VLOOKUP(W838,Data!$E$5:$F$32,2)","v":-0.24},7.9999999999999849E-2,"B2V","B2",{"$f":"+DEGREES(ACOS(SIN(Index!$H$6)*SIN(Base!N838)+COS(Index!$H$6)*COS(Base!N838)*COS(Index!$H$3-Base!H838)))","v":137.4994464510338}]
["HD 52092 ","06 58 25,09524","-34 06 42,1423",6,58,25.09524,104.6045635,1.8256940456864834,"-",34,6,42.142299999999999,-34.111706194444402,-0.5953615865659998,244.60669999999999,-13.4903,4.9089999999999998,5.0590000000000002,-0.15000000000000036,{"$f":"+VLOOKUP(W839,Data!$E$5:$F$32,2)","v":-0.2},4.9999999999999656E-2,"B3V","B3",{"$f":"+DEGREES(ACOS(SIN(Index!$H$6)*SIN(Base!N839)+COS(Index!$H$6)*COS(Base!N839)*COS(Index!$H$3-Base!H839)))","v":135.39626974298741}]
["HD 5267  ","00 54 35,22607","+19 11 18,3011",0,54,35.22607,13.646775291666668,0.23818116111939283,"+",19,11,18.301100000000002,19.1884169722222,0.33490105441083867,123.96,-43.677,5.76,5.79,-3.0000000000000249E-2,{"$f":"+VLOOKUP(W840,Data!$E$5:$F$32,2)","v":0.02},-5.0000000000000253E-2,"A1Vn","A1",{"$f":"+DEGREES(ACOS(SIN(Index!$H$6)*SIN(Base!N840)+COS(Index!$H$6)*COS(Base!N840)*COS(Index!$H$3-Base!H840)))","v":44.49342022335285}]
["HD 52913 ","07 03 17,91557","+09 08 18,0769",7,3,17.915569999999999,105.82464820833333,1.8469885410001348,"+",9,8,18.076899999999998,9.1383546944444394,0.15949437763313584,206.10400000000001,6.7693000000000003,6.0960000000000001,5.9619999999999997,0.13400000000000034,{"$f":"+VLOOKUP(W841,Data!$E$5:$F$32,2)","v":0.08},5.4000000000000339E-2,"A3Vs","A3",{"$f":"+DEGREES(ACOS(SIN(Index!$H$6)*SIN(Base!N841)+COS(Index!$H$6)*COS(Base!N841)*COS(Index!$H$3-Base!H841)))","v":133.00038259277127}]
["HD 52918 ","07 02 54,77667","-04 14 21,2377",7,2,54.776670000000003,105.728236125,1.8453058327072609,"-",4,14,21.2377,-4.2392326944444401,-7.3988568276246211E-2,218.01230000000001,0.6139,4.79,4.99,-0.20000000000000018,{"$f":"+VLOOKUP(W842,Data!$E$5:$F$32,2)","v":-0.26},5.9999999999999831E-2,"B1V","B1",{"$f":"+DEGREES(ACOS(SIN(Index!$H$6)*SIN(Base!N842)+COS(Index!$H$6)*COS(Base!N842)*COS(Index!$H$3-Base!H842)))","v":137.64695427908566}]
["HD 54239 ","06 56 34,47290","-79 25 12,6943",6,56,34.472900000000003,104.14363708333333,1.8176493621062308,"-",79,25,12.6943,-79.420192861111104,-1.3861438579952843,291.1069,-26.395800000000001,5.4969999999999999,5.4589999999999996,3.8000000000000256E-2,{"$f":"+VLOOKUP(W843,Data!$E$5:$F$32,2)","v":-7.0000000000000007E-2},0.10800000000000026,"B9,5V","B9,5",{"$f":"+DEGREES(ACOS(SIN(Index!$H$6)*SIN(Base!N843)+COS(Index!$H$6)*COS(Base!N843)*COS(Index!$H$3-Base!H843)))","v":110.15605191360601}]
["HD 54475 ","07 07 07,07808","-40 53 35,7759",7,7,7.0780799999999999,106.77949199999999,1.8636537090069447,"-",40,53,35.7759,-40.893271083333303,-0.71372222231475457,251.7243,-14.6265,5.6260000000000003,5.7809999999999997,-0.15499999999999936,{"$f":"+VLOOKUP(W844,Data!$E$5:$F$32,2)","v":-0.2},4.5000000000000651E-2,"B3V","B3",{"$f":"+DEGREES(ACOS(SIN(Index!$H$6)*SIN(Base!N844)+COS(Index!$H$6)*COS(Base!N844)*COS(Index!$H$3-Base!H844)))","v":134.42583417178105}]
["HD 5448  ","00 56 45,21211","+38 29 57,6380",0,56,45.212110000000003,14.188383791666666,0.24763401270118052,"+",38,29,57.637999999999998,38.499343888888902,0.67194031071866933,124.0736,-24.360600000000002,4,3.867,0.13300000000000001,{"$f":"+VLOOKUP(W845,Data!$E$5:$F$32,2)","v":0.15},-1.6999999999999987E-2,"A5V","A5",{"$f":"+DEGREES(ACOS(SIN(Index!$H$6)*SIN(Base!N845)+COS(Index!$H$6)*COS(Base!N845)*COS(Index!$H$3-Base!H845)))","v":48.514397508799604}]
["HD 54912 ","07 09 43,02411","-25 13 51,7293",7,9,43.02411,107.42926712500001,1.8749944243357528,"-",25,13,51.729300000000002,-25.231035916666698,-0.44036465043477951,237.50030000000001,-7.4828000000000001,5.53,5.69,-0.16000000000000014,{"$f":"+VLOOKUP(W846,Data!$E$5:$F$32,2)","v":-0.24},7.9999999999999849E-2,"B2V","B2",{"$f":"+DEGREES(ACOS(SIN(Index!$H$6)*SIN(Base!N846)+COS(Index!$H$6)*COS(Base!N846)*COS(Index!$H$3-Base!H846)))","v":140.00578982734126}]
["HD 55185 ","07 11 51,86078","-00 29 33,9708",7,11,51.860779999999998,107.96608658333334,1.884363691372442,"-",0,29,33.970799999999997,-0.49276966666666699,-8.6004531372882893E-3,215.70480000000001,4.3179999999999996,4.1399999999999997,4.1500000000000004,-1.0000000000000675E-2,{"$f":"+VLOOKUP(W847,Data!$E$5:$F$32,2)","v":0.05},-6.0000000000000678E-2,"A2V","A2",{"$f":"+DEGREES(ACOS(SIN(Index!$H$6)*SIN(Base!N847)+COS(Index!$H$6)*COS(Base!N847)*COS(Index!$H$3-Base!H847)))","v":138.73295857051923}]
["HD 55718 ","07 12 25,82296","-36 32 39,7835",7,12,25.822959999999998,108.10759566666667,1.8868334907980875,"-",36,32,39.783499999999997,-36.544384305555603,-0.63781982924608682,248.08840000000001,-11.894600000000001,5.83,5.97,-0.13999999999999968,{"$f":"+VLOOKUP(W848,Data!$E$5:$F$32,2)","v":-0.2},6.0000000000000331E-2,"B3V","B3",{"$f":"+DEGREES(ACOS(SIN(Index!$H$6)*SIN(Base!N848)+COS(Index!$H$6)*COS(Base!N848)*COS(Index!$H$3-Base!H848)))","v":137.20327322388175}]
["HD 560   ","00 10 02,20293","+11 08 44,9280",0,10,2.2029299999999998,2.5091788749999999,4.3793432890237231E-2,"+",11,8,44.927999999999997,11.145813333333299,0.19453114047935033,106.8673,-50.430100000000003,5.4729999999999999,5.5369999999999999,-6.4000000000000057E-2,{"$f":"+VLOOKUP(W849,Data!$E$5:$F$32,2)","v":-7.0000000000000007E-2},5.9999999999999498E-3,"B9Vn","B9",{"$f":"+DEGREES(ACOS(SIN(Index!$H$6)*SIN(Base!N849)+COS(Index!$H$6)*COS(Base!N849)*COS(Index!$H$3-Base!H849)))","v":34.014119641085777}]
["HD 56221 ","07 18 02,21537","+40 53 00,2231",7,18,2.2153700000000001,109.50923070833333,1.9112966371864988,"+",40,53,0.22309999999999999,40.883395305555602,0.71354985747633848,177.08240000000001,22.109000000000002,6.04,5.87,0.16999999999999993,{"$f":"+VLOOKUP(W850,Data!$E$5:$F$32,2)","v":0.15},1.9999999999999934E-2,"A5Vn","A5",{"$f":"+DEGREES(ACOS(SIN(Index!$H$6)*SIN(Base!N850)+COS(Index!$H$6)*COS(Base!N850)*COS(Index!$H$3-Base!H850)))","v":115.86930593078711}]
["HD 56342 ","07 15 21,07137","-30 41 11,2036",7,15,21.071370000000002,108.83779737499999,1.8995779148121914,"-",30,41,11.2036,-30.686445444444399,-0.53557950873916949,242.99379999999999,-8.8003999999999998,5.1879999999999997,5.3410000000000002,-0.15300000000000047,{"$f":"+VLOOKUP(W851,Data!$E$5:$F$32,2)","v":-0.2},4.6999999999999542E-2,"B3V","B3",{"$f":"+DEGREES(ACOS(SIN(Index!$H$6)*SIN(Base!N851)+COS(Index!$H$6)*COS(Base!N851)*COS(Index!$H$3-Base!H851)))","v":139.85776025620856}]
["HD 56405 ","07 16 14,55343","-15 35 08,4900",7,16,14.553430000000001,109.06063929166666,1.9034672399694796,"-",15,35,8.49,-15.585691666666699,-0.27202163578397648,229.59200000000001,-1.7141,5.5389999999999997,5.4539999999999997,8.4999999999999964E-2,{"$f":"+VLOOKUP(W852,Data!$E$5:$F$32,2)","v":0.02},6.4999999999999961E-2,"A1V","A1",{"$f":"+DEGREES(ACOS(SIN(Index!$H$6)*SIN(Base!N852)+COS(Index!$H$6)*COS(Base!N852)*COS(Index!$H$3-Base!H852)))","v":142.40178837373097}]
["HD 56456 ","07 14 38,14062","-48 16 18,9420",7,14,38.140619999999998,108.65891925,1.8964559025711476,"-",48,16,18.942,-48.2719283333333,-0.84250408570340496,259.31169999999997,-16.286999999999999,4.6669999999999998,4.7439999999999998,-7.6999999999999957E-2,{"$f":"+VLOOKUP(W853,Data!$E$5:$F$32,2)","v":-0.11},3.3000000000000043E-2,"B8,5V","B8,5",{"$f":"+DEGREES(ACOS(SIN(Index!$H$6)*SIN(Base!N853)+COS(Index!$H$6)*COS(Base!N853)*COS(Index!$H$3-Base!H853)))","v":131.84951723183818}]
["HD 56537 ","07 18 05,57977","+16 32 25,3905",7,18,5.5797699999999999,109.52324904166666,1.9115413032588073,"+",16,32,25.390499999999999,16.540386250000001,0.28868419961409797,200.91679999999999,13.227499999999999,3.6920000000000002,3.581,0.11100000000000021,{"$f":"+VLOOKUP(W854,Data!$E$5:$F$32,2)","v":0.08},3.1000000000000208E-2,"A3V","A3",{"$f":"+DEGREES(ACOS(SIN(Index!$H$6)*SIN(Base!N854)+COS(Index!$H$6)*COS(Base!N854)*COS(Index!$H$3-Base!H854)))","v":132.26344634127153}]
["HD 56733 ","07 16 31,85114","-38 19 08,1420",7,16,31.851140000000001,109.13271308333333,1.9047251649384593,"-",38,19,8.1419999999999995,-38.318928333333297,-0.66879146525240929,250.08349999999999,-11.9131,5.6609999999999996,5.7960000000000003,-0.13500000000000068,{"$f":"+VLOOKUP(W855,Data!$E$5:$F$32,2)","v":-0.18},4.4999999999999318E-2,"B4V","B4",{"$f":"+DEGREES(ACOS(SIN(Index!$H$6)*SIN(Base!N855)+COS(Index!$H$6)*COS(Base!N855)*COS(Index!$H$3-Base!H855)))","v":137.19299376031901}]
["HD 57103 ","07 22 52,06240","+55 16 53,0352",7,22,52.062399999999997,110.71692666666667,1.9323749080224437,"+",55,16,53.035200000000003,55.281398666666703,0.96484242184093727,161.96,26.365500000000001,5.71,5.78,-7.0000000000000284E-2,{"$f":"+VLOOKUP(W856,Data!$E$5:$F$32,2)","v":-0.11},3.9999999999999716E-2,"B8V","B8",{"$f":"+DEGREES(ACOS(SIN(Index!$H$6)*SIN(Base!N856)+COS(Index!$H$6)*COS(Base!N856)*COS(Index!$H$3-Base!H856)))","v":105.30497574176268}]
["HD 57150 ","07 18 18,39335","-36 44 02,2329",7,18,18.393350000000002,109.57663895833332,1.912473133092006,"-",36,44,2.2328999999999999,-36.733953583333303,-0.64112843730393532,248.77969999999999,-10.9117,4.58,4.7,-0.12000000000000011,{"$f":"+VLOOKUP(W857,Data!$E$5:$F$32,2)","v":-0.24},0.11999999999999988,"B2V+,,,","B2",{"$f":"+DEGREES(ACOS(SIN(Index!$H$6)*SIN(Base!N857)+COS(Index!$H$6)*COS(Base!N857)*COS(Index!$H$3-Base!H857)))","v":138.19870957548025}]
["HD 57240 ","07 18 33,51266","-39 12 37,0314",7,18,33.512659999999997,109.63963608333333,1.9135726403425466,"-",39,12,37.031399999999998,-39.210286500000002,-0.68434860007528364,251.07980000000001,-11.9376,5.2729999999999997,5.2489999999999997,2.4000000000000021E-2,{"$f":"+VLOOKUP(W858,Data!$E$5:$F$32,2)","v":0.02},4.0000000000000209E-3,"A1V","A1",{"$f":"+DEGREES(ACOS(SIN(Index!$H$6)*SIN(Base!N858)+COS(Index!$H$6)*COS(Base!N858)*COS(Index!$H$3-Base!H858)))","v":137.14059806172867}]
["HD 57593 ","07 20 54,91576","-26 57 49,8145",7,20,54.915759999999999,110.22881566666666,1.9238557639572416,"-",26,57,49.814500000000002,-26.9638373611111,-0.47060774092364793,240.20339999999999,-6.0278,5.8170000000000002,5.984,-0.16699999999999982,{"$f":"+VLOOKUP(W859,Data!$E$5:$F$32,2)","v":-0.24},7.3000000000000176E-2,"B2,5V","B2,5",{"$f":"+DEGREES(ACOS(SIN(Index!$H$6)*SIN(Base!N859)+COS(Index!$H$6)*COS(Base!N859)*COS(Index!$H$3-Base!H859)))","v":142.07814957765879}]
["HD 5788  ","01 00 03,37"," +44 42 40,1      ",1,0,3.37,15.014041666666666,0.26204446111495028,"+",44,42,40.1,44.711138888888897,0.78035658592759038,124.5429,-18.133700000000001,5.68,5.69,-1.0000000000000675E-2,{"$f":"+VLOOKUP(W860,Data!$E$5:$F$32,2)","v":0.05},-6.0000000000000678E-2,"A2Vn","A2",{"$f":"+DEGREES(ACOS(SIN(Index!$H$6)*SIN(Base!N860)+COS(Index!$H$6)*COS(Base!N860)*COS(Index!$H$3-Base!H860)))","v":51.357472504883077}]
["HD 58142 ","07 26 42,85187","+49 12 41,4907",7,26,42.851869999999998,111.67854945833334,1.9491583918992466,"+",49,12,41.490699999999997,49.211525194444398,0.85890314457119743,168.71369999999999,25.7455,4.6120000000000001,4.6139999999999999,-1.9999999999997797E-3,{"$f":"+VLOOKUP(W861,Data!$E$5:$F$32,2)","v":0.02},-2.199999999999978E-2,"A1V","A1",{"$f":"+DEGREES(ACOS(SIN(Index!$H$6)*SIN(Base!N861)+COS(Index!$H$6)*COS(Base!N861)*COS(Index!$H$3-Base!H861)))","v":110.46969636736246}]
["HD 58343 ","07 24 40,18741","-16 12 05,3014",7,24,40.18741,111.16744754166666,1.9402379806401595,"-",16,12,5.3014000000000001,-16.2014726111111,-0.28276904073557152,231.0872,-0.21410000000000001,5.16,5.2,-4.0000000000000036E-2,{"$f":"+VLOOKUP(W862,Data!$E$5:$F$32,2)","v":-0.24},0.19999999999999996,"B2Vne","B2",{"$f":"+DEGREES(ACOS(SIN(Index!$H$6)*SIN(Base!N862)+COS(Index!$H$6)*COS(Base!N862)*COS(Index!$H$3-Base!H862)))","v":144.42650324206258}]
["HD 58715 ","07 27 09,04174","+08 17 21,5368",7,27,9.0417400000000008,111.78767391666666,1.9510629729916185,"+",8,17,21.536799999999999,8.2893157777777802,0.14467585305973688,209.51990000000001,11.6785,2.8140000000000001,2.8860000000000001,-7.2000000000000064E-2,{"$f":"+VLOOKUP(W863,Data!$E$5:$F$32,2)","v":-0.11},3.7999999999999937E-2,"B8Ve","B8",{"$f":"+DEGREES(ACOS(SIN(Index!$H$6)*SIN(Base!N863)+COS(Index!$H$6)*COS(Base!N863)*COS(Index!$H$3-Base!H863)))","v":138.58911107896702}]
["HD 59037 ","07 29 20,44174","+28 07 05,7945",7,29,20.441739999999999,112.33517391666666,1.9606186506462875,"+",28,7,5.7945000000000002,28.118276250000001,0.49075650054782421,190.83250000000001,20.128499999999999,5.1970000000000001,5.0720000000000001,0.125,{"$f":"+VLOOKUP(W864,Data!$E$5:$F$32,2)","v":0.12},5.0000000000000044E-3,"A4V","A4",{"$f":"+DEGREES(ACOS(SIN(Index!$H$6)*SIN(Base!N864)+COS(Index!$H$6)*COS(Base!N864)*COS(Index!$H$3-Base!H864)))","v":126.74995757034142}]
["HD 59256 ","07 27 59,16024","-29 09 21,2438",7,27,59.160240000000002,111.99650100000001,1.954707693163122,"-",29,9,21.2438,-29.155901055555599,-0.50886646980513539,242.88329999999999,-5.6660000000000004,5.4960000000000004,5.5439999999999996,-4.7999999999999154E-2,{"$f":"+VLOOKUP(W865,Data!$E$5:$F$32,2)","v":-7.0000000000000007E-2},2.2000000000000852E-2,"B9Vsp,,,","B9",{"$f":"+DEGREES(ACOS(SIN(Index!$H$6)*SIN(Base!N865)+COS(Index!$H$6)*COS(Base!N865)*COS(Index!$H$3-Base!H865)))","v":142.93901772258155}]
["HD 59499J","07 28 51,15322","-31 50 54,2526",7,28,51.153219999999997,112.21313841666668,1.9584887293669702,"-",31,50,54.252600000000001,-31.8484035,-0.55585950257868588,245.36449999999999,-6.7617000000000003,5.78,5.94,-0.16000000000000014,{"$f":"+VLOOKUP(W866,Data!$E$5:$F$32,2)","v":-0.2},3.9999999999999869E-2,"B3V+,,,","B3",{"$f":"+DEGREES(ACOS(SIN(Index!$H$6)*SIN(Base!N866)+COS(Index!$H$6)*COS(Base!N866)*COS(Index!$H$3-Base!H866)))","v":142.16546479618566}]
["HD 59550 ","07 29 04,91489","-31 27 22,3812",7,29,4.9148899999999998,112.27047870833333,1.959489506250607,"-",31,27,22.3812,-31.456216999999999,-0.54901455687181311,245.0384,-6.5351999999999997,5.5819999999999999,5.7619999999999996,-0.17999999999999972,{"$f":"+VLOOKUP(W867,Data!$E$5:$F$32,2)","v":-0.24},6.0000000000000275E-2,"B2V","B2",{"$f":"+DEGREES(ACOS(SIN(Index!$H$6)*SIN(Base!N867)+COS(Index!$H$6)*COS(Base!N867)*COS(Index!$H$3-Base!H867)))","v":142.35852365739382}]
["HD 59635 ","07 29 05,69452","-38 48 43,4362",7,29,5.6945199999999998,112.27372716666667,1.9595462025441379,"-",38,48,43.436199999999999,-38.812065611111102,-0.67739833441395381,251.63550000000001,-9.9252000000000002,5.2450000000000001,5.391,-0.14599999999999991,{"$f":"+VLOOKUP(W868,Data!$E$5:$F$32,2)","v":-0.16},1.4000000000000096E-2,"B5Vp","B5",{"$f":"+DEGREES(ACOS(SIN(Index!$H$6)*SIN(Base!N868)+COS(Index!$H$6)*COS(Base!N868)*COS(Index!$H$3-Base!H868)))","v":139.12526514525604}]
["HD 60107 ","07 33 36,48158","+15 49 35,9789",7,33,36.481580000000001,113.40200658333333,1.979238393247452,"+",15,49,35.978900000000003,15.8266608055556,0.27622734065328325,203.18600000000001,16.321300000000001,5.32,5.2690000000000001,5.1000000000000156E-2,{"$f":"+VLOOKUP(W869,Data!$E$5:$F$32,2)","v":0.02},3.1000000000000156E-2,"A1Vn","A1",{"$f":"+DEGREES(ACOS(SIN(Index!$H$6)*SIN(Base!N869)+COS(Index!$H$6)*COS(Base!N869)*COS(Index!$H$3-Base!H869)))","v":135.67856065181135}]
["HD 60178 ","07 34 36,100 "," +31 53 18,57    ",7,34,36.1,113.65041666666667,1.9835739670967723,"+",31,53,18.57,31.888491666666699,0.55655917307810798,187.44110000000001,22.4801,1.62,2.97,-1.35,{"$f":"+VLOOKUP(W870,Data!$E$5:$F$32,2)","v":0.05},-1.4000000000000001,"A2Vm","A2",{"$f":"+DEGREES(ACOS(SIN(Index!$H$6)*SIN(Base!N870)+COS(Index!$H$6)*COS(Base!N870)*COS(Index!$H$3-Base!H870)))","v":124.78892560002174}]
["HD 60179 ","07 34 35,863 ","+31 53 17,79    ",7,34,35.863,113.64942916666666,1.9835567319704086,"+",1,53,17.79,1.8882749999999999,3.2956615933095922E-2,187.441,22.479199999999999,1.62,1.93,-0.30999999999999983,{"$f":"+VLOOKUP(W871,Data!$E$5:$F$32,2)","v":0.02},-0.32999999999999985,"A1V","A1",{"$f":"+DEGREES(ACOS(SIN(Index!$H$6)*SIN(Base!N871)+COS(Index!$H$6)*COS(Base!N871)*COS(Index!$H$3-Base!H871)))","v":143.1599206024008}]
["HD 60357 ","07 34 15,89238","+03 22 18,1956",7,34,15.892379999999999,113.56621824999999,1.9821044275009727,"+",3,22,18.195599999999999,3.371721,5.8847632908635726E-2,214.8135,11.0623,5.8109999999999999,5.83,-1.9000000000000128E-2,{"$f":"+VLOOKUP(W872,Data!$E$5:$F$32,2)","v":-0.01},-9.0000000000001277E-3,"A0Vnn","A0",{"$f":"+DEGREES(ACOS(SIN(Index!$H$6)*SIN(Base!N872)+COS(Index!$H$6)*COS(Base!N872)*COS(Index!$H$3-Base!H872)))","v":142.45782267997402}]
["HD 60606 ","07 33 51,04374","-36 20 18,2110",7,33,51.04374,113.46268225,1.980297383406628,"-",36,20,18.210999999999999,-36.338391944444403,-0.63422458431073925,249.8536,-7.9481999999999999,5.32,5.41,-8.9999999999999858E-2,{"$f":"+VLOOKUP(W873,Data!$E$5:$F$32,2)","v":-0.2},0.11000000000000015,"B3Vne","B3",{"$f":"+DEGREES(ACOS(SIN(Index!$H$6)*SIN(Base!N873)+COS(Index!$H$6)*COS(Base!N873)*COS(Index!$H$3-Base!H873)))","v":141.16099950727002}]
["HD 60863 ","07 35 22,89366","-28 22 09,5735",7,35,22.893660000000001,113.84539024999999,1.9869768980803504,"-",28,22,9.5734999999999992,-28.3693259722222,-0.49513814478681878,242.96369999999999,-3.8662999999999998,4.5199999999999996,4.63,-0.11000000000000032,{"$f":"+VLOOKUP(W874,Data!$E$5:$F$32,2)","v":-0.11},-3.1918911957973251E-16,"B8V","B8",{"$f":"+DEGREES(ACOS(SIN(Index!$H$6)*SIN(Base!N874)+COS(Index!$H$6)*COS(Base!N874)*COS(Index!$H$3-Base!H874)))","v":144.72817883556013}]
["HD 6118  ","01 02 49,09645","+31 48 15,3471",1,2,49.096449999999997,15.704568541666667,0.27409642865720762,"+",31,48,15.347099999999999,31.8042630833333,0.55508910697464975,125.7529,-31.005099999999999,5.45,5.51,-5.9999999999999609E-2,{"$f":"+VLOOKUP(W875,Data!$E$5:$F$32,2)","v":-7.0000000000000007E-2},1.0000000000000397E-2,"B9,5V","B9,5",{"$f":"+DEGREES(ACOS(SIN(Index!$H$6)*SIN(Base!N875)+COS(Index!$H$6)*COS(Base!N875)*COS(Index!$H$3-Base!H875)))","v":47.880081626229391}]
["HD 61391 ","07 36 43,91969","-48 49 48,6020",7,36,43.919690000000003,114.18299870833333,1.9928692772608492,"-",48,49,48.601999999999997,-48.830167222222201,-0.85224719232719104,261.40480000000002,-13.191800000000001,5.65,5.6870000000000003,-3.6999999999999922E-2,{"$f":"+VLOOKUP(W876,Data!$E$5:$F$32,2)","v":-7.0000000000000007E-2},3.3000000000000085E-2,"B9,5V","B9,5",{"$f":"+DEGREES(ACOS(SIN(Index!$H$6)*SIN(Base!N876)+COS(Index!$H$6)*COS(Base!N876)*COS(Index!$H$3-Base!H876)))","v":134.40611172958432}]
["HD 61555 ","07 38 49,380","-26 48 06,49    ",7,38,49.38,114.70574999999999,2.0019930084694857,"-",26,48,6.49,-26.801802777777802,-0.46777970394238472,241.96350000000001,-2.4376000000000002,4.5170000000000003,4.6349999999999998,-0.11799999999999944,{"$f":"+VLOOKUP(W877,Data!$E$5:$F$32,2)","v":-0.14000000000000001},2.2000000000000575E-2,"B6V","B6",{"$f":"+DEGREES(ACOS(SIN(Index!$H$6)*SIN(Base!N877)+COS(Index!$H$6)*COS(Base!N877)*COS(Index!$H$3-Base!H877)))","v":145.95480872246139}]
["HD 6178  ","01 02 26,43280","-31 33 07,2237",1,2,26.4328,15.610136666666669,0.27244828151962597,"-",31,33,7.2237,-31.552006583333299,-0.55068640049009265,275.13670000000002,-84.968800000000002,5.5949999999999998,5.5090000000000003,8.599999999999941E-2,{"$f":"+VLOOKUP(W878,Data!$E$5:$F$32,2)","v":0.05},3.5999999999999407E-2,"A2V","A2",{"$f":"+DEGREES(ACOS(SIN(Index!$H$6)*SIN(Base!N878)+COS(Index!$H$6)*COS(Base!N878)*COS(Index!$H$3-Base!H878)))","v":63.663583293286734}]
["HD 61831 ","07 39 27,33834","-38 18 28,8786",7,39,27.338339999999999,114.86390975,2.0047534168511167,"-",38,18,28.878599999999999,-38.308021833333299,-0.66860111091754049,252.1378,-7.8978999999999999,4.6580000000000004,4.8259999999999996,-0.16799999999999926,{"$f":"+VLOOKUP(W879,Data!$E$5:$F$32,2)","v":-0.24},7.200000000000073E-2,"B2,5V","B2,5",{"$f":"+DEGREES(ACOS(SIN(Index!$H$6)*SIN(Base!N879)+COS(Index!$H$6)*COS(Base!N879)*COS(Index!$H$3-Base!H879)))","v":141.11848608101275}]
["HD 61878 ","07 39 43,81309","-38 08 21,4373",7,39,43.813090000000003,114.93255454166668,2.0059514944800458,"-",38,8,21.4373,-38.139288138888901,-0.66565615239043174,252.01410000000001,-7.7698999999999998,5.5890000000000004,5.6639999999999997,-7.4999999999999289E-2,{"$f":"+VLOOKUP(W880,Data!$E$5:$F$32,2)","v":-0.16},8.5000000000000714E-2,"B5Vn","B5",{"$f":"+DEGREES(ACOS(SIN(Index!$H$6)*SIN(Base!N880)+COS(Index!$H$6)*COS(Base!N880)*COS(Index!$H$3-Base!H880)))","v":141.25434485449622}]
["HD 61887 ","07 41 35,15484","+03 37 29,2053",7,41,35.15484,115.3964785,2.0140484950318474,"+",3,37,29.205300000000001,3.62477925,6.3264332570470663E-2,215.4308,12.8049,5.923,5.9550000000000001,-3.2000000000000028E-2,{"$f":"+VLOOKUP(W881,Data!$E$5:$F$32,2)","v":-0.01},-2.2000000000000026E-2,"A0V","A0",{"$f":"+DEGREES(ACOS(SIN(Index!$H$6)*SIN(Base!N881)+COS(Index!$H$6)*COS(Base!N881)*COS(Index!$H$3-Base!H881)))","v":143.97810812542014}]
["HD 61899 ","07 39 47,87483","-38 15 38,3497",7,39,47.874830000000003,114.94947845833335,2.0062468725482123,"-",38,15,38.349699999999999,-38.260652694444403,-0.66777436348009478,252.12809999999999,-7.8163,5.681,5.7510000000000003,-7.0000000000000284E-2,{"$f":"+VLOOKUP(W882,Data!$E$5:$F$32,2)","v":-0.24},0.16999999999999971,"B2,5V","B2,5",{"$f":"+DEGREES(ACOS(SIN(Index!$H$6)*SIN(Base!N882)+COS(Index!$H$6)*COS(Base!N882)*COS(Index!$H$3-Base!H882)))","v":141.20058062760663}]
["HD 62226 ","07 41 15,81255","-38 32 00,7166",7,41,15.81255,115.31588562500001,2.0126418840094491,"-",38,32,0.71660000000000001,-38.533532388888901,-0.67253701260998733,252.50880000000001,-7.6950000000000003,5.2969999999999997,5.41,-0.11300000000000043,{"$f":"+VLOOKUP(W883,Data!$E$5:$F$32,2)","v":-0.16},4.699999999999957E-2,"B5V","B5",{"$f":"+DEGREES(ACOS(SIN(Index!$H$6)*SIN(Base!N883)+COS(Index!$H$6)*COS(Base!N883)*COS(Index!$H$3-Base!H883)))","v":141.29408806355067}]
["HD 62578 ","07 43 11,98315","-36 03 00,3265",7,43,11.98315,115.79992979166666,2.0210900484428542,"-",36,3,0.32650000000000001,-36.0500906944444,-0.62919277826062381,250.5087,-6.1543000000000001,5.4569999999999999,5.5860000000000003,-0.12900000000000045,{"$f":"+VLOOKUP(W884,Data!$E$5:$F$32,2)","v":-0.16},3.0999999999999556E-2,"B5V","B5",{"$f":"+DEGREES(ACOS(SIN(Index!$H$6)*SIN(Base!N884)+COS(Index!$H$6)*COS(Base!N884)*COS(Index!$H$3-Base!H884)))","v":142.94011029689369}]
["HD 62832 ","07 46 16,20110","+10 46 05,7063",7,46,16.2011,116.56750458333333,2.0344867558127473,"+",10,46,5.7062999999999997,10.768251749999999,0.1879414477211413,209.327,17.000800000000002,5.2640000000000002,5.2469999999999999,1.7000000000000348E-2,{"$f":"+VLOOKUP(W885,Data!$E$5:$F$32,2)","v":0.02},-2.9999999999996523E-3,"A1Vnn","A1",{"$f":"+DEGREES(ACOS(SIN(Index!$H$6)*SIN(Base!N885)+COS(Index!$H$6)*COS(Base!N885)*COS(Index!$H$3-Base!H885)))","v":141.18964419214996}]
["HD 62893 ","07 44 34,18333","-37 56 34,5041",7,44,34.183329999999998,116.14243054166667,2.0270678142209047,"-",37,56,34.504100000000001,-37.942917805555602,-0.66222884352052691,252.30520000000001,-6.8409000000000004,5.7919999999999998,5.89,-9.7999999999999865E-2,{"$f":"+VLOOKUP(W886,Data!$E$5:$F$32,2)","v":-0.13},3.2000000000000139E-2,"B7V","B7",{"$f":"+DEGREES(ACOS(SIN(Index!$H$6)*SIN(Base!N886)+COS(Index!$H$6)*COS(Base!N886)*COS(Index!$H$3-Base!H886)))","v":142.1610274101692}]
["HD 63215 ","07 46 10,54424","-37 56 01,2078",7,46,10.54424,116.54393433333333,2.0340753773447293,"-",37,56,1.2078,-37.9336688333333,-0.66206741850282225,252.45349999999999,-6.5603999999999996,5.7759999999999998,5.87,-9.4000000000000306E-2,{"$f":"+VLOOKUP(W887,Data!$E$5:$F$32,2)","v":-0.13},3.5999999999999699E-2,"B7V","B7",{"$f":"+DEGREES(ACOS(SIN(Index!$H$6)*SIN(Base!N887)+COS(Index!$H$6)*COS(Base!N887)*COS(Index!$H$3-Base!H887)))","v":142.42950891500581}]
["HD 63786 ","07 49 14,64910","-35 14 35,8341",7,49,14.649100000000001,117.31103791666666,2.0474638605777424,"-",35,14,35.834099999999999,-35.243287250000002,-0.61511140173863799,250.416,-4.6879,5.8819999999999997,5.9329999999999998,-5.1000000000000156E-2,{"$f":"+VLOOKUP(W888,Data!$E$5:$F$32,2)","v":-7.0000000000000007E-2},1.899999999999985E-2,"B9V","B9",{"$f":"+DEGREES(ACOS(SIN(Index!$H$6)*SIN(Base!N888)+COS(Index!$H$6)*COS(Base!N888)*COS(Index!$H$3-Base!H888)))","v":144.40858122381638}]
["HD 64145 ","07 53 29,81390","+26 45 56,8252",7,53,29.8139,118.37422458333333,2.0660199684743792,"+",26,45,56.825200000000002,26.7657847777778,0.46715107125240141,194.1902,24.702200000000001,5.077,4.9770000000000003,9.9999999999999645E-2,{"$f":"+VLOOKUP(W889,Data!$E$5:$F$32,2)","v":0.08},1.9999999999999643E-2,"A3V","A3",{"$f":"+DEGREES(ACOS(SIN(Index!$H$6)*SIN(Base!N889)+COS(Index!$H$6)*COS(Base!N889)*COS(Index!$H$3-Base!H889)))","v":131.35645705721922}]
["HD 64484 ","07 49 40,99310","-66 11 45,5020",7,49,40.993099999999998,117.42080458333334,2.0493796503200152,"-",66,11,45.502000000000002,-66.195972777777797,-1.1553376765327592,278.5163,-19.079699999999999,5.7290000000000001,5.774,-4.4999999999999929E-2,{"$f":"+VLOOKUP(W890,Data!$E$5:$F$32,2)","v":-7.0000000000000007E-2},2.5000000000000078E-2,"B9V","B9",{"$f":"+DEGREES(ACOS(SIN(Index!$H$6)*SIN(Base!N890)+COS(Index!$H$6)*COS(Base!N890)*COS(Index!$H$3-Base!H890)))","v":122.67706123919866}]
["HD 64503 ","07 52 38,64663","-38 51 46,1305",7,52,38.646630000000002,118.161027625,2.0622989795962257,"-",38,51,46.130499999999998,-38.862814027777802,-0.67828406137496167,253.89940000000001,-5.9253,4.3120000000000003,4.4800000000000004,-0.16800000000000015,{"$f":"+VLOOKUP(W891,Data!$E$5:$F$32,2)","v":-0.24},7.1999999999999842E-2,"B2,5V","B2,5",{"$f":"+DEGREES(ACOS(SIN(Index!$H$6)*SIN(Base!N891)+COS(Index!$H$6)*COS(Base!N891)*COS(Index!$H$3-Base!H891)))","v":142.92329038302148}]
["HD 6456  ","01 05 40,95527","+21 28 23,4489",1,5,40.955269999999999,16.420646958333332,0.28659435473050876,"+",21,28,23.448899999999998,21.473180249999999,0.37477769623671908,127.34310000000001,-41.276499999999999,5.319,5.3170000000000002,1.9999999999997797E-3,{"$f":"+VLOOKUP(W892,Data!$E$5:$F$32,2)","v":0.02},-1.8000000000000221E-2,"A1Vn","A1",{"$f":"+DEGREES(ACOS(SIN(Index!$H$6)*SIN(Base!N892)+COS(Index!$H$6)*COS(Base!N892)*COS(Index!$H$3-Base!H892)))","v":47.171958273424913}]
["HD 6457  ","01 05 41,71098","+21 27 55,5987",1,5,41.710979999999999,16.42379575,0.28664931151255146,"+",21,27,55.598700000000001,21.465444083333299,0.37464267465690215,127.3477,-41.283999999999999,5.484,5.532,-4.8000000000000043E-2,{"$f":"+VLOOKUP(W893,Data!$E$5:$F$32,2)","v":-0.01},-3.8000000000000041E-2,"A0Vn","A0",{"$f":"+DEGREES(ACOS(SIN(Index!$H$6)*SIN(Base!N893)+COS(Index!$H$6)*COS(Base!N893)*COS(Index!$H$3-Base!H893)))","v":47.174543132941857}]
["HD 64648 ","07 55 39,89505","+19 53 02,2934",7,55,39.895049999999998,118.916229375,2.0754797366505486,"+",19,53,2.2934000000000001,19.883970388888901,0.34704075165516862,201.41739999999999,22.741499999999998,5.343,5.3780000000000001,-3.5000000000000142E-2,{"$f":"+VLOOKUP(W894,Data!$E$5:$F$32,2)","v":-0.01},-2.500000000000014E-2,"A0Vs","A0",{"$f":"+DEGREES(ACOS(SIN(Index!$H$6)*SIN(Base!N894)+COS(Index!$H$6)*COS(Base!N894)*COS(Index!$H$3-Base!H894)))","v":136.84207121554707}]
["HD 64740 ","07 53 03,63538","-49 36 46,9530",7,53,3.6353800000000001,118.26514741666666,2.0641162127772996,"-",49,36,46.953000000000003,-49.613042499999999,-0.86591094355687881,263.37990000000002,-11.1936,4.4029999999999996,4.6100000000000003,-0.20700000000000074,{"$f":"+VLOOKUP(W895,Data!$E$5:$F$32,2)","v":-0.26},5.299999999999927E-2,"B1,5Vp","B1,5",{"$f":"+DEGREES(ACOS(SIN(Index!$H$6)*SIN(Base!N895)+COS(Index!$H$6)*COS(Base!N895)*COS(Index!$H$3-Base!H895)))","v":135.79367001536693}]
["HD 64802 ","07 54 11,00933","-35 52 38,2321",7,54,11.00933,118.54587220833334,2.0690157846838582,"-",35,52,38.232100000000003,-35.8772866944444,-0.62617677950000761,251.47489999999999,-4.1435000000000004,5.29,5.4619999999999997,-0.17199999999999971,{"$f":"+VLOOKUP(W896,Data!$E$5:$F$32,2)","v":-0.24},6.8000000000000282E-2,"B2V","B2",{"$f":"+DEGREES(ACOS(SIN(Index!$H$6)*SIN(Base!N896)+COS(Index!$H$6)*COS(Base!N896)*COS(Index!$H$3-Base!H896)))","v":144.90682970813268}]
["HD 6530  ","01 06 05,14842","-09 50 21,6739",1,6,5.1484199999999998,16.521451750000001,0.2883537302468791,"-",9,50,21.6739,-9.8393538611111104,-0.17172912114520572,134.9237,-72.369200000000006,5.5860000000000003,5.5780000000000003,8.0000000000000071E-3,{"$f":"+VLOOKUP(W897,Data!$E$5:$F$32,2)","v":0.02},-1.1999999999999993E-2,"A1V","A1",{"$f":"+DEGREES(ACOS(SIN(Index!$H$6)*SIN(Base!N897)+COS(Index!$H$6)*COS(Base!N897)*COS(Index!$H$3-Base!H897)))","v":53.386123199164061}]
["HD 65456 ","07 57 40,10643","-30 20 04,4523",7,57,40.106430000000003,119.41711012500001,2.0842217548979076,"-",30,20,4.4523000000000001,-30.334570083333301,-0.52943812513113675,247.10390000000001,-0.65259999999999996,4.9269999999999996,4.7889999999999997,0.1379999999999999,{"$f":"+VLOOKUP(W898,Data!$E$5:$F$32,2)","v":0.05},8.7999999999999898E-2,"A2Vv","A2",{"$f":"+DEGREES(ACOS(SIN(Index!$H$6)*SIN(Base!N898)+COS(Index!$H$6)*COS(Base!N898)*COS(Index!$H$3-Base!H898)))","v":148.39297195086172}]
["HD 65460 ","07 56 57,80089","-43 30 01,4778",7,56,57.800890000000003,119.24083704166668,{"$f":"+RADIANS(G899)","v":2.0811452092110985},"-",43,30,1.4778,{"$f":"VALUE(CONCATENATE(I899,+J899+K899/60+L899/3600))","v":-43.500410500000001},{"$f":"+RADIANS(M899)","v":-0.75922538919411275},258.34030000000001,-7.5743,5.181,5.34,-0.15899999999999981,{"$f":"+VLOOKUP(W899,Data!$E$5:$F$32,2)","v":-0.24},{"$f":"+S899-T899","v":8.1000000000000183E-2},"B2,5V",{"$f":"IF(MID(V899,3,1)<>\",\",LEFT(V899,2),LEFT(V899,4))","v":"B2,5"},{"$f":"+DEGREES(ACOS(SIN(Index!$H$6)*SIN(Base!N899)+COS(Index!$H$6)*COS(Base!N899)*COS(Index!$H$3-Base!H899)))","v":140.57090671021587}]
["HD 65810 ","07 59 52,05117","-18 23 57,2292",7,59,52.051169999999999,119.96687987499999,2.0938170471632733,"-",18,23,57.229199999999999,-18.3992303333333,-0.32112714914947987,237.16419999999999,5.9980000000000002,4.6980000000000004,4.6130000000000004,8.4999999999999964E-2,{"$f":"+VLOOKUP(W900,Data!$E$5:$F$32,2)","v":0.02},6.4999999999999961E-2,"A1V","A1",{"$f":"+DEGREES(ACOS(SIN(Index!$H$6)*SIN(Base!N900)+COS(Index!$H$6)*COS(Base!N900)*COS(Index!$H$3-Base!H900)))","v":152.6381662521751}]
["HD 65873 ","08 01 30,28833","+16 27 19,1170",8,1,30.288329999999998,120.37620137500002,2.1009610550374758,"+",16,27,19.117000000000001,16.455310277777802,0.28719934378448536,205.4272,22.709900000000001,5.9729999999999999,5.9829999999999997,-9.9999999999997868E-3,{"$f":"+VLOOKUP(W901,Data!$E$5:$F$32,2)","v":-7.0000000000000007E-2},6.000000000000022E-2,"B9,5Vn","B9,5",{"$f":"+DEGREES(ACOS(SIN(Index!$H$6)*SIN(Base!N901)+COS(Index!$H$6)*COS(Base!N901)*COS(Index!$H$3-Base!H901)))","v":140.27146463585723}]
["HD 65900 ","08 01 13,89137","+04 52 47,3631",8,1,13.89137,120.30788070833334,2.0997686344569848,"+",4,52,47.363100000000003,4.8798230833333296,8.5168979718988236E-2,216.57509999999999,17.739000000000001,5.6580000000000004,5.6459999999999999,1.2000000000000455E-2,{"$f":"+VLOOKUP(W902,Data!$E$5:$F$32,2)","v":0.02},-7.9999999999995457E-3,"A1V","A1",{"$f":"+DEGREES(ACOS(SIN(Index!$H$6)*SIN(Base!N902)+COS(Index!$H$6)*COS(Base!N902)*COS(Index!$H$3-Base!H902)))","v":147.58845494326894}]
["HD 65904 ","07 59 01,80209","-45 12 57,0404",7,59,1.80209,119.75750870833333,2.0901628309461984,"-",45,12,57.040399999999998,-45.215844555555599,-0.78916536156439732,260.02069999999998,-8.1294000000000004,5.83,5.9619999999999997,-0.13199999999999967,{"$f":"+VLOOKUP(W903,Data!$E$5:$F$32,2)","v":-0.18},4.800000000000032E-2,"B4V","B4",{"$f":"+DEGREES(ACOS(SIN(Index!$H$6)*SIN(Base!N903)+COS(Index!$H$6)*COS(Base!N903)*COS(Index!$H$3-Base!H903)))","v":139.64770696373097}]
["HD 66441 ","08 00 49,93851","-54 09 04,5890",8,0,49.938510000000001,120.20807712499999,2.0980267333225289,"-",54,9,4.5890000000000004,-54.151274722222198,-0.94511803805475514,268.02210000000002,-12.367699999999999,5.718,5.84,-0.12199999999999989,{"$f":"+VLOOKUP(W904,Data!$E$5:$F$32,2)","v":-0.16},3.8000000000000117E-2,"B5Vn","B5",{"$f":"+DEGREES(ACOS(SIN(Index!$H$6)*SIN(Base!N904)+COS(Index!$H$6)*COS(Base!N904)*COS(Index!$H$3-Base!H904)))","v":133.14568522686642}]
["HD 66591 ","08 00 19,96678","-63 34 02,8421",8,0,19.96678,120.08319491666666,2.0958471276099511,"-",63,34,2.8420999999999998,-63.5674561388889,-1.1094614067406932,276.54599999999999,-16.918199999999999,4.6479999999999997,4.7969999999999997,-0.14900000000000002,{"$f":"+VLOOKUP(W905,Data!$E$5:$F$32,2)","v":-0.2},5.099999999999999E-2,"B3V","B3",{"$f":"+DEGREES(ACOS(SIN(Index!$H$6)*SIN(Base!N905)+COS(Index!$H$6)*COS(Base!N905)*COS(Index!$H$3-Base!H905)))","v":125.47965564386629}]
["HD 66664 ","08 05 04,48834","+13 07 05,5757",8,5,4.48834,121.26870141666669,2.1165381193387458,"+",13,7,5.5757000000000003,13.1182154722222,0.22895605197634014,209.10890000000001,22.161300000000001,5.1619999999999999,5.1459999999999999,1.6000000000000014E-2,{"$f":"+VLOOKUP(W906,Data!$E$5:$F$32,2)","v":0.02},-3.9999999999999862E-3,"A1V","A1",{"$f":"+DEGREES(ACOS(SIN(Index!$H$6)*SIN(Base!N906)+COS(Index!$H$6)*COS(Base!N906)*COS(Index!$H$3-Base!H906)))","v":143.22313280704645}]
["HD 6676  ","01 08 33,46669","+58 15 48,4130",1,8,33.46669,17.139444541666666,0.29913973921505377,"+",58,15,48.412999999999997,58.2634480555556,1.0168890021341332,125.1888,-4.5332999999999997,5.7539999999999996,5.7729999999999997,-1.9000000000000128E-2,{"$f":"+VLOOKUP(W907,Data!$E$5:$F$32,2)","v":-0.11},9.0999999999999873E-2,"B8V","B8",{"$f":"+DEGREES(ACOS(SIN(Index!$H$6)*SIN(Base!N907)+COS(Index!$H$6)*COS(Base!N907)*COS(Index!$H$3-Base!H907)))","v":58.66352036601517}]
["HD 6695  ","01 07 57,16387","+20 44 20,8310",1,7,57.163870000000003,16.988182791666667,0.29649972364522525,"+",20,44,20.831,20.739119722222199,0.36196592311806919,128.1275,-41.966000000000001,5.6829999999999998,5.569,0.11399999999999988,{"$f":"+VLOOKUP(W908,Data!$E$5:$F$32,2)","v":0.08},3.3999999999999878E-2,"A3V","A3",{"$f":"+DEGREES(ACOS(SIN(Index!$H$6)*SIN(Base!N908)+COS(Index!$H$6)*COS(Base!N908)*COS(Index!$H$3-Base!H908)))","v":47.674263455713245}]
["HD 67006 ","08 08 27,44632","+51 30 24,0055",8,8,27.44632,122.11435966666666,2.1312976401478982,"+",51,30,24.005500000000001,51.506668194444401,0.89896094672529769,167.19200000000001,32.6541,4.8330000000000002,4.8019999999999996,3.1000000000000583E-2,{"$f":"+VLOOKUP(W909,Data!$E$5:$F$32,2)","v":0.05},-1.899999999999942E-2,"A2V","A2",{"$f":"+DEGREES(ACOS(SIN(Index!$H$6)*SIN(Base!N909)+COS(Index!$H$6)*COS(Base!N909)*COS(Index!$H$3-Base!H909)))","v":112.11519083563127}]
["HD 67797 ","08 09 01,63741","-19 14 42,0521",8,9,1.63741,122.25682254166666,2.1337840863785056,"-",19,14,42.052100000000003,-19.245014472222199,-0.33588886713423616,239.035,7.3982999999999999,4.2469999999999999,4.3899999999999997,-0.14299999999999979,{"$f":"+VLOOKUP(W910,Data!$E$5:$F$32,2)","v":-0.16},1.7000000000000209E-2,"B5V","B5",{"$f":"+DEGREES(ACOS(SIN(Index!$H$6)*SIN(Base!N910)+COS(Index!$H$6)*COS(Base!N910)*COS(Index!$H$3-Base!H910)))","v":154.63230681563596}]
["HD 67880 ","08 09 28,53523","-16 14 56,1062",8,9,28.535229999999999,122.36889679166667,2.1357401510477092,"-",16,14,56.106200000000001,-16.248918388888899,-0.28359712577396368,236.52500000000001,9.0769000000000002,5.4939999999999998,5.6449999999999996,-0.1509999999999998,{"$f":"+VLOOKUP(W911,Data!$E$5:$F$32,2)","v":-0.18},2.9000000000000192E-2,"B4V","B4",{"$f":"+DEGREES(ACOS(SIN(Index!$H$6)*SIN(Base!N911)+COS(Index!$H$6)*COS(Base!N911)*COS(Index!$H$3-Base!H911)))","v":155.16437861231469}]
["HD 6798  ","01 12 16,81860","+79 40 26,2655",1,12,16.8186,18.0700775,0.31538234846554564,"+",79,40,26.265499999999999,79.673962638888895,1.3905729761595611,123.90649999999999,16.841699999999999,5.62,5.6,2.0000000000000462E-2,{"$f":"+VLOOKUP(W912,Data!$E$5:$F$32,2)","v":0.08},-5.999999999999954E-2,"A3V","A3",{"$f":"+DEGREES(ACOS(SIN(Index!$H$6)*SIN(Base!N912)+COS(Index!$H$6)*COS(Base!N912)*COS(Index!$H$3-Base!H912)))","v":70.928906555659921}]
["HD 6811  ","01 09 30,12562","+47 14 30,4594",1,9,30.125620000000001,17.375523416666663,0.30326009287820782,"+",47,14,30.459399999999999,47.241794277777799,0.82452485469703929,126.1122,-15.5184,4.1970000000000001,4.2519999999999998,-5.4999999999999716E-2,{"$f":"+VLOOKUP(W913,Data!$E$5:$F$32,2)","v":-0.13},7.5000000000000289E-2,"B7Ve","B7",{"$f":"+DEGREES(ACOS(SIN(Index!$H$6)*SIN(Base!N913)+COS(Index!$H$6)*COS(Base!N913)*COS(Index!$H$3-Base!H913)))","v":53.863812471358735}]
["HD 6829  ","01 10 39,32311","+68 46 43,0375",1,10,39.32311,17.663846291666669,0.308292276355774,"+",68,46,43.037500000000001,68.778621527777801,1.2004134006427751,124.67870000000001,5.9721000000000002,5.3029999999999999,5.3179999999999996,-1.499999999999968E-2,{"$f":"+VLOOKUP(W914,Data!$E$5:$F$32,2)","v":-0.01},-4.99999999999968E-3,"A0Vnn","A0",{"$f":"+DEGREES(ACOS(SIN(Index!$H$6)*SIN(Base!N914)+COS(Index!$H$6)*COS(Base!N914)*COS(Index!$H$3-Base!H914)))","v":64.453237211504387}]
["HD 68657 ","08 11 10,78997","-48 27 43,1740",8,11,10.78997,122.79495820833334,2.1431763255842537,"-",48,27,43.173999999999999,-48.461992777777802,-0.84582133604993537,263.91210000000001,-8.0528999999999993,5.6660000000000004,5.8049999999999997,-0.13899999999999935,{"$f":"+VLOOKUP(W915,Data!$E$5:$F$32,2)","v":-0.2},6.1000000000000665E-2,"B3V","B3",{"$f":"+DEGREES(ACOS(SIN(Index!$H$6)*SIN(Base!N915)+COS(Index!$H$6)*COS(Base!N915)*COS(Index!$H$3-Base!H915)))","v":138.61122986967467}]
["HD 6960  ","01 11 25,57111","+64 12 09,6359",1,11,25.571110000000001,17.856546291666668,0.31165552582436706,"+",64,12,9.6358999999999995,64.202676638888903,1.1205480959418579,125.105,1.4153,5.4989999999999997,5.55,-5.1000000000000156E-2,{"$f":"+VLOOKUP(W916,Data!$E$5:$F$32,2)","v":-7.0000000000000007E-2},1.899999999999985E-2,"B9,5V","B9,5",{"$f":"+DEGREES(ACOS(SIN(Index!$H$6)*SIN(Base!N916)+COS(Index!$H$6)*COS(Base!N916)*COS(Index!$H$3-Base!H916)))","v":62.017191968799942}]
["HD 6961  ","01 11 06,16225","+55 08 59,6472",1,11,6.1622500000000002,17.775676041666667,0.3102440736949561,"+",55,8,59.647199999999998,55.149901999999997,0.96254737205220575,125.76390000000001,-7.6136999999999997,4.51,4.33,0.17999999999999972,{"$f":"+VLOOKUP(W917,Data!$E$5:$F$32,2)","v":0.2},-2.0000000000000295E-2,"A7V","A7",{"$f":"+DEGREES(ACOS(SIN(Index!$H$6)*SIN(Base!N917)+COS(Index!$H$6)*COS(Base!N917)*COS(Index!$H$3-Base!H917)))","v":57.474563985235022}]
["HD 69863 ","08 15 15,91971","-62 54 56,3208",8,15,15.91971,123.81633212499999,2.1610026633240769,"-",62,54,56.320799999999998,-62.915644666666701,-1.0980851504481441,276.7989,-15.132300000000001,5.25,5.16,8.9999999999999858E-2,{"$f":"+VLOOKUP(W918,Data!$E$5:$F$32,2)","v":0.05},3.9999999999999855E-2,"A2V","A2",{"$f":"+DEGREES(ACOS(SIN(Index!$H$6)*SIN(Base!N918)+COS(Index!$H$6)*COS(Base!N918)*COS(Index!$H$3-Base!H918)))","v":126.91813804894539}]
["HD 70011 ","08 20 32,13630","+24 01 20,3198",8,20,32.136299999999999,125.13390125000002,2.1839985826779484,"+",24,1,20.319800000000001,24.022311055555601,0.41926842185767971,199.3347,29.587599999999998,5.87,5.93,-5.9999999999999609E-2,{"$f":"+VLOOKUP(W919,Data!$E$5:$F$32,2)","v":-7.0000000000000007E-2},1.0000000000000397E-2,"B9,5V","B9,5",{"$f":"+DEGREES(ACOS(SIN(Index!$H$6)*SIN(Base!N919)+COS(Index!$H$6)*COS(Base!N919)*COS(Index!$H$3-Base!H919)))","v":137.20005000133938}]
["HD 70060 ","08 18 33,31299","-36 39 33,4391",8,18,33.312989999999999,124.63880412500001,2.1753575077295402,"-",36,39,33.439100000000003,-36.659288638888903,-0.6398252881875619,254.77629999999999,-0.42109999999999997,4.68,4.4000000000000004,0.27999999999999936,{"$f":"+VLOOKUP(W920,Data!$E$5:$F$32,2)","v":0.27},9.9999999999993427E-3,"A8V","A8",{"$f":"+DEGREES(ACOS(SIN(Index!$H$6)*SIN(Base!N920)+COS(Index!$H$6)*COS(Base!N920)*COS(Index!$H$3-Base!H920)))","v":148.25934385393828}]
["HD 70313 ","08 23 48,50272","+53 13 10,9614",8,23,48.502719999999997,125.95209466666665,2.1982787517169231,"+",53,13,10.961399999999999,53.219711500000003,0.92885919263649019,165.2107,35.045000000000002,5.66,5.54,0.12000000000000011,{"$f":"+VLOOKUP(W921,Data!$E$5:$F$32,2)","v":0.08},4.0000000000000105E-2,"A3V","A3",{"$f":"+DEGREES(ACOS(SIN(Index!$H$6)*SIN(Base!N921)+COS(Index!$H$6)*COS(Base!N921)*COS(Index!$H$3-Base!H921)))","v":111.55504438581643}]
["HD 70442 ","08 21 21,22350","-20 04 44,5963",8,21,21.223500000000001,125.33843124999999,2.1875683045970518,"-",20,4,44.596299999999999,-20.079054527777799,-0.35044561219719783,241.33420000000001,9.3841000000000001,6.3310000000000004,5.5819999999999999,0.74900000000000055,{"$f":"+VLOOKUP(W922,Data!$E$5:$F$32,2)","v":0.08},0.66900000000000059,"A3V","A3",{"$f":"+DEGREES(ACOS(SIN(Index!$H$6)*SIN(Base!N922)+COS(Index!$H$6)*COS(Base!N922)*COS(Index!$H$3-Base!H922)))","v":157.26106318948956}]
["HD 70569 ","08 23 21,84023","+18 19 55,9147",8,23,21.840229999999998,125.84100095833334,2.1963398007282562,"+",18,19,55.914700000000003,18.332198527777798,0.31995722343897975,205.6979,28.246500000000001,6.12,5.94,0.17999999999999972,{"$f":"+VLOOKUP(W923,Data!$E$5:$F$32,2)","v":0.3},-0.12000000000000027,"A9V","A9",{"$f":"+DEGREES(ACOS(SIN(Index!$H$6)*SIN(Base!N923)+COS(Index!$H$6)*COS(Base!N923)*COS(Index!$H$3-Base!H923)))","v":142.24139920098543}]
["HD 70930 ","08 22 31,69411","-48 29 25,3631",8,22,31.694109999999998,125.63205879166668,2.1926930719736726,"-",48,29,25.363099999999999,-48.490378638888899,-0.84631676278733781,264.9776,-6.4969999999999999,4.6529999999999996,4.8120000000000003,-0.1590000000000007,{"$f":"+VLOOKUP(W924,Data!$E$5:$F$32,2)","v":-0.26},0.10099999999999931,"B1V","B1",{"$f":"+DEGREES(ACOS(SIN(Index!$H$6)*SIN(Base!N924)+COS(Index!$H$6)*COS(Base!N924)*COS(Index!$H$3-Base!H924)))","v":139.70947388952274}]
["HD 71043 ","08 22 55,15782","-52 07 25,4270",8,22,55.157820000000001,125.72982425000001,2.1943994011163102,"-",52,7,25.427,-52.123729722222201,-0.9097307020724068,268.0453,-8.4856999999999996,5.91,5.8940000000000001,1.6000000000000014E-2,{"$f":"+VLOOKUP(W925,Data!$E$5:$F$32,2)","v":-0.01},2.6000000000000016E-2,"A0V","A0",{"$f":"+DEGREES(ACOS(SIN(Index!$H$6)*SIN(Base!N925)+COS(Index!$H$6)*COS(Base!N925)*COS(Index!$H$3-Base!H925)))","v":136.71137337688754}]
["HD 71155 ","08 25 39,63201","-03 54 23,1178",8,25,39.632010000000001,126.41513337499998,2.2063603017415212,"-",3,54,23.117799999999999,-3.9064216111111101,-6.8179919084950372E-2,227.7791,18.8919,3.88,3.9,-2.0000000000000018E-2,{"$f":"+VLOOKUP(W926,Data!$E$5:$F$32,2)","v":-0.01},-1.0000000000000018E-2,"A0V","A0",{"$f":"+DEGREES(ACOS(SIN(Index!$H$6)*SIN(Base!N926)+COS(Index!$H$6)*COS(Base!N926)*COS(Index!$H$3-Base!H926)))","v":157.17217502651707}]
["HD 71459 ","08 25 51,91033","-42 09 11,0594",8,25,51.910330000000002,126.46629304166666,2.2072532063690775,"-",42,9,11.0594,-42.153072055555597,-0.73570989719985924,260.09539999999998,-2.3954,5.27,5.42,-0.15000000000000036,{"$f":"+VLOOKUP(W927,Data!$E$5:$F$32,2)","v":-0.2},4.9999999999999656E-2,"B3V","B3",{"$f":"+DEGREES(ACOS(SIN(Index!$H$6)*SIN(Base!N927)+COS(Index!$H$6)*COS(Base!N927)*COS(Index!$H$3-Base!H927)))","v":145.15893265447826}]
["HD 71510 ","08 25 31,32575","-51 43 38,6954",8,25,31.325749999999999,126.38052395833333,2.2057562534684934,"-",51,43,38.695399999999999,-51.7274153888889,-0.9028137120828944,267.94260000000003,-7.931,5,5.1589999999999998,-0.15899999999999981,{"$f":"+VLOOKUP(W928,Data!$E$5:$F$32,2)","v":-0.24},8.1000000000000183E-2,"B2Ve","B2",{"$f":"+DEGREES(ACOS(SIN(Index!$H$6)*SIN(Base!N928)+COS(Index!$H$6)*COS(Base!N928)*COS(Index!$H$3-Base!H928)))","v":137.25995793405019}]
["HD 71555 ","08 28 37,33859","+14 12 38,9644",8,28,37.338590000000003,127.15557745833334,2.2192834889225996,"+",14,12,38.964399999999998,14.210823444444401,0.24802565852515629,210.5592,27.834700000000002,6.1379999999999999,5.9569999999999999,0.18100000000000005,{"$f":"+VLOOKUP(W929,Data!$E$5:$F$32,2)","v":0.15},3.1000000000000055E-2,"A5V","A5",{"$f":"+DEGREES(ACOS(SIN(Index!$H$6)*SIN(Base!N929)+COS(Index!$H$6)*COS(Base!N929)*COS(Index!$H$3-Base!H929)))","v":146.28395351118661}]
["HD 71801 ","08 27 59,42090","-35 06 49,5365",8,27,59.420900000000003,126.99758708333331,2.2165260366923887,"-",35,6,49.536499999999997,-35.1137601388889,-0.61285072717915268,254.6046,2.0305,5.6,5.74,-0.14000000000000057,{"$f":"+VLOOKUP(W930,Data!$E$5:$F$32,2)","v":-0.2},5.9999999999999443E-2,"B3V","B3",{"$f":"+DEGREES(ACOS(SIN(Index!$H$6)*SIN(Base!N930)+COS(Index!$H$6)*COS(Base!N930)*COS(Index!$H$3-Base!H930)))","v":150.70698157810062}]
["HD 72067 ","08 29 07,56710","-44 09 37,4914",8,29,7.5670999999999999,127.28152958333332,2.2214817682037329,"-",44,9,37.491399999999999,-44.160414277777797,-0.77074462819193634,262.07690000000002,-3.0777999999999999,5.65,5.81,-0.15999999999999925,{"$f":"+VLOOKUP(W931,Data!$E$5:$F$32,2)","v":-0.24},8.0000000000000737E-2,"B2Vne","B2",{"$f":"+DEGREES(ACOS(SIN(Index!$H$6)*SIN(Base!N931)+COS(Index!$H$6)*COS(Base!N931)*COS(Index!$H$3-Base!H931)))","v":143.90971629877566}]
["HD 72337 ","08 27 16,75574","-70 05 36,5444",8,27,16.755739999999999,126.81981558333331,2.2134233387011792,"-",70,5,36.544400000000003,-70.093484555555506,-1.2233620896902377,283.858,-17.7989,5.4930000000000003,5.5119999999999996,-1.899999999999924E-2,{"$f":"+VLOOKUP(W932,Data!$E$5:$F$32,2)","v":-0.01},-8.9999999999992395E-3,"A0V","A0",{"$f":"+DEGREES(ACOS(SIN(Index!$H$6)*SIN(Base!N932)+COS(Index!$H$6)*COS(Base!N932)*COS(Index!$H$3-Base!H932)))","v":121.0530716996968}]
["HD 72524 ","08 34 43,88482","+36 25 10,6326",8,34,43.884819999999998,128.68285341666666,2.2459394829820676,"+",36,25,10.6326,36.419620166666697,0.63564228423405988,185.96449999999999,35.6389,5.8029999999999999,5.7549999999999999,4.8000000000000043E-2,{"$f":"+VLOOKUP(W933,Data!$E$5:$F$32,2)","v":0.05},-1.9999999999999601E-3,"A2Vnn","A2",{"$f":"+DEGREES(ACOS(SIN(Index!$H$6)*SIN(Base!N933)+COS(Index!$H$6)*COS(Base!N933)*COS(Index!$H$3-Base!H933)))","v":127.75931131839896}]
["HD 72660 ","08 34 01,61816","-02 09 05,5830",8,34,1.61816,128.50674233333331,2.2428657647286467,"-",2,9,5.5830000000000002,-2.1515508333333302,-3.7551646065694375E-2,227.29249999999999,21.581399999999999,5.8049999999999997,5.7990000000000004,5.9999999999993392E-3,{"$f":"+VLOOKUP(W934,Data!$E$5:$F$32,2)","v":0.02},-1.4000000000000661E-2,"A1V","A1",{"$f":"+DEGREES(ACOS(SIN(Index!$H$6)*SIN(Base!N934)+COS(Index!$H$6)*COS(Base!N934)*COS(Index!$H$3-Base!H934)))","v":158.24983879615246}]
["HD 73072 ","08 35 28,70161","-26 50 36,5597",8,35,28.701609999999999,128.8695900416667,2.2491986519223803,"-",26,50,36.559699999999999,-26.843488805555602,-0.46850726237918516,248.82409999999999,8.1826000000000008,6.2990000000000004,5.9569999999999999,0.34200000000000053,{"$f":"+VLOOKUP(W935,Data!$E$5:$F$32,2)","v":0.02},0.32200000000000051,"A1V+,,,","A1",{"$f":"+DEGREES(ACOS(SIN(Index!$H$6)*SIN(Base!N935)+COS(Index!$H$6)*COS(Base!N935)*COS(Index!$H$3-Base!H935)))","v":157.29179817354975}]
["HD 73143 ","08 37 05,77044","+09 39 20,0863",8,37,5.7704399999999998,129.2740435,2.2562576964413741,"+",9,39,20.086300000000001,9.6555795277777801,0.16852165394788154,216.21870000000001,27.8264,6.0069999999999997,5.9240000000000004,8.2999999999999297E-2,{"$f":"+VLOOKUP(W936,Data!$E$5:$F$32,2)","v":0.08},2.9999999999992949E-3,"A3V","A3",{"$f":"+DEGREES(ACOS(SIN(Index!$H$6)*SIN(Base!N936)+COS(Index!$H$6)*COS(Base!N936)*COS(Index!$H$3-Base!H936)))","v":151.12866418336881}]
["HD 73262 ","08 37 39,36627","+05 42 13,6057",8,37,39.36627,129.41402612500002,2.2587008541432092,"+",5,42,13.605700000000001,5.7037793611111098,9.9549729658687483E-2,220.255,26.1816,4.157,4.1369999999999996,2.0000000000000462E-2,{"$f":"+VLOOKUP(W937,Data!$E$5:$F$32,2)","v":0.02},4.6143644460983069E-16,"A1Vnn","A1",{"$f":"+DEGREES(ACOS(SIN(Index!$H$6)*SIN(Base!N937)+COS(Index!$H$6)*COS(Base!N937)*COS(Index!$H$3-Base!H937)))","v":154.14777433739562}]
["HD 73390 ","08 35 15,55563","-58 13 29,0491",8,35,15.555630000000001,128.814815125,2.248242649279041,"-",58,13,29.049099999999999,-58.2247358611111,-1.0162133468804044,274.14429999999999,-10.5168,5.1159999999999997,5.2409999999999997,-0.125,{"$f":"+VLOOKUP(W938,Data!$E$5:$F$32,2)","v":-0.2},7.5000000000000011E-2,"B3V+,,,","B3",{"$f":"+DEGREES(ACOS(SIN(Index!$H$6)*SIN(Base!N938)+COS(Index!$H$6)*COS(Base!N938)*COS(Index!$H$3-Base!H938)))","v":132.20950104304185}]
["HD 73495 ","08 37 52,15248","-26 15 18,0063",8,37,52.152479999999997,129.46730200000002,2.2596306935738402,"-",26,15,18.0063,-26.255001750000002,-0.45823622565437316,248.6634,8.9617000000000004,5.2119999999999997,5.242,-3.0000000000000249E-2,{"$f":"+VLOOKUP(W939,Data!$E$5:$F$32,2)","v":-0.01},-2.0000000000000247E-2,"A0V","A0",{"$f":"+DEGREES(ACOS(SIN(Index!$H$6)*SIN(Base!N939)+COS(Index!$H$6)*COS(Base!N939)*COS(Index!$H$3-Base!H939)))","v":158.06734195191032}]
["HD 74067 ","08 40 19,17430","-40 15 49,9432",8,40,19.174299999999999,130.07989291666667,2.2703224220374834,"-",40,15,49.943199999999997,-40.263873111111103,-0.70273715539410142,260.1934,0.91320000000000001,5.19,5.2,-9.9999999999997868E-3,{"$f":"+VLOOKUP(W940,Data!$E$5:$F$32,2)","v":-7.0000000000000007E-2},6.000000000000022E-2,"B9V","B9",{"$f":"+DEGREES(ACOS(SIN(Index!$H$6)*SIN(Base!N940)+COS(Index!$H$6)*COS(Base!N940)*COS(Index!$H$3-Base!H940)))","v":148.29115599595843}]
["HD 74071 ","08 39 23,84361","-53 26 23,1632",8,39,23.843610000000002,129.84934837500001,2.2662986607128985,"-",53,26,23.1632,-53.439767555555598,-0.93269989534488695,270.58580000000001,-7.2192999999999996,5.3070000000000004,5.4370000000000003,-0.12999999999999989,{"$f":"+VLOOKUP(W941,Data!$E$5:$F$32,2)","v":-0.16},3.000000000000011E-2,"B5V","B5",{"$f":"+DEGREES(ACOS(SIN(Index!$H$6)*SIN(Base!N941)+COS(Index!$H$6)*COS(Base!N941)*COS(Index!$H$3-Base!H941)))","v":136.77494859473975}]
["HD 74196 ","08 40 17,46432","-53 00 55,4317",8,40,17.464320000000001,130.07276799999997,2.2701980687827192,"-",53,0,55.431699999999999,-53.015397694444403,-0.92529324402226554,270.32560000000001,-6.8569000000000004,5.4279999999999999,5.5439999999999996,-0.11599999999999966,{"$f":"+VLOOKUP(W942,Data!$E$5:$F$32,2)","v":-0.13},1.4000000000000346E-2,"B7Vn","B7",{"$f":"+DEGREES(ACOS(SIN(Index!$H$6)*SIN(Base!N942)+COS(Index!$H$6)*COS(Base!N942)*COS(Index!$H$3-Base!H942)))","v":137.21507939831341}]
["HD 74228 ","08 43 12,33009","+12 40 51,1457",8,43,12.33009,130.80137537500002,2.2829146664307829,"+",12,40,51.145699999999998,12.680873805555599,0.2213229999368484,213.8014,30.461099999999998,6.04,5.65,0.38999999999999968,{"$f":"+VLOOKUP(W943,Data!$E$5:$F$32,2)","v":0.08},0.30999999999999966,"A3V+,,,","A3",{"$f":"+DEGREES(ACOS(SIN(Index!$H$6)*SIN(Base!N943)+COS(Index!$H$6)*COS(Base!N943)*COS(Index!$H$3-Base!H943)))","v":149.61488221055706}]
["HD 74273 ","08 41 05,32041","-48 55 21,6471",8,41,5.3204099999999999,130.27216837500001,2.273678261856181,"-",48,55,21.647099999999998,-48.92267975,-0.85386184053625636,267.1345,-4.2723000000000004,5.6959999999999997,5.8780000000000001,-0.18200000000000038,{"$f":"+VLOOKUP(W944,Data!$E$5:$F$32,2)","v":-0.26},7.7999999999999625E-2,"B1,5V","B1,5",{"$f":"+DEGREES(ACOS(SIN(Index!$H$6)*SIN(Base!N944)+COS(Index!$H$6)*COS(Base!N944)*COS(Index!$H$3-Base!H944)))","v":140.92569092446894}]
["HD 74280 ","08 43 13,47499","+03 23 55,1867",8,43,13.47499,130.80614579166669,2.2829979259083086,"+",3,23,55.186700000000002,3.3986629722222199,5.9317859030894322E-2,223.251,26.320399999999999,4.0999999999999996,4.3,-0.20000000000000018,{"$f":"+VLOOKUP(W945,Data!$E$5:$F$32,2)","v":-0.2},0,"B3V","B3",{"$f":"+DEGREES(ACOS(SIN(Index!$H$6)*SIN(Base!N945)+COS(Index!$H$6)*COS(Base!N945)*COS(Index!$H$3-Base!H945)))","v":156.75405386672989}]
["HD 74405 ","08 39 05,16145","-70 23 12,2826",8,39,5.1614500000000003,129.77150604166667,2.2649400556987969,"-",70,23,12.2826,-70.386745166666699,-1.2284804529205389,284.68040000000002,-17.116199999999999,5.2009999999999996,5.1890000000000001,1.1999999999999567E-2,{"$f":"+VLOOKUP(W946,Data!$E$5:$F$32,2)","v":-0.01},2.1999999999999569E-2,"A0V","A0",{"$f":"+DEGREES(ACOS(SIN(Index!$H$6)*SIN(Base!N946)+COS(Index!$H$6)*COS(Base!N946)*COS(Index!$H$3-Base!H946)))","v":121.16080475225409}]
["HD 74455 ","08 42 16,19372","-48 05 56,7259",8,42,16.193719999999999,130.56747383333331,2.2788323144032083,"-",48,5,56.725900000000003,-48.099090527777797,-0.83948749692453961,266.60160000000002,-3.6135000000000002,5.2939999999999996,5.4630000000000001,-0.16900000000000048,{"$f":"+VLOOKUP(W947,Data!$E$5:$F$32,2)","v":-0.26},9.0999999999999526E-2,"B1,5Vn","B1,5",{"$f":"+DEGREES(ACOS(SIN(Index!$H$6)*SIN(Base!N947)+COS(Index!$H$6)*COS(Base!N947)*COS(Index!$H$3-Base!H947)))","v":141.74567863695509}]
["HD 74873 ","08 46 56,01869","+12 06 35,8221",8,46,56.018689999999999,131.73341120833334,2.2991817604690183,"+",12,6,35.822099999999999,12.109950583333299,0.21135850993297403,214.84360000000001,31.0548,6.0049999999999999,5.8929999999999998,0.1120000000000001,{"$f":"+VLOOKUP(W948,Data!$E$5:$F$32,2)","v":0.02},9.2000000000000096E-2,"A1V","A1",{"$f":"+DEGREES(ACOS(SIN(Index!$H$6)*SIN(Base!N948)+COS(Index!$H$6)*COS(Base!N948)*COS(Index!$H$3-Base!H948)))","v":150.59540461478969}]
["HD 74988 ","08 47 14,98657","-01 53 49,3150",8,47,14.98657,131.81244404166668,2.3005611436278652,"-",1,53,49.314999999999998,-1.8970319444444399,-3.3109453446065626E-2,228.89009999999999,24.551100000000002,5.3339999999999996,5.2789999999999999,5.4999999999999716E-2,{"$f":"+VLOOKUP(W949,Data!$E$5:$F$32,2)","v":0.08},-2.5000000000000286E-2,"A3V","A3",{"$f":"+DEGREES(ACOS(SIN(Index!$H$6)*SIN(Base!N949)+COS(Index!$H$6)*COS(Base!N949)*COS(Index!$H$3-Base!H949)))","v":160.90776247147664}]
["HD 75137 ","08 48 25,97057","+05 50 16,1283",8,48,25.970569999999999,132.10821070833333,2.305723245778847,"+",5,50,16.128299999999999,5.8378134166666698,0.10188906523793299,221.52199999999999,28.618400000000001,4.327,4.343,-1.6000000000000014E-2,{"$f":"+VLOOKUP(W950,Data!$E$5:$F$32,2)","v":-0.01},-6.000000000000014E-3,"A0Vn","A0",{"$f":"+DEGREES(ACOS(SIN(Index!$H$6)*SIN(Base!N950)+COS(Index!$H$6)*COS(Base!N950)*COS(Index!$H$3-Base!H950)))","v":155.8584250755714}]
["HD 75311 ","08 46 42,54928","-56 46 11,1922",8,46,42.549280000000003,131.67728866666667,2.2982022373323474,"-",56,46,11.1922,-56.7697756111111,-0.99081950003226471,273.89569999999998,-8.4140999999999995,4.32,4.51,-0.1899999999999995,{"$f":"+VLOOKUP(W951,Data!$E$5:$F$32,2)","v":-0.2},1.0000000000000508E-2,"B3Vne","B3",{"$f":"+DEGREES(ACOS(SIN(Index!$H$6)*SIN(Base!N951)+COS(Index!$H$6)*COS(Base!N951)*COS(Index!$H$3-Base!H951)))","v":134.16006542064457}]
["HD 75416 ","08 41 19,51346","-78 57 48,0967",8,41,19.513459999999998,130.33130608333335,2.2747104095786819,"-",78,57,48.096699999999998,-78.963360194444405,-1.3781706238312847,292.4024,-21.6511,5.3609999999999998,5.4550000000000001,-9.4000000000000306E-2,{"$f":"+VLOOKUP(W952,Data!$E$5:$F$32,2)","v":-0.11},1.5999999999999695E-2,"B8V","B8",{"$f":"+DEGREES(ACOS(SIN(Index!$H$6)*SIN(Base!N952)+COS(Index!$H$6)*COS(Base!N952)*COS(Index!$H$3-Base!H952)))","v":113.12694021781313}]
["HD 76161 ","08 52 38,60525","-48 21 32,7675",8,52,38.605249999999998,133.16085520833334,2.3240953581568564,"-",48,21,32.767499999999998,-48.359102083333298,-0.84402555466221529,267.88830000000002,-2.4298999999999999,5.7530000000000001,5.8890000000000002,-0.13600000000000012,{"$f":"+VLOOKUP(W953,Data!$E$5:$F$32,2)","v":-0.2},6.399999999999989E-2,"B3Vn","B3",{"$f":"+DEGREES(ACOS(SIN(Index!$H$6)*SIN(Base!N953)+COS(Index!$H$6)*COS(Base!N953)*COS(Index!$H$3-Base!H953)))","v":142.26150150848846}]
["HD 76644 ","08 59 12,45362","+48 02 30,5741",8,59,12.453620000000001,134.80189008333332,2.3527368198656595,"+",48,2,30.574100000000001,48.041826138888901,0.83848804479428596,171.51240000000001,40.836100000000002,3.33,3.1,0.22999999999999998,{"$f":"+VLOOKUP(W954,Data!$E$5:$F$32,2)","v":0.2},2.9999999999999971E-2,"A7V","A7",{"$f":"+DEGREES(ACOS(SIN(Index!$H$6)*SIN(Base!N954)+COS(Index!$H$6)*COS(Base!N954)*COS(Index!$H$3-Base!H954)))","v":118.24666905731416}]
["HD 76805 ","08 56 19,26300","-52 43 24,5093",8,56,19.263000000000002,134.0802625,2.3401420425632837,"-",52,43,24.5093,-52.723474805555597,-0.92019822844922228,271.6157,-4.7861000000000002,4.585,4.6989999999999998,-0.11399999999999988,{"$f":"+VLOOKUP(W955,Data!$E$5:$F$32,2)","v":-0.16},4.6000000000000124E-2,"B5V","B5",{"$f":"+DEGREES(ACOS(SIN(Index!$H$6)*SIN(Base!N955)+COS(Index!$H$6)*COS(Base!N955)*COS(Index!$H$3-Base!H955)))","v":138.43331715884747}]
["HD 77104 ","09 01 24,12955","+32 15 08,2644",9,1,24.129549999999998,135.35053979166668,2.3623125637161833,"+",32,15,8.2644000000000002,32.252295666666697,0.56290875071003343,192.3552,40.364199999999997,5.94,5.87,7.0000000000000284E-2,{"$f":"+VLOOKUP(W956,Data!$E$5:$F$32,2)","v":0.05},2.0000000000000281E-2,"A2V","A2",{"$f":"+DEGREES(ACOS(SIN(Index!$H$6)*SIN(Base!N956)+COS(Index!$H$6)*COS(Base!N956)*COS(Index!$H$3-Base!H956)))","v":133.57765609972182}]
["HD 77309 ","09 04 00,39988","+54 17 01,9811",9,4,0.39988000000000001,136.00166616666667,2.3736768628065086,"+",54,17,1.9811000000000001,54.283883638888902,0.94743250026809189,163.1979,40.864199999999997,5.76,5.74,1.9999999999999574E-2,{"$f":"+VLOOKUP(W957,Data!$E$5:$F$32,2)","v":0.05},-3.0000000000000429E-2,"A2V","A2",{"$f":"+DEGREES(ACOS(SIN(Index!$H$6)*SIN(Base!N957)+COS(Index!$H$6)*COS(Base!N957)*COS(Index!$H$3-Base!H957)))","v":112.34823364591152}]
["HD 77327 ","09 03 37,52762","+47 09 23,4890",9,3,37.527619999999999,135.90636508333336,2.3720135451216247,"+",47,9,23.489000000000001,47.156524722222201,0.82303662020088186,172.62739999999999,41.633200000000002,3.6,3.6,0,{"$f":"+VLOOKUP(W958,Data!$E$5:$F$32,2)","v":0.02},-0.02,"A1Vn","A1",{"$f":"+DEGREES(ACOS(SIN(Index!$H$6)*SIN(Base!N958)+COS(Index!$H$6)*COS(Base!N958)*COS(Index!$H$3-Base!H958)))","v":119.28433204509366}]
["HD 77475 ","09 01 20,86105","-41 51 51,3130",9,1,20.861049999999999,135.3369210416667,2.3620748716886779,"-",41,51,51.313000000000002,-41.864253611111103,-0.73066906440381452,263.94869999999997,2.9573,5.4169999999999998,5.5410000000000004,-0.12400000000000055,{"$f":"+VLOOKUP(W959,Data!$E$5:$F$32,2)","v":-0.16},3.5999999999999449E-2,"B5V","B5",{"$f":"+DEGREES(ACOS(SIN(Index!$H$6)*SIN(Base!N959)+COS(Index!$H$6)*COS(Base!N959)*COS(Index!$H$3-Base!H959)))","v":148.82407831228321}]
["HD 7804  ","01 17 47,95671","+03 36 52,0848",1,17,47.956710000000001,19.449819624999996,0.33946339137525877,"+",3,36,52.084800000000001,3.614468,6.3084367307974398E-2,135.63390000000001,-58.605600000000003,5.218,5.1449999999999996,7.3000000000000398E-2,{"$f":"+VLOOKUP(W960,Data!$E$5:$F$32,2)","v":0.08},-6.9999999999996038E-3,"A3V","A3",{"$f":"+DEGREES(ACOS(SIN(Index!$H$6)*SIN(Base!N960)+COS(Index!$H$6)*COS(Base!N960)*COS(Index!$H$3-Base!H960)))","v":51.867572054007383}]
["HD 79416 ","09 12 30,52282","-43 36 47,7371",9,12,30.522819999999999,138.12717841666665,2.410774049860481,"-",43,36,47.737099999999998,-43.613260305555599,-0.76119498986129341,266.62509999999997,3.2976000000000001,5.46,5.5620000000000003,-0.10200000000000031,{"$f":"+VLOOKUP(W961,Data!$E$5:$F$32,2)","v":-0.11},7.9999999999996879E-3,"B8Vsp,,,","B8",{"$f":"+DEGREES(ACOS(SIN(Index!$H$6)*SIN(Base!N961)+COS(Index!$H$6)*COS(Base!N961)*COS(Index!$H$3-Base!H961)))","v":147.92139646009571}]
["HD 79439 ","09 16 11,32784","+54 01 18,6878",9,16,11.32784,139.04719933333334,2.4268314440435312,"+",54,1,18.687799999999999,54.021857722222201,0.94285928529670171,163.0829,42.664700000000003,5.0069999999999997,4.8179999999999996,0.18900000000000006,{"$f":"+VLOOKUP(W962,Data!$E$5:$F$32,2)","v":0.15},3.9000000000000062E-2,"A5V","A5",{"$f":"+DEGREES(ACOS(SIN(Index!$H$6)*SIN(Base!N962)+COS(Index!$H$6)*COS(Base!N962)*COS(Index!$H$3-Base!H962)))","v":112.94049436858238}]
["HD 79469 ","09 14 21,86007","+02 18 51,3432",9,14,21.86007,138.59108362499998,{"$f":"+RADIANS(G963)","v":2.4188707231630477},"+",2,18,51.343200000000003,{"$f":"VALUE(CONCATENATE(I963,+J963+K963/60+L963/3600))","v":2.3142619999999998},{"$f":"+RADIANS(M963)","v":4.0391491653789011E-2},228.7722,32.529400000000003,3.82,3.88,-6.0000000000000053E-2,{"$f":"+VLOOKUP(W963,Data!$E$5:$F$32,2)","v":-7.0000000000000007E-2},{"$f":"+S963-T963","v":9.9999999999999534E-3},"B9,5V",{"$f":"IF(MID(V963,3,1)<>\",\",LEFT(V963,2),LEFT(V963,4))","v":"B9,5"},{"$f":"+DEGREES(ACOS(SIN(Index!$H$6)*SIN(Base!N963)+COS(Index!$H$6)*COS(Base!N963)*COS(Index!$H$3-Base!H963)))","v":162.50511527847544}]
["HD 79621 ","09 13 34,45346","-47 20 18,2597",9,13,34.45346,138.39355608333332,2.4154232171975942,"-",47,20,18.259699999999999,-47.338405472222199,-0.82621103813437846,269.45999999999998,0.87129999999999996,5.867,5.9050000000000002,-3.8000000000000256E-2,{"$f":"+VLOOKUP(W964,Data!$E$5:$F$32,2)","v":-7.0000000000000007E-2},3.1999999999999751E-2,"B9Ve","B9",{"$f":"+DEGREES(ACOS(SIN(Index!$H$6)*SIN(Base!N964)+COS(Index!$H$6)*COS(Base!N964)*COS(Index!$H$3-Base!H964)))","v":144.41012418683169}]
["HD 7964  ","01 19 27,99289","+27 15 50,6155",1,19,27.992889999999999,19.866637041666664,0.34673822767574919,"+",27,15,50.615499999999997,27.2640598611111,0.47584761203721659,130.55719999999999,-35.192300000000003,4.8,4.7519999999999998,4.8000000000000043E-2,{"$f":"+VLOOKUP(W965,Data!$E$5:$F$32,2)","v":0.08},-3.1999999999999959E-2,"A3V","A3",{"$f":"+DEGREES(ACOS(SIN(Index!$H$6)*SIN(Base!N965)+COS(Index!$H$6)*COS(Base!N965)*COS(Index!$H$3-Base!H965)))","v":50.738096486780471}]
["HD 79735 ","09 14 24,48482","-43 13 38,9716",9,14,24.484819999999999,138.60202008333334,2.419061600369472,"-",43,13,38.971600000000002,-43.227492111111097,-0.75446206471876309,266.5822,3.8132000000000001,5.1050000000000004,5.2370000000000001,-0.13199999999999967,{"$f":"+VLOOKUP(W966,Data!$E$5:$F$32,2)","v":-0.18},4.800000000000032E-2,"B4V","B4",{"$f":"+DEGREES(ACOS(SIN(Index!$H$6)*SIN(Base!N966)+COS(Index!$H$6)*COS(Base!N966)*COS(Index!$H$3-Base!H966)))","v":148.39327643839582}]
["HD 79763 ","09 17 31,17902","+46 49 02,0232",9,17,31.179020000000001,139.37991258333332,2.4326383857210421,"+",46,49,2.0232000000000001,46.817228666666701,0.8171147868924088,172.8227,44.022399999999998,6.0119999999999996,5.9530000000000003,5.8999999999999275E-2,{"$f":"+VLOOKUP(W967,Data!$E$5:$F$32,2)","v":0.02},3.8999999999999271E-2,"A1V","A1",{"$f":"+DEGREES(ACOS(SIN(Index!$H$6)*SIN(Base!N967)+COS(Index!$H$6)*COS(Base!N967)*COS(Index!$H$3-Base!H967)))","v":120.08413464965035}]
["HD 80024 ","09 18 25,90900","+35 21 50,6727",9,18,25.908999999999999,139.60795416666667,2.43661846218167,"+",35,21,50.672699999999999,35.364075749999998,0.61721955876218304,188.8081,44.278300000000002,6.11,5.94,0.16999999999999993,{"$f":"+VLOOKUP(W968,Data!$E$5:$F$32,2)","v":0.27},-0.10000000000000009,"A8V","A8",{"$f":"+DEGREES(ACOS(SIN(Index!$H$6)*SIN(Base!N968)+COS(Index!$H$6)*COS(Base!N968)*COS(Index!$H$3-Base!H968)))","v":131.39352180467239}]
["HD 80081 ","09 18 50,64384","+36 48 09,3331",9,18,50.643839999999997,139.711016,2.4384172305064782,"+",36,48,9.3331,36.802592527777797,0.64232641287958525,186.81020000000001,44.4711,3.88,3.82,6.0000000000000053E-2,{"$f":"+VLOOKUP(W969,Data!$E$5:$F$32,2)","v":0.08},-1.9999999999999948E-2,"A3V","A3",{"$f":"+DEGREES(ACOS(SIN(Index!$H$6)*SIN(Base!N969)+COS(Index!$H$6)*COS(Base!N969)*COS(Index!$H$3-Base!H969)))","v":129.99395783524665}]
["HD 80950 ","09 17 27,56922","-74 44 04,5265",9,17,27.569220000000001,139.36487174999999,2.4323758736571315,"-",74,44,4.5265000000000004,-74.734590694444407,-1.3043646727483704,290.11200000000002,-17.487300000000001,5.851,5.867,-1.6000000000000014E-2,{"$f":"+VLOOKUP(W970,Data!$E$5:$F$32,2)","v":-0.01},-6.000000000000014E-3,"A0V","A0",{"$f":"+DEGREES(ACOS(SIN(Index!$H$6)*SIN(Base!N970)+COS(Index!$H$6)*COS(Base!N970)*COS(Index!$H$3-Base!H970)))","v":117.71275575471276}]
["HD 80951 ","09 17 25,17081","-74 53 39,5506",9,17,25.170809999999999,139.354878375,2.4322014563599952,"-",74,53,39.550600000000003,-74.894319611111101,-1.3071524682548479,290.23579999999998,-17.594899999999999,5.31,5.29,1.9999999999999574E-2,{"$f":"+VLOOKUP(W971,Data!$E$5:$F$32,2)","v":0.02},-4.2674197509029455E-16,"A1V","A1",{"$f":"+DEGREES(ACOS(SIN(Index!$H$6)*SIN(Base!N971)+COS(Index!$H$6)*COS(Base!N971)*COS(Index!$H$3-Base!H971)))","v":117.55468618220171}]
["HD 81830 ","09 25 27,23396","-61 57 01,7245",9,25,27.23396,141.36347483333333,2.4672580779018087,"-",61,57,1.7244999999999999,-61.950479027777803,-1.0812398322224184,281.10840000000002,-8.1564999999999994,5.9210000000000003,5.7809999999999997,0.14000000000000057,{"$f":"+VLOOKUP(W972,Data!$E$5:$F$32,2)","v":0.12},2.0000000000000573E-2,"A4V","A4",{"$f":"+DEGREES(ACOS(SIN(Index!$H$6)*SIN(Base!N972)+COS(Index!$H$6)*COS(Base!N972)*COS(Index!$H$3-Base!H972)))","v":130.4597747050336}]
["HD 81848 ","09 26 17,95836","-53 22 44,0705",9,26,17.958359999999999,141.5748265,2.47094686036472,"-",53,22,44.070500000000003,-53.3789084722222,-0.93163770396097356,275.17570000000001,-1.944,4.9870000000000001,5.0880000000000001,-0.10099999999999998,{"$f":"+VLOOKUP(W973,Data!$E$5:$F$32,2)","v":-0.14000000000000001},3.9000000000000035E-2,"B6V","B6",{"$f":"+DEGREES(ACOS(SIN(Index!$H$6)*SIN(Base!N973)+COS(Index!$H$6)*COS(Base!N973)*COS(Index!$H$3-Base!H973)))","v":138.95034080232119}]
["HD 82406 ","09 28 30,54654","-66 42 06,7599",9,28,30.54654,142.12727725000002,2.4805889449073324,"-",66,42,6.7599,-66.701877749999994,-1.1641673840002471,284.7362,-11.3033,5.915,5.9,1.499999999999968E-2,{"$f":"+VLOOKUP(W974,Data!$E$5:$F$32,2)","v":-0.01},2.4999999999999682E-2,"A0V","A0",{"$f":"+DEGREES(ACOS(SIN(Index!$H$6)*SIN(Base!N974)+COS(Index!$H$6)*COS(Base!N974)*COS(Index!$H$3-Base!H974)))","v":125.79205289096487}]
["HD 82419 ","09 30 05,10989","-51 31 01,7896",9,30,5.10989,142.52129120833334,2.4874657857790643,"-",51,31,1.7896000000000001,-51.517163777777803,-0.89914412921138298,274.30860000000001,-0.19839999999999999,5.39,5.46,-7.0000000000000284E-2,{"$f":"+VLOOKUP(W975,Data!$E$5:$F$32,2)","v":-0.11},3.9999999999999716E-2,"B8V","B8",{"$f":"+DEGREES(ACOS(SIN(Index!$H$6)*SIN(Base!N975)+COS(Index!$H$6)*COS(Base!N975)*COS(Index!$H$3-Base!H975)))","v":140.87768992741942}]
["HD 82446 ","09 31 58,92729","-01 11 04,7899",9,31,58.927289999999999,142.99553037500002,2.495742820679312,"-",1,11,4.7899000000000003,-1.18466386111111,-2.0676284905777678E-2,235.15379999999999,34.342599999999997,4.6589999999999998,4.5549999999999997,0.10400000000000009,{"$f":"+VLOOKUP(W976,Data!$E$5:$F$32,2)","v":0.08},2.4000000000000091E-2,"A3V","A3",{"$f":"+DEGREES(ACOS(SIN(Index!$H$6)*SIN(Base!N976)+COS(Index!$H$6)*COS(Base!N976)*COS(Index!$H$3-Base!H976)))","v":167.62371626355943}]
["HD 82621 ","09 34 49,43259","+52 03 05,3165",9,34,49.432589999999998,143.705969125,2.5081423160005647,"+",52,3,5.3164999999999996,52.051476805555602,0.90846965078240549,164.83459999999999,45.8506,4.524,4.4790000000000001,4.4999999999999929E-2,{"$f":"+VLOOKUP(W977,Data!$E$5:$F$32,2)","v":0.05},-5.0000000000000738E-3,"A2V","A2",{"$f":"+DEGREES(ACOS(SIN(Index!$H$6)*SIN(Base!N977)+COS(Index!$H$6)*COS(Base!N977)*COS(Index!$H$3-Base!H977)))","v":115.22787701598041}]
["HD 82747 ","09 33 26,05151","-22 51 49,9863",9,33,26.05151,143.35854795833336,2.5020786727511117,"-",22,51,49.9863,-22.863885083333301,-0.3990500745017842,254.3751,20.8185,5.94,5.9109999999999996,2.9000000000000803E-2,{"$f":"+VLOOKUP(W978,Data!$E$5:$F$32,2)","v":-7.0000000000000007E-2},9.900000000000081E-2,"B9,5V","B9,5",{"$f":"+DEGREES(ACOS(SIN(Index!$H$6)*SIN(Base!N978)+COS(Index!$H$6)*COS(Base!N978)*COS(Index!$H$3-Base!H978)))","v":168.94017157343643}]
["HD 83446 ","09 36 49,54004","-49 21 18,0881",9,36,49.540039999999998,144.20641683333332,2.5168767762450415,"-",49,21,18.088100000000001,-49.355024472222198,-0.86140767944265395,273.63510000000002,2.1196000000000002,4.5119999999999996,4.3449999999999998,0.16699999999999982,{"$f":"+VLOOKUP(W979,Data!$E$5:$F$32,2)","v":0.2},-3.3000000000000196E-2,"A7V","A7",{"$f":"+DEGREES(ACOS(SIN(Index!$H$6)*SIN(Base!N979)+COS(Index!$H$6)*COS(Base!N979)*COS(Index!$H$3-Base!H979)))","v":143.15375561939828}]
["HD 83520 ","09 37 12,65194","-53 40 06,6340",9,37,12.65194,144.3027164166667,2.5185575210425073,"-",53,40,6.6340000000000003,-53.668509444444403,-0.9366921944432276,276.56060000000002,-1.0512999999999999,5.5919999999999996,5.4669999999999996,0.125,{"$f":"+VLOOKUP(W980,Data!$E$5:$F$32,2)","v":0.05},7.4999999999999997E-2,"A2,5V","A2,5",{"$f":"+DEGREES(ACOS(SIN(Index!$H$6)*SIN(Base!N980)+COS(Index!$H$6)*COS(Base!N980)*COS(Index!$H$3-Base!H980)))","v":138.86544911180738}]
["HD 83808 ","09 41 09,03305","+09 53 32,3102",9,41,9.0330499999999994,145.28763770833334,2.5357476404550856,"+",9,53,32.310200000000002,9.8923083888888907,0.1726533520087668,224.6002,42.055799999999998,3.9929999999999999,3.5310000000000001,0.46199999999999974,{"$f":"+VLOOKUP(W981,Data!$E$5:$F$32,2)","v":0.15},0.31199999999999972,"A5V+,,,","A5",{"$f":"+DEGREES(ACOS(SIN(Index!$H$6)*SIN(Base!N981)+COS(Index!$H$6)*COS(Base!N981)*COS(Index!$H$3-Base!H981)))","v":157.34879113208098}]
["HD 83953 ","09 41 17,00732","-23 35 29,4534",9,41,17.00732,145.32086383333333,2.5363275457340149,"-",23,35,29.453399999999998,-23.591514833333299,-0.41174960937474736,256.28519999999997,21.599599999999999,4.6319999999999997,4.7539999999999996,-0.12199999999999989,{"$f":"+VLOOKUP(W982,Data!$E$5:$F$32,2)","v":-0.16},3.8000000000000117E-2,"B5V","B5",{"$f":"+DEGREES(ACOS(SIN(Index!$H$6)*SIN(Base!N982)+COS(Index!$H$6)*COS(Base!N982)*COS(Index!$H$3-Base!H982)))","v":168.79301351678703}]
["HD 83979 ","09 33 53,37609","-80 56 28,5337",9,33,53.376089999999998,143.47240037500001,2.5040657722832971,"-",80,56,28.5337,-80.941259361111094,-1.4126914765620704,295.57429999999999,-21.043800000000001,4.9269999999999996,5.0599999999999996,-0.13300000000000001,{"$f":"+VLOOKUP(W983,Data!$E$5:$F$32,2)","v":-0.16},2.6999999999999996E-2,"B5V","B5",{"$f":"+DEGREES(ACOS(SIN(Index!$H$6)*SIN(Base!N983)+COS(Index!$H$6)*COS(Base!N983)*COS(Index!$H$3-Base!H983)))","v":111.65784353184466}]
["HD 84228 ","09 41 47,92711","-55 12 49,5370",9,41,47.927109999999999,145.44969629166667,2.5385760963153698,"-",55,12,49.536999999999999,-55.213760277777801,-0.96366190925408157,278.08330000000001,-1.7690999999999999,5.87,5.98,-0.11000000000000032,{"$f":"+VLOOKUP(W984,Data!$E$5:$F$32,2)","v":-0.18},6.9999999999999674E-2,"B4V","B4",{"$f":"+DEGREES(ACOS(SIN(Index!$H$6)*SIN(Base!N984)+COS(Index!$H$6)*COS(Base!N984)*COS(Index!$H$3-Base!H984)))","v":137.37358998200662}]
["HD 85558 ","09 52 30,43727","-08 06 18,1269",9,52,30.437270000000002,148.12682195833335,2.5853007536883519,"-",8,6,18.126899999999999,-8.1050352500000002,-0.14145955110270175,245.5651,34.169499999999999,5.1189999999999998,5.0810000000000004,3.7999999999999368E-2,{"$f":"+VLOOKUP(W985,Data!$E$5:$F$32,2)","v":0.05},-1.2000000000000635E-2,"A2V","A2",{"$f":"+DEGREES(ACOS(SIN(Index!$H$6)*SIN(Base!N985)+COS(Index!$H$6)*COS(Base!N985)*COS(Index!$H$3-Base!H985)))","v":175.46493486833151}]
["HD 85980 ","09 54 17,65483","-45 17 00,6555",9,54,17.65483,148.57356179166669,2.5930978346798295,"-",45,17,0.65549999999999997,-45.283515416666702,-0.79034644089844586,273.25439999999998,7.1374000000000004,5.6,5.71,-0.11000000000000032,{"$f":"+VLOOKUP(W986,Data!$E$5:$F$32,2)","v":-0.2},8.9999999999999691E-2,"B3V","B3",{"$f":"+DEGREES(ACOS(SIN(Index!$H$6)*SIN(Base!N986)+COS(Index!$H$6)*COS(Base!N986)*COS(Index!$H$3-Base!H986)))","v":147.33469534924475}]
["HD 86087 ","09 54 51,23170","-50 14 38,2572",9,54,51.231699999999996,148.71346541666665,2.595539613571554,"-",50,14,38.257199999999997,-50.243960333333298,-0.87692253705809375,276.43389999999999,3.3172999999999999,5.7160000000000002,5.7119999999999997,4.0000000000004476E-3,{"$f":"+VLOOKUP(W987,Data!$E$5:$F$32,2)","v":-0.01},1.4000000000000448E-2,"A0V","A0",{"$f":"+DEGREES(ACOS(SIN(Index!$H$6)*SIN(Base!N987)+COS(Index!$H$6)*COS(Base!N987)*COS(Index!$H$3-Base!H987)))","v":142.37349060836468}]
["HD 87504 ","10 05 07,46888","-13 03 52,6561",10,5,7.4688800000000004,151.28112033333335,2.6403536459224086,"-",13,3,52.656100000000002,-13.064626694444399,-0.22802075136199793,252.4607,33.055199999999999,4.5149999999999997,4.5940000000000003,-7.9000000000000625E-2,{"$f":"+VLOOKUP(W988,Data!$E$5:$F$32,2)","v":-0.11},3.0999999999999375E-2,"B8V","B8",{"$f":"+DEGREES(ACOS(SIN(Index!$H$6)*SIN(Base!N988)+COS(Index!$H$6)*COS(Base!N988)*COS(Index!$H$3-Base!H988)))","v":176.53735673468191}]
["HD 87696 ","10 07 25,76296","+35 14 40,8965",10,7,25.76296,151.85734566666667,2.650410675222477,"+",35,14,40.896500000000003,35.244693472222203,0.61513594494643009,189.4717,54.26,4.6660000000000004,4.4880000000000004,0.17799999999999994,{"$f":"+VLOOKUP(W989,Data!$E$5:$F$32,2)","v":0.2},-2.2000000000000075E-2,"A7V","A7",{"$f":"+DEGREES(ACOS(SIN(Index!$H$6)*SIN(Base!N989)+COS(Index!$H$6)*COS(Base!N989)*COS(Index!$H$3-Base!H989)))","v":131.97240832537423}]
["HD 88195 ","10 10 07,53958","-08 24 29,3955",10,10,7.5395799999999999,152.53141491666665,2.6621754030214251,"-",8,24,29.395499999999998,-8.4081654166666695,-0.14675017057315429,249.44880000000001,37.194000000000003,5.9160000000000004,5.9,1.6000000000000014E-2,{"$f":"+VLOOKUP(W990,Data!$E$5:$F$32,2)","v":0.02},-3.9999999999999862E-3,"A1V","A1",{"$f":"+DEGREES(ACOS(SIN(Index!$H$6)*SIN(Base!N990)+COS(Index!$H$6)*COS(Base!N990)*COS(Index!$H$3-Base!H990)))","v":173.69130859767947}]
["HD 88824 ","10 13 22,84376","-51 13 58,6914",10,13,22.84376,153.34518233333333,2.6763783237877075,"-",51,13,58.691400000000002,-51.2329698333333,-0.89418400916659657,279.3843,4.2659000000000002,5.52,5.2779999999999996,0.24199999999999999,{"$f":"+VLOOKUP(W991,Data!$E$5:$F$32,2)","v":0.2},4.1999999999999982E-2,"A7V","A7",{"$f":"+DEGREES(ACOS(SIN(Index!$H$6)*SIN(Base!N991)+COS(Index!$H$6)*COS(Base!N991)*COS(Index!$H$3-Base!H991)))","v":141.1268692340733}]
["HD 88960 ","10 16 14,43201","+29 18 37,8100",10,16,14.43201,154.06013337500002,2.6888565734553542,"+",29,18,37.81,29.310502777777799,0.51156477888716645,199.96469999999999,55.897399999999998,5.5090000000000003,5.49,1.9000000000000128E-2,{"$f":"+VLOOKUP(W992,Data!$E$5:$F$32,2)","v":-0.01},2.900000000000013E-2,"A0Vn","A0",{"$f":"+DEGREES(ACOS(SIN(Index!$H$6)*SIN(Base!N992)+COS(Index!$H$6)*COS(Base!N992)*COS(Index!$H$3-Base!H992)))","v":137.62495769771516}]
["HD 89343 ","10 21 03,34071","+68 44 51,5469",10,21,3.3407100000000001,155.263919625,2.7098666070080895,"+",68,44,51.546900000000001,68.747651916666698,1.1998728789608242,140.49930000000001,42.889099999999999,6.14,5.9,0.23999999999999932,{"$f":"+VLOOKUP(W993,Data!$E$5:$F$32,2)","v":0.2},3.9999999999999314E-2,"A7Vn","A7",{"$f":"+DEGREES(ACOS(SIN(Index!$H$6)*SIN(Base!N993)+COS(Index!$H$6)*COS(Base!N993)*COS(Index!$H$3-Base!H993)))","v":98.451167671344038}]
["HD 89461 ","10 18 28,24411","-41 40 06,5599",10,18,28.244109999999999,154.61768379166668,2.6985876639720536,"-",41,40,6.5598999999999998,-41.668488861111101,-0.7272523249569709,274.64510000000001,12.6509,5.9009999999999998,5.9610000000000003,-6.0000000000000497E-2,{"$f":"+VLOOKUP(W994,Data!$E$5:$F$32,2)","v":-7.0000000000000007E-2},9.9999999999995093E-3,"B9V","B9",{"$f":"+DEGREES(ACOS(SIN(Index!$H$6)*SIN(Base!N994)+COS(Index!$H$6)*COS(Base!N994)*COS(Index!$H$3-Base!H994)))","v":150.34713273726123}]
["HD 89715 ","10 19 05,07255","-64 40 34,5275",10,19,5.0725499999999997,154.771135625,2.701265903706942,"-",64,40,34.527500000000003,-64.676257638888899,-1.1288136436667451,287.5326,-6.4623999999999997,5.72,5.67,4.9999999999999822E-2,{"$f":"+VLOOKUP(W995,Data!$E$5:$F$32,2)","v":0.02},2.9999999999999822E-2,"A1V","A1",{"$f":"+DEGREES(ACOS(SIN(Index!$H$6)*SIN(Base!N995)+COS(Index!$H$6)*COS(Base!N995)*COS(Index!$H$3-Base!H995)))","v":127.72279418350963}]
["HD 89904 ","10 23 06,32893","+33 54 29,3115",10,23,6.3289299999999997,155.77637054166667,2.7188105627587857,"+",33,54,29.311499999999999,33.908142083333303,0.5918087225882156,191.68350000000001,57.525199999999998,6.04,5.9,0.13999999999999968,{"$f":"+VLOOKUP(W996,Data!$E$5:$F$32,2)","v":0.17},-3.0000000000000332E-2,"A6V","A6",{"$f":"+DEGREES(ACOS(SIN(Index!$H$6)*SIN(Base!N996)+COS(Index!$H$6)*COS(Base!N996)*COS(Index!$H$3-Base!H996)))","v":132.84443273461301}]
["HD 90132 ","10 23 29,29588","-38 00 35,4169",10,23,29.29588,155.87206616666668,2.7204807664947901,"-",38,0,35.416899999999998,-38.009838027777803,-0.66339682173447057,273.34879999999998,16.219799999999999,5.569,5.3419999999999996,0.22700000000000031,{"$f":"+VLOOKUP(W997,Data!$E$5:$F$32,2)","v":0.27},-4.2999999999999705E-2,"A8V","A8",{"$f":"+DEGREES(ACOS(SIN(Index!$H$6)*SIN(Base!N997)+COS(Index!$H$6)*COS(Base!N997)*COS(Index!$H$3-Base!H997)))","v":153.60578623327146}]
["HD 90264 ","10 22 58,14606","-66 54 05,3903",10,22,58.146059999999999,155.74227525000001,2.7182154876597751,"-",66,54,5.3902999999999999,-66.901497305555594,-1.16765140249606,289.0967,-8.1064000000000007,4.8380000000000001,4.9539999999999997,-0.11599999999999966,{"$f":"+VLOOKUP(W998,Data!$E$5:$F$32,2)","v":-0.11},-5.9999999999996584E-3,"B8V","B8",{"$f":"+DEGREES(ACOS(SIN(Index!$H$6)*SIN(Base!N998)+COS(Index!$H$6)*COS(Base!N998)*COS(Index!$H$3-Base!H998)))","v":125.46262900326595}]
["HD 90840 ","10 30 06,44845","+38 55 30,4723",10,30,6.4484500000000002,157.52686854166669,2.7493625164083619,"+",38,55,30.472300000000001,38.925131194444397,0.67937170111380785,181.9838,58.358600000000003,5.8739999999999997,5.7930000000000001,8.0999999999999517E-2,{"$f":"+VLOOKUP(W999,Data!$E$5:$F$32,2)","v":0.12},-3.9000000000000479E-2,"A4V","A4",{"$f":"+DEGREES(ACOS(SIN(Index!$H$6)*SIN(Base!N999)+COS(Index!$H$6)*COS(Base!N999)*COS(Index!$H$3-Base!H999)))","v":127.64841979111212}]
["HD 90874 ","10 27 25,28346","-65 42 16,7883",10,27,25.283460000000002,156.85534774999999,2.7376422675981793,"-",65,42,16.7883,-65.704663416666705,-1.1467627105355009,288.83249999999998,-6.8559000000000001,6.0949999999999998,5.9989999999999997,9.6000000000000085E-2,{"$f":"+VLOOKUP(W1000,Data!$E$5:$F$32,2)","v":0.05},4.6000000000000082E-2,"A2V","A2",{"$f":"+DEGREES(ACOS(SIN(Index!$H$6)*SIN(Base!N1000)+COS(Index!$H$6)*COS(Base!N1000)*COS(Index!$H$3-Base!H1000)))","v":126.5598544736136}]
["HD 90882 ","10 29 28,70222","-02 44 20,6862",10,29,28.702220000000001,157.36959258333334,2.7466175331012157,"-",2,44,20.686199999999999,-2.7390794999999999,-4.7805955748880018E-2,248.41489999999999,44.589799999999997,5.14,5.18,-4.0000000000000036E-2,{"$f":"+VLOOKUP(W1001,Data!$E$5:$F$32,2)","v":-7.0000000000000007E-2},2.9999999999999971E-2,"B9,5V","B9,5",{"$f":"+DEGREES(ACOS(SIN(Index!$H$6)*SIN(Base!N1001)+COS(Index!$H$6)*COS(Base!N1001)*COS(Index!$H$3-Base!H1001)))","v":166.28033611487777}]
["HD 90994 ","10 30 17,48015","-00 38 13,2982",10,30,17.480149999999998,157.57283395833335,2.7501647642712461,"-",0,38,13.2982,-0.63702727777777801,-1.1118223422238734E-2,246.41489999999999,46.166699999999999,4.9390000000000001,5.0599999999999996,-0.12099999999999955,{"$f":"+VLOOKUP(W1002,Data!$E$5:$F$32,2)","v":-0.14000000000000001},1.9000000000000461E-2,"B6V","B6",{"$f":"+DEGREES(ACOS(SIN(Index!$H$6)*SIN(Base!N1002)+COS(Index!$H$6)*COS(Base!N1002)*COS(Index!$H$3-Base!H1002)))","v":164.55968831796781}]
["HD 9132  ","01 29 36,13546","-21 37 45,6173",1,29,36.135460000000002,22.400564416666668,0.39096360337591629,"-",21,37,45.6173,-21.629338138888901,-0.37750316555079388,182.65299999999999,-79.721999999999994,5.1379999999999999,5.1109999999999998,2.7000000000000135E-2,{"$f":"+VLOOKUP(W1003,Data!$E$5:$F$32,2)","v":-0.01},3.7000000000000137E-2,"A0V","A0",{"$f":"+DEGREES(ACOS(SIN(Index!$H$6)*SIN(Base!N1003)+COS(Index!$H$6)*COS(Base!N1003)*COS(Index!$H$3-Base!H1003)))","v":63.61781544260031}]
["HD 91365 ","10 33 30,91125","+34 59 19,2991",10,33,30.911249999999999,158.37879687500001,2.764231470816056,"+",34,59,19.299099999999999,34.988694194444399,0.61066791466647985,189.3571,59.599299999999999,5.61,5.58,3.0000000000000249E-2,{"$f":"+VLOOKUP(W1004,Data!$E$5:$F$32,2)","v":0.05},-1.9999999999999754E-2,"A2Vn","A2",{"$f":"+DEGREES(ACOS(SIN(Index!$H$6)*SIN(Base!N1004)+COS(Index!$H$6)*COS(Base!N1004)*COS(Index!$H$3-Base!H1004)))","v":131.33213976686221}]
["HD 91375 ","10 30 20,12710","-71 59 34,0602",10,30,20.127099999999999,157.58386291666667,2.750357255907228,"-",71,59,34.060200000000002,-71.992794500000002,-1.2565113017366649,292.4128,-12.066000000000001,4.7649999999999997,4.718,4.6999999999999709E-2,{"$f":"+VLOOKUP(W1005,Data!$E$5:$F$32,2)","v":0.02},2.6999999999999708E-2,"A1V","A1",{"$f":"+DEGREES(ACOS(SIN(Index!$H$6)*SIN(Base!N1005)+COS(Index!$H$6)*COS(Base!N1005)*COS(Index!$H$3-Base!H1005)))","v":120.33859816303388}]
["HD 91465 ","10 32 01,46297","-61 41 07,1963",10,32,1.4629700000000001,158.00609570833333,2.7577266083316987,"-",61,41,7.1962999999999999,-61.685332305555598,-1.0766121489187701,287.18009999999998,-3.1539000000000001,3.27,3.3610000000000002,-9.1000000000000192E-2,{"$f":"+VLOOKUP(W1006,Data!$E$5:$F$32,2)","v":-0.18},8.8999999999999801E-2,"B4Vne","B4",{"$f":"+DEGREES(ACOS(SIN(Index!$H$6)*SIN(Base!N1006)+COS(Index!$H$6)*COS(Base!N1006)*COS(Index!$H$3-Base!H1006)))","v":130.38256517952959}]
["HD 91636 ","10 35 02,15893","+08 39 01,5434",10,35,2.1589299999999998,158.75899554166668,2.7708671893610819,"+",8,39,1.5434000000000001,8.6504287222222196,0.1509784629118637,236.29470000000001,52.8596,5.72,5.67,4.9999999999999822E-2,{"$f":"+VLOOKUP(W1007,Data!$E$5:$F$32,2)","v":0.05},-1.8041124150158794E-16,"A2V","A2",{"$f":"+DEGREES(ACOS(SIN(Index!$H$6)*SIN(Base!N1007)+COS(Index!$H$6)*COS(Base!N1007)*COS(Index!$H$3-Base!H1007)))","v":156.0805121376203}]
["HD 92728 ","10 43 43,33723","+57 11 57,1344",10,43,43.337229999999998,160.93057179166667,2.8087683448816931,"+",57,11,57.134399999999999,57.199204000000002,0.99831443931991071,150.9486,52.416200000000003,5.7510000000000003,5.7880000000000003,-3.6999999999999922E-2,{"$f":"+VLOOKUP(W1008,Data!$E$5:$F$32,2)","v":-0.01},-2.699999999999992E-2,"A0Vs","A0",{"$f":"+DEGREES(ACOS(SIN(Index!$H$6)*SIN(Base!N1008)+COS(Index!$H$6)*COS(Base!N1008)*COS(Index!$H$3-Base!H1008)))","v":109.32848013718282}]
["HD 92769 ","10 43 01,88384","+26 19 32,0891",10,43,1.88384,160.75784933333333,2.8057537692916377,"+",26,19,32.089100000000002,26.325580305555601,0.45946805383012013,207.12049999999999,61.395000000000003,5.681,5.5170000000000003,0.1639999999999997,{"$f":"+VLOOKUP(W1009,Data!$E$5:$F$32,2)","v":0.12},4.3999999999999706E-2,"A4Vn","A4",{"$f":"+DEGREES(ACOS(SIN(Index!$H$6)*SIN(Base!N1009)+COS(Index!$H$6)*COS(Base!N1009)*COS(Index!$H$3-Base!H1009)))","v":139.04870045824268}]
["HD 92825 ","10 43 24,95671","+23 11 18,2499",10,43,24.956710000000001,160.85398629166667,2.8074316757474072,"+",23,11,18.2499,23.188402750000002,0.40471397626600758,213.5196,60.842599999999997,5.1159999999999997,5.0750000000000002,4.0999999999999481E-2,{"$f":"+VLOOKUP(W1010,Data!$E$5:$F$32,2)","v":0.08},-3.900000000000052E-2,"A3Vn","A3",{"$f":"+DEGREES(ACOS(SIN(Index!$H$6)*SIN(Base!N1010)+COS(Index!$H$6)*COS(Base!N1010)*COS(Index!$H$3-Base!H1010)))","v":141.96111350194991}]
["HD 92845 ","10 42 43,18700","-32 42 56,4214",10,42,43.186999999999998,160.67994583333333,2.8043940967178105,"-",32,42,56.421399999999998,-32.715672611111103,-0.57099620406841911,273.85219999999998,22.788399999999999,5.633,5.6269999999999998,6.0000000000002274E-3,{"$f":"+VLOOKUP(W1011,Data!$E$5:$F$32,2)","v":-0.01},1.6000000000000229E-2,"A0V","A0",{"$f":"+DEGREES(ACOS(SIN(Index!$H$6)*SIN(Base!N1011)+COS(Index!$H$6)*COS(Base!N1011)*COS(Index!$H$3-Base!H1011)))","v":156.68787663207522}]
["HD 92938 ","10 42 14,12040","-64 27 59,1323",10,42,14.1204,160.55883499999999,2.8022803139163095,"-",64,27,59.132300000000001,-64.466425638888893,-1.1251513843907002,289.56349999999998,-5.0021000000000004,4.68,4.82,-0.14000000000000057,{"$f":"+VLOOKUP(W1012,Data!$E$5:$F$32,2)","v":-0.18},3.9999999999999425E-2,"B4V","B4",{"$f":"+DEGREES(ACOS(SIN(Index!$H$6)*SIN(Base!N1012)+COS(Index!$H$6)*COS(Base!N1012)*COS(Index!$H$3-Base!H1012)))","v":127.40135036024417}]
["HD 93030 ","10 42 57,40197","-64 23 40,0208",10,42,57.401969999999999,160.73917487499997,2.8054278385076943,"-",64,23,40.020800000000001,-64.394450222222204,-1.1238951763893716,289.59780000000001,-4.9016999999999999,2.54,2.78,-0.23999999999999977,{"$f":"+VLOOKUP(W1013,Data!$E$5:$F$32,2)","v":-0.3},6.000000000000022E-2,"B0Vp","B0",{"$f":"+DEGREES(ACOS(SIN(Index!$H$6)*SIN(Base!N1013)+COS(Index!$H$6)*COS(Base!N1013)*COS(Index!$H$3-Base!H1013)))","v":127.44923138061131}]
["HD 93152 ","10 45 51,89469","+30 40 56,3266",10,45,51.894689999999997,161.46622787499999,2.8181173071941967,"+",30,40,56.326599999999999,30.682312944444401,0.53550738300783085,198.0085,62.378799999999998,5.3019999999999996,5.3490000000000002,-4.7000000000000597E-2,{"$f":"+VLOOKUP(W1014,Data!$E$5:$F$32,2)","v":0.02},-6.7000000000000601E-2,"A1Vn","A1",{"$f":"+DEGREES(ACOS(SIN(Index!$H$6)*SIN(Base!N1014)+COS(Index!$H$6)*COS(Base!N1014)*COS(Index!$H$3-Base!H1014)))","v":134.73058144598377}]
["HD 93163 ","10 43 51,19315","-64 14 56,5480",10,43,51.193150000000003,160.96330479166667,2.8093396435057487,"-",64,14,56.548000000000002,-64.249041111111097,-1.1213573086380846,289.6146,-4.7276999999999996,5.7359999999999998,5.7539999999999996,-1.7999999999999794E-2,{"$f":"+VLOOKUP(W1015,Data!$E$5:$F$32,2)","v":-0.24},0.2220000000000002,"B2,5V","B2,5",{"$f":"+DEGREES(ACOS(SIN(Index!$H$6)*SIN(Base!N1015)+COS(Index!$H$6)*COS(Base!N1015)*COS(Index!$H$3-Base!H1015)))","v":127.56181786018732}]
["HD 93194 ","10 44 06,91549","-63 57 39,8535",10,44,6.9154900000000001,161.02881454166666,2.8104830043354068,"-",63,57,39.853499999999997,-63.961070416666701,-1.1163312718707754,289.50369999999998,-4.4602000000000004,4.6589999999999998,4.7859999999999996,-0.12699999999999978,{"$f":"+VLOOKUP(W1016,Data!$E$5:$F$32,2)","v":-0.16},3.3000000000000224E-2,"B5Vn","B5",{"$f":"+DEGREES(ACOS(SIN(Index!$H$6)*SIN(Base!N1016)+COS(Index!$H$6)*COS(Base!N1016)*COS(Index!$H$3-Base!H1016)))","v":127.82998724213986}]
["HD 93397 ","10 46 52,05473","-17 17 48,7464",10,46,52.054729999999999,161.71689470833337,2.8224922687614122,"-",17,17,48.746400000000001,-17.296873999999999,-0.30188740160260163,265.16039999999998,36.277999999999999,5.53,5.44,8.9999999999999858E-2,{"$f":"+VLOOKUP(W1017,Data!$E$5:$F$32,2)","v":0.08},9.9999999999998562E-3,"A3V","A3",{"$f":"+DEGREES(ACOS(SIN(Index!$H$6)*SIN(Base!N1017)+COS(Index!$H$6)*COS(Base!N1017)*COS(Index!$H$3-Base!H1017)))","v":165.73478630523292}]
["HD 93540 ","10 46 16,55763","-64 30 52,4153",10,46,16.55763,161.56899012500003,2.8199108468034551,"-",64,30,52.415300000000002,-64.514559805555507,-1.1259914840817362,289.97149999999999,-4.8398000000000003,5.23,5.327,-9.6999999999999531E-2,{"$f":"+VLOOKUP(W1018,Data!$E$5:$F$32,2)","v":-0.14000000000000001},4.3000000000000482E-2,"B6V","B6",{"$f":"+DEGREES(ACOS(SIN(Index!$H$6)*SIN(Base!N1018)+COS(Index!$H$6)*COS(Base!N1018)*COS(Index!$H$3-Base!H1018)))","v":127.23233137072029}]
["HD 93657 ","10 48 14,11123","-31 41 16,2537",10,48,14.111230000000001,162.05879679166668,2.8284595858350068,"-",31,41,16.253699999999998,-31.687848249999998,-0.55305728483482319,274.38069999999999,24.265799999999999,5.8979999999999997,5.8719999999999999,2.5999999999999801E-2,{"$f":"+VLOOKUP(W1019,Data!$E$5:$F$32,2)","v":0.02},5.9999999999998006E-3,"A1V","A1",{"$f":"+DEGREES(ACOS(SIN(Index!$H$6)*SIN(Base!N1019)+COS(Index!$H$6)*COS(Base!N1019)*COS(Index!$H$3-Base!H1019)))","v":156.84355336158092}]
["HD 93702 ","10 49 15,43057","+10 32 42,7270",10,49,15.430569999999999,162.31429404166667,2.8329188540772976,"+",10,32,42.726999999999997,10.545201944444401,0.18404849421826294,237.00309999999999,56.823399999999999,5.3479999999999999,5.3140000000000001,3.3999999999999808E-2,{"$f":"+VLOOKUP(W1020,Data!$E$5:$F$32,2)","v":0.05},-1.6000000000000195E-2,"A2V","A2",{"$f":"+DEGREES(ACOS(SIN(Index!$H$6)*SIN(Base!N1020)+COS(Index!$H$6)*COS(Base!N1020)*COS(Index!$H$3-Base!H1020)))","v":152.6907704335087}]
["HD 93905 ","10 49 57,01736","-34 03 29,4547",10,49,57.017359999999996,162.4875723333333,2.8359431307891114,"-",34,3,29.454699999999999,-34.058181861111102,-0.59442741071939886,275.995,22.381499999999999,5.6429999999999998,5.6050000000000004,3.7999999999999368E-2,{"$f":"+VLOOKUP(W1021,Data!$E$5:$F$32,2)","v":0.02},1.7999999999999367E-2,"A1V","A1",{"$f":"+DEGREES(ACOS(SIN(Index!$H$6)*SIN(Base!N1021)+COS(Index!$H$6)*COS(Base!N1021)*COS(Index!$H$3-Base!H1021)))","v":154.72661924027969}]
["HD 94601 ","10 55 36,823"," -04 44 59,28",10,55,36.823,163.90342916666665,2.8606544942676391,"-",4,44,59.28,-4.7497999999999996,-8.2899648811226662E-2,211.5943,63.909700000000001,4.51,4.5,9.9999999999997868E-3,{"$f":"+VLOOKUP(W1022,Data!$E$5:$F$32,2)","v":0.02},-1.0000000000000214E-2,"A1V","A1",{"$f":"+DEGREES(ACOS(SIN(Index!$H$6)*SIN(Base!N1022)+COS(Index!$H$6)*COS(Base!N1022)*COS(Index!$H$3-Base!H1022)))","v":162.21574631857794}]
["HD 94650J","10 53 42,07845","-70 43 13,2151",10,53,42.078449999999997,163.425326875,2.8523100351167257,"-",70,43,13.2151,-70.720337527777801,-1.2343027379814293,293.44709999999998,-10.0488,5.97,5.99,-2.0000000000000462E-2,{"$f":"+VLOOKUP(W1023,Data!$E$5:$F$32,2)","v":-0.14000000000000001},0.11999999999999955,"B6V","B6",{"$f":"+DEGREES(ACOS(SIN(Index!$H$6)*SIN(Base!N1023)+COS(Index!$H$6)*COS(Base!N1023)*COS(Index!$H$3-Base!H1023)))","v":121.10082370619911}]
["HD 94985 ","10 57 07,84745","-50 45 54,0589",10,57,7.8474500000000003,164.28269770833333,2.8672739790689596,"-",50,45,54.058900000000001,-50.765016361111101,-0.88601668033017944,285.13709999999998,8.1148000000000007,6.069,5.9089999999999998,0.16000000000000014,{"$f":"+VLOOKUP(W1024,Data!$E$5:$F$32,2)","v":0.12},4.0000000000000147E-2,"A4V","A4",{"$f":"+DEGREES(ACOS(SIN(Index!$H$6)*SIN(Base!N1024)+COS(Index!$H$6)*COS(Base!N1024)*COS(Index!$H$3-Base!H1024)))","v":139.55407226609321}]
["HD 95347 ","10 59 59,37804","-43 48 25,5989",10,59,59.378039999999999,164.99740850000001,2.8797480355830785,"-",43,48,25.5989,-43.807110805555602,-0.76457831934293075,282.5342,14.606400000000001,5.7359999999999998,5.8,-6.4000000000000057E-2,{"$f":"+VLOOKUP(W1025,Data!$E$5:$F$32,2)","v":-0.11},4.5999999999999944E-2,"B8,5V","B8,5",{"$f":"+DEGREES(ACOS(SIN(Index!$H$6)*SIN(Base!N1025)+COS(Index!$H$6)*COS(Base!N1025)*COS(Index!$H$3-Base!H1025)))","v":145.4765894883021}]
["HD 95418 ","11 01 50,47654","+56 22 56,7339",11,1,50.47654,165.46031891666667,2.8878273464956905,"+",56,22,56.733899999999998,56.3824260833333,0.98405897541649689,149.1661,54.804099999999998,2.3759999999999999,2.3460000000000001,2.9999999999999805E-2,{"$f":"+VLOOKUP(W1026,Data!$E$5:$F$32,2)","v":0.02},9.9999999999998042E-3,"A1V","A1",{"$f":"+DEGREES(ACOS(SIN(Index!$H$6)*SIN(Base!N1026)+COS(Index!$H$6)*COS(Base!N1026)*COS(Index!$H$3-Base!H1026)))","v":109.43007739634814}]
["HD 96146 ","11 04 54,19338","-35 48 16,8376",11,4,54.193379999999998,166.22580575000001,{"$f":"+RADIANS(G1027)","v":2.9011876121180222},"-",35,48,16.837599999999998,{"$f":"VALUE(CONCATENATE(I1027,+J1027+K1027/60+L1027/3600))","v":-35.804677111111097},{"$f":"+RADIANS(M1027)","v":-0.62490950320234018},279.80439999999999,22.237400000000001,5.4429999999999996,5.4240000000000004,1.899999999999924E-2,{"$f":"+VLOOKUP(W1027,Data!$E$5:$F$32,2)","v":0.05},{"$f":"+S1027-T1027","v":-3.1000000000000763E-2},"A2V",{"$f":"IF(MID(V1027,3,1)<>\",\",LEFT(V1027,2),LEFT(V1027,4))","v":"A2"},{"$f":"+DEGREES(ACOS(SIN(Index!$H$6)*SIN(Base!N1027)+COS(Index!$H$6)*COS(Base!N1027)*COS(Index!$H$3-Base!H1027)))","v":151.46483800333627}]
["HD 96706 ","11 06 49,88927","-70 52 40,5491",11,6,49.889270000000003,166.70787195833333,2.9096012546660437,"-",70,52,40.549100000000003,-70.877930305555594,-1.2370532508310157,294.50830000000002,-9.7369000000000003,5.52,5.57,-5.0000000000000711E-2,{"$f":"+VLOOKUP(W1028,Data!$E$5:$F$32,2)","v":-0.24},0.18999999999999928,"B2V","B2",{"$f":"+DEGREES(ACOS(SIN(Index!$H$6)*SIN(Base!N1028)+COS(Index!$H$6)*COS(Base!N1028)*COS(Index!$H$3-Base!H1028)))","v":120.58759061268186}]
["HD 9672  ","01 34 37,77884","-15 40 34,8979",1,34,37.778840000000002,23.657411833333331,0.41289972899193461,"-",15,40,34.8979,-15.676360527777801,-0.2736041059393986,166.32769999999999,-74.778899999999993,5.681,5.6189999999999998,6.2000000000000277E-2,{"$f":"+VLOOKUP(W1029,Data!$E$5:$F$32,2)","v":0.02},4.2000000000000273E-2,"A1V","A1",{"$f":"+DEGREES(ACOS(SIN(Index!$H$6)*SIN(Base!N1029)+COS(Index!$H$6)*COS(Base!N1029)*COS(Index!$H$3-Base!H1029)))","v":62.11600549217367}]
["HD 96819 ","11 08 43,99954","-28 04 50,4127",11,8,43.999540000000003,167.18333141666668,2.9178995876737095,"-",28,4,50.412700000000001,-28.080670194444401,-0.49010015105969112,276.86619999999999,29.5413,5.4969999999999999,5.431,6.5999999999999837E-2,{"$f":"+VLOOKUP(W1030,Data!$E$5:$F$32,2)","v":0.02},4.5999999999999833E-2,"A1V","A1",{"$f":"+DEGREES(ACOS(SIN(Index!$H$6)*SIN(Base!N1030)+COS(Index!$H$6)*COS(Base!N1030)*COS(Index!$H$3-Base!H1030)))","v":156.18184538925115}]
["HD 97023 ","11 09 53,39311","-32 22 03,1048",11,9,53.39311,167.47247129166666,2.9229460304912642,"-",32,22,3.1048,-32.367529111111097,-0.56491995372400217,279.21839999999997,25.786000000000001,5.8150000000000004,5.7789999999999999,3.6000000000000476E-2,{"$f":"+VLOOKUP(W1031,Data!$E$5:$F$32,2)","v":0.05},-1.3999999999999527E-2,"A2V","A2",{"$f":"+DEGREES(ACOS(SIN(Index!$H$6)*SIN(Base!N1031)+COS(Index!$H$6)*COS(Base!N1031)*COS(Index!$H$3-Base!H1031)))","v":153.24173703732109}]
["HD 97277 ","11 11 39,48783","-22 49 33,0593",11,11,39.487830000000002,167.91453262500002,2.9306614562536875,"-",22,49,33.0593,-22.825849805555599,-0.39838623367265263,274.77679999999998,34.532899999999998,4.4930000000000003,4.4610000000000003,3.2000000000000028E-2,{"$f":"+VLOOKUP(W1032,Data!$E$5:$F$32,2)","v":0.02},1.2000000000000028E-2,"A1V","A1",{"$f":"+DEGREES(ACOS(SIN(Index!$H$6)*SIN(Base!N1032)+COS(Index!$H$6)*COS(Base!N1032)*COS(Index!$H$3-Base!H1032)))","v":158.29680400922189}]
["HD 97583 ","11 12 45,20667","-64 10 11,1760",11,12,45.206670000000003,168.18836112499997,2.9354406651644838,"-",64,10,11.176,-64.169771111111103,-1.1199737861400287,292.43549999999999,-3.3277999999999999,5.1429999999999998,5.2160000000000002,-7.3000000000000398E-2,{"$f":"+VLOOKUP(W1033,Data!$E$5:$F$32,2)","v":-0.11},3.6999999999999603E-2,"B8V","B8",{"$f":"+DEGREES(ACOS(SIN(Index!$H$6)*SIN(Base!N1033)+COS(Index!$H$6)*COS(Base!N1033)*COS(Index!$H$3-Base!H1033)))","v":126.52454867020792}]
["HD 97585 ","11 13 45,55346","-00 04 10,2202",11,13,45.553460000000001,168.43980608333334,2.9398292075749408,"-",0,4,10.2202,-6.9505611111111101E-2,-1.2131017624996429E-3,258.12909999999999,54.078099999999999,5.3789999999999996,5.399,-2.0000000000000462E-2,{"$f":"+VLOOKUP(W1034,Data!$E$5:$F$32,2)","v":-0.01},-1.0000000000000462E-2,"A0V","A0",{"$f":"+DEGREES(ACOS(SIN(Index!$H$6)*SIN(Base!N1034)+COS(Index!$H$6)*COS(Base!N1034)*COS(Index!$H$3-Base!H1034)))","v":155.95132607816615}]
["HD 97603 ","11 14 06,50142","+20 31 25,3853",11,14,6.5014200000000004,168.52708924999999,2.9413525862148409,"+",20,31,25.385300000000001,20.523718138888899,0.35820645627489417,224.2285,66.827500000000001,2.68,2.5299999999999998,0.15000000000000036,{"$f":"+VLOOKUP(W1035,Data!$E$5:$F$32,2)","v":0.12},3.000000000000036E-2,"A4V","A4",{"$f":"+DEGREES(ACOS(SIN(Index!$H$6)*SIN(Base!N1035)+COS(Index!$H$6)*COS(Base!N1035)*COS(Index!$H$3-Base!H1035)))","v":141.06533385096597}]
["HD 97633 ","11 14 14,40446","+15 25 46,4541",11,14,14.40446,168.56001858333335,2.9419273115019946,"+",15,25,46.454099999999997,15.4295705833333,0.2692968088480282,235.37219999999999,64.584999999999994,3.3370000000000002,3.3239999999999998,1.3000000000000345E-2,{"$f":"+VLOOKUP(W1036,Data!$E$5:$F$32,2)","v":0.05},-3.6999999999999658E-2,"A2V","A2",{"$f":"+DEGREES(ACOS(SIN(Index!$H$6)*SIN(Base!N1036)+COS(Index!$H$6)*COS(Base!N1036)*COS(Index!$H$3-Base!H1036)))","v":145.20294870624573}]
["HD 97670 ","11 13 30,78320","-59 37 09,5454",11,13,30.783200000000001,168.37826333333334,2.9387550839567091,"-",59,37,9.5454000000000008,-59.619318166666702,-1.0405533998024035,290.83269999999999,0.93220000000000003,5.6269999999999998,5.7320000000000002,-0.10500000000000043,{"$f":"+VLOOKUP(W1037,Data!$E$5:$F$32,2)","v":-0.26},0.15499999999999958,"B1,5V","B1,5",{"$f":"+DEGREES(ACOS(SIN(Index!$H$6)*SIN(Base!N1037)+COS(Index!$H$6)*COS(Base!N1037)*COS(Index!$H$3-Base!H1037)))","v":130.57645710421139}]
["HD 98353 ","11 19 07,89965","+38 11 08,0285",11,19,7.8996500000000003,169.78291520833332,2.9632708840197708,"+",38,11,8.0284999999999993,38.185563472222199,0.66646380931955562,177.34399999999999,67.737799999999993,4.9000000000000004,4.8,0.10000000000000053,{"$f":"+VLOOKUP(W1038,Data!$E$5:$F$32,2)","v":0.05},5.000000000000053E-2,"A2V","A2",{"$f":"+DEGREES(ACOS(SIN(Index!$H$6)*SIN(Base!N1038)+COS(Index!$H$6)*COS(Base!N1038)*COS(Index!$H$3-Base!H1038)))","v":125.16297121664874}]
["HD 98664 ","11 21 08,19349","+06 01 45,5710",11,21,8.1934900000000006,170.28413954166666,2.9720188989275509,"+",6,1,45.570999999999998,6.0293252777777804,0.10523157777094397,253.3596,59.899000000000001,3.996,4.0439999999999996,-4.7999999999999599E-2,{"$f":"+VLOOKUP(W1039,Data!$E$5:$F$32,2)","v":-7.0000000000000007E-2},2.2000000000000408E-2,"B9,5Vs","B9,5",{"$f":"+DEGREES(ACOS(SIN(Index!$H$6)*SIN(Base!N1039)+COS(Index!$H$6)*COS(Base!N1039)*COS(Index!$H$3-Base!H1039)))","v":150.85915261094291}]
["HD 98718 ","11 21 00,40615","-54 29 27,6654",11,21,0.40615000000000001,170.25169229166667,2.9714525875818336,"-",54,29,27.665400000000002,-54.491018166666699,-0.95104767977237814,289.9556,6.0864000000000003,3.74,3.9,-0.1599999999999997,{"$f":"+VLOOKUP(W1040,Data!$E$5:$F$32,2)","v":-0.16},3.0531133177191805E-16,"B5Vn","B5",{"$f":"+DEGREES(ACOS(SIN(Index!$H$6)*SIN(Base!N1040)+COS(Index!$H$6)*COS(Base!N1040)*COS(Index!$H$3-Base!H1040)))","v":134.5551217126997}]
["HD 99104 ","11 23 21,40035","-64 57 16,9709",11,23,21.40035,170.83916812499999,2.9817059751493975,"-",64,57,16.9709,-64.954714138888903,-1.1336736264153247,293.78030000000001,-3.6597,5.03,5.1100000000000003,-8.0000000000000071E-2,{"$f":"+VLOOKUP(W1041,Data!$E$5:$F$32,2)","v":-0.16},7.9999999999999932E-2,"B5V","B5",{"$f":"+DEGREES(ACOS(SIN(Index!$H$6)*SIN(Base!N1041)+COS(Index!$H$6)*COS(Base!N1041)*COS(Index!$H$3-Base!H1041)))","v":125.3140051514933}]
["HD 99211 ","11 24 52,92362","-17 41 02,4300",11,24,52.92362,171.22051508333334,2.98836173516478,"-",17,41,2.4300000000000002,-17.684008333333299,-0.30864417036678099,275.40640000000002,40.516199999999998,4.29,4.08,0.20999999999999996,{"$f":"+VLOOKUP(W1042,Data!$E$5:$F$32,2)","v":0.2},9.9999999999999534E-3,"A7V(n)","A7",{"$f":"+DEGREES(ACOS(SIN(Index!$H$6)*SIN(Base!N1042)+COS(Index!$H$6)*COS(Base!N1042)*COS(Index!$H$3-Base!H1042)))","v":156.81511041414802}]
["HD 99556 ","11 26 35,41773","-61 06 54,6029",11,26,35.417729999999999,171.64757387500001,2.9958153171789519,"-",61,6,54.602899999999998,-61.115167472222197,-1.0666608952980174,292.86630000000002,8.7499999999999994E-2,5.44,5.54,-9.9999999999999645E-2,{"$f":"+VLOOKUP(W1043,Data!$E$5:$F$32,2)","v":-0.16},6.0000000000000359E-2,"B5V","B5",{"$f":"+DEGREES(ACOS(SIN(Index!$H$6)*SIN(Base!N1043)+COS(Index!$H$6)*COS(Base!N1043)*COS(Index!$H$3-Base!H1043)))","v":128.48968003197342}]
["HD 99787 ","11 29 04,12195","+39 20 13,1119",11,29,4.12195,172.26717479166666,3.00662939322316,"+",39,20,13.1119,39.336975527777803,0.68655974073615678,172.22880000000001,68.971699999999998,5.3730000000000002,5.3540000000000001,1.9000000000000128E-2,{"$f":"+VLOOKUP(W1044,Data!$E$5:$F$32,2)","v":0.05},-3.0999999999999875E-2,"A2V","A2",{"$f":"+DEGREES(ACOS(SIN(Index!$H$6)*SIN(Base!N1044)+COS(Index!$H$6)*COS(Base!N1044)*COS(Index!$H$3-Base!H1044)))","v":123.24172405380136}]
["HD 99803 ","11 28 35,07993","-42 40 27,1303",11,28,35.079929999999997,172.14616637499998,3.0045173979297011,"-",42,40,27.130299999999998,-42.674202861111098,-0.74480534559037315,287.09710000000001,17.6356,5.1040000000000001,5.1319999999999997,-2.7999999999999581E-2,{"$f":"+VLOOKUP(W1045,Data!$E$5:$F$32,2)","v":-7.0000000000000007E-2},4.2000000000000426E-2,"B9V","B9",{"$f":"+DEGREES(ACOS(SIN(Index!$H$6)*SIN(Base!N1045)+COS(Index!$H$6)*COS(Base!N1045)*COS(Index!$H$3-Base!H1045)))","v":143.28162775606231}]
["HD 99922 ","11 29 38,61879","-24 27 50,4713",11,29,38.618789999999997,172.41091162499998,3.0091380742212168,"-",24,27,50.471299999999999,-24.464019805555601,-0.42697769388004819,280.15789999999998,34.764699999999998,5.83,5.76,7.0000000000000284E-2,{"$f":"+VLOOKUP(W1046,Data!$E$5:$F$32,2)","v":-0.01},8.0000000000000279E-2,"A0V","A0",{"$f":"+DEGREES(ACOS(SIN(Index!$H$6)*SIN(Base!N1046)+COS(Index!$H$6)*COS(Base!N1046)*COS(Index!$H$3-Base!H1046)))","v":153.86675042613382}]

{"sheet":"Data","index":3,"n_rows":49,"n_cols":14,"rows_kept":49,"cut":false,"hidden":false,"merged":[]}
[1,2,3,4,5,6,7,8,9,10,11,12,13,14]
[null,"Distance",null,null,"Indice de couleur",null,null,null,"Liste References",null,null,"Liste",null,"Target"]
[null,null,null,null,null,null,null,null,null,null,null,3]
[null,0,null,null,null,"B-V"]
[null,5,null,10,{"$f":"+CONCATENATE(\"A\",D5-10)","v":"A0"},-0.01,null,null,{"$f":"+IF(Index!A10<>\"\",Index!A10,\"\")","v":1},{"$f":"+IF(Index!B10<>\"\",Index!B10,\"\")","v":"HD 208565"},1,"A0V",null,21]
[null,10,null,11,"A1",0.02,null,null,{"$f":"+IF(Index!A11<>\"\",Index!A11,\"\")","v":2},{"$f":"+IF(Index!B11<>\"\",Index!B11,\"\")","v":"HD 209459"},2,"G5V",null,51]
[null,15,null,12,"A2",0.05,null,null,{"$f":"+IF(Index!A12<>\"\",Index!A12,\"\")","v":3},{"$f":"+IF(Index!B12<>\"\",Index!B12,\"\")","v":"HD 208108"},3,"M5III",null,1.9739297352]
[null,20,null,13,"A3",0.08,null,null,{"$f":"+IF(Index!A13<>\"\",Index!A13,\"\")","v":4},{"$f":"+IF(Index!B13<>\"\",Index!B13,\"\")","v":"HD 203562"},null,null,null,12]
[null,null,null,14,"A4",0.12,null,null,{"$f":"+IF(Index!A14<>\"\",Index!A14,\"\")","v":5},{"$f":"+IF(Index!B14<>\"\",Index!B14,\"\")","v":"HD 210129"},null,null,null,37]
[null,4,null,15,"A5",0.15,null,null,{"$f":"+IF(Index!A15<>\"\",Index!A15,\"\")","v":6},{"$f":"+IF(Index!B15<>\"\",Index!B15,\"\")","v":"HD 207203"},null,null,null,32.127939335999997]
[null,{"$f":"+B10*5","v":20},null,16,"A6",0.17,null,null,{"$f":"+IF(Index!A16<>\"\",Index!A16,\"\")","v":7},{"$f":"+IF(Index!B16<>\"\",Index!B16,\"\")","v":"HD 214923"}]
[null,null,null,17,"A7",0.2,null,null,{"$f":"+IF(Index!A17<>\"\",Index!A17,\"\")","v":8},{"$f":"+IF(Index!B17<>\"\",Index!B17,\"\")","v":"HD 208057"}]
[null,null,null,18,"A8",0.27,null,null,{"$f":"+IF(Index!A18<>\"\",Index!A18,\"\")","v":9},{"$f":"+IF(Index!B18<>\"\",Index!B18,\"\")","v":"HD 199254"}]
[null,null,null,19,"A9",0.3,null,null,{"$f":"+IF(Index!A19<>\"\",Index!A19,\"\")","v":10},{"$f":"+IF(Index!B19<>\"\",Index!B19,\"\")","v":"HD 212571"}]
[null,null,null,0,{"$f":"+CONCATENATE(\"B\",D15)","v":"B0"},-0.3,null,null,{"$f":"+IF(Index!A20<>\"\",Index!A20,\"\")","v":11},{"$f":"+IF(Index!B20<>\"\",Index!B20,\"\")","v":"HD 204414"}]
[null,null,null,0.5,"B0.5",-0.28000000000000003,null,null,{"$f":"+IF(Index!A21<>\"\",Index!A21,\"\")","v":12},{"$f":"+IF(Index!B21<>\"\",Index!B21,\"\")","v":"HD 212061"}]
[null,null,null,1,"B1",-0.26,null,null,{"$f":"+IF(Index!A22<>\"\",Index!A22,\"\")","v":13},{"$f":"+IF(Index!B22<>\"\",Index!B22,\"\")","v":"HD 216735"}]
[null,null,null,1.5,"B1.5",-0.25,null,null,{"$f":"+IF(Index!A23<>\"\",Index!A23,\"\")","v":14},{"$f":"+IF(Index!B23<>\"\",Index!B23,\"\")","v":"HD 209833"}]
[null,null,null,2,"B2",-0.24,null,null,{"$f":"+IF(Index!A24<>\"\",Index!A24,\"\")","v":15},{"$f":"+IF(Index!B24<>\"\",Index!B24,\"\")","v":"HD 217232"}]
[null,null,null,2.5,"B2.5",-0.22,null,null,{"$f":"+IF(Index!A25<>\"\",Index!A25,\"\")","v":16},{"$f":"+IF(Index!B25<>\"\",Index!B25,\"\")","v":"HD 198069"}]
[null,null,null,3,"B3",-0.2,null,null,{"$f":"+IF(Index!A26<>\"\",Index!A26,\"\")","v":17},{"$f":"+IF(Index!B26<>\"\",Index!B26,\"\")","v":"HD 207650"}]
[null,null,null,3.5,"B3.5",-0.19,null,null,{"$f":"+IF(Index!A27<>\"\",Index!A27,\"\")","v":18},{"$f":"+IF(Index!B27<>\"\",Index!B27,\"\")","v":"HD 196775"}]
[null,null,null,4,"B4",-0.18,null,null,{"$f":"+IF(Index!A28<>\"\",Index!A28,\"\")","v":19},{"$f":"+IF(Index!B28<>\"\",Index!B28,\"\")","v":"HD 196544"}]
[null,null,null,4.5,"B4.5",-0.17,null,null,{"$f":"+IF(Index!A29<>\"\",Index!A29,\"\")","v":20},{"$f":"+IF(Index!B29<>\"\",Index!B29,\"\")","v":"HD 196180"}]
[null,null,null,5,"B5",-0.16,null,null,{"$f":"+IF(Index!A30<>\"\",Index!A30,\"\")","v":21},{"$f":"+IF(Index!B30<>\"\",Index!B30,\"\")","v":"HD 202753"}]
[null,null,null,6,"B6",-0.14000000000000001,null,null,{"$f":"+IF(Index!A31<>\"\",Index!A31,\"\")","v":22},{"$f":"+IF(Index!B31<>\"\",Index!B31,\"\")","v":"HD 196724"}]
[null,null,null,7,"B7",-0.13,null,null,{"$f":"+IF(Index!A32<>\"\",Index!A32,\"\")","v":23},{"$f":"+IF(Index!B32<>\"\",Index!B32,\"\")","v":"HD 212404"}]
[null,null,null,7.5,"B7.5",-0.12,null,null,{"$f":"+IF(Index!A33<>\"\",Index!A33,\"\")","v":""},{"$f":"+IF(Index!B33<>\"\",Index!B33,\"\")","v":""}]
[null,null,null,8,"B8",-0.11,null,null,{"$f":"+IF(Index!A34<>\"\",Index!A34,\"\")","v":""},{"$f":"+IF(Index!B34<>\"\",Index!B34,\"\")","v":""}]
[null,null,null,8.5,"B8.5",-0.09,null,null,{"$f":"+IF(Index!A35<>\"\",Index!A35,\"\")","v":""},{"$f":"+IF(Index!B35<>\"\",Index!B35,\"\")","v":""}]
[null,null,null,9,"B9",-7.0000000000000007E-2,null,null,{"$f":"+IF(Index!A36<>\"\",Index!A36,\"\")","v":""},{"$f":"+IF(Index!B36<>\"\",Index!B36,\"\")","v":""}]
[null,null,null,9.5,"B9.5",-0.04,null,null,{"$f":"+IF(Index!A37<>\"\",Index!A37,\"\")","v":""},{"$f":"+IF(Index!B37<>\"\",Index!B37,\"\")","v":""}]
[null,null,null,null,null,null,null,null,{"$f":"+IF(Index!A38<>\"\",Index!A38,\"\")","v":""},{"$f":"+IF(Index!B38<>\"\",Index!B38,\"\")","v":""}]
[null,null,null,null,null,null,null,null,{"$f":"+IF(Index!A39<>\"\",Index!A39,\"\")","v":""},{"$f":"+IF(Index!B39<>\"\",Index!B39,\"\")","v":""}]
[null,null,null,null,null,null,null,null,{"$f":"+IF(Index!A40<>\"\",Index!A40,\"\")","v":""},{"$f":"+IF(Index!B40<>\"\",Index!B40,\"\")","v":""}]
[null,null,null,null,null,null,null,null,{"$f":"+IF(Index!A41<>\"\",Index!A41,\"\")","v":""},{"$f":"+IF(Index!B41<>\"\",Index!B41,\"\")","v":""}]
[null,null,null,null,null,null,null,null,{"$f":"+IF(Index!A42<>\"\",Index!A42,\"\")","v":""},{"$f":"+IF(Index!B42<>\"\",Index!B42,\"\")","v":""}]
[null,null,null,null,null,null,null,null,{"$f":"+IF(Index!A43<>\"\",Index!A43,\"\")","v":""},{"$f":"+IF(Index!B43<>\"\",Index!B43,\"\")","v":""}]
[null,null,null,null,null,null,null,null,{"$f":"+IF(Index!A44<>\"\",Index!A44,\"\")","v":""},{"$f":"+IF(Index!B44<>\"\",Index!B44,\"\")","v":""}]
[null,null,null,null,null,null,null,null,{"$f":"+IF(Index!A45<>\"\",Index!A45,\"\")","v":""},{"$f":"+IF(Index!B45<>\"\",Index!B45,\"\")","v":""}]
[null,null,null,null,null,null,null,null,{"$f":"+IF(Index!A46<>\"\",Index!A46,\"\")","v":""},{"$f":"+IF(Index!B46<>\"\",Index!B46,\"\")","v":""}]
[null,null,null,null,null,null,null,null,{"$f":"+IF(Index!A47<>\"\",Index!A47,\"\")","v":""},{"$f":"+IF(Index!B47<>\"\",Index!B47,\"\")","v":""}]
[null,null,null,null,null,null,null,null,{"$f":"+IF(Index!A48<>\"\",Index!A48,\"\")","v":""},{"$f":"+IF(Index!B48<>\"\",Index!B48,\"\")","v":""}]
[null,null,null,null,null,null,null,null,{"$f":"+IF(Index!A49<>\"\",Index!A49,\"\")","v":""},{"$f":"+IF(Index!B49<>\"\",Index!B49,\"\")","v":""}]
[null,null,null,null,null,null,null,null,{"$f":"+IF(Index!A50<>\"\",Index!A50,\"\")","v":""},{"$f":"+IF(Index!B50<>\"\",Index!B50,\"\")","v":""}]
[null,null,null,null,null,null,null,null,{"$f":"+IF(Index!A51<>\"\",Index!A51,\"\")","v":""},{"$f":"+IF(Index!B51<>\"\",Index!B51,\"\")","v":""}]
[null,null,null,null,null,null,null,null,{"$f":"+IF(Index!A52<>\"\",Index!A52,\"\")","v":""},{"$f":"+IF(Index!B52<>\"\",Index!B52,\"\")","v":""}]
[null,null,null,null,null,null,null,null,{"$f":"+IF(Index!A53<>\"\",Index!A53,\"\")","v":""},{"$f":"+IF(Index!B53<>\"\",Index!B53,\"\")","v":""}]
[null,null,null,null,null,null,null,null,{"$f":"+IF(Index!A54<>\"\",Index!A54,\"\")","v":""},{"$f":"+IF(Index!B54<>\"\",Index!B54,\"\")","v":""}]

{"sheet":"Map","index":4,"n_rows":6,"n_cols":16,"rows_kept":6,"cut":false,"hidden":false,"merged":[]}
[]
[null,null,null,null,null,null,null,null,null,null,null,null,null,null,{"$f":"+DEGREES(Index!H3)*15","v":4916.3733706084504},{"$f":"+DEGREES(Index!H6)","v":12.625591094260001}]
["Simbad"]
["Miles"]
[null,null,null,null,null,null,null,null,null,null,null,null,null,null,null,{"$f":"+Index!G3*15+Index!G4/60","v":315.85054831381535}]
[null,null,null,null,null,null,null,null,null,null,null,null,null,null,null,{"$f":"+Index!G6+Index!G7/60","v":12.625591094260001}]

{"sheet":"Atmo","index":5,"n_rows":402,"n_cols":20,"rows_kept":402,"cut":false,"hidden":false,"merged":[]}
[null,"l  [A]","l [mm]","1.1 Rayleigh",1.2,"2.1 Ozone","2.2 Ozone","3. Aérosols","Total",null,"Transmission","Trans_Ref",{"$f":"+L202","v":0.75022970719070026},"Trans_Target",{"$f":"+N202","v":0.74435019884570686},null,null,"M5III",{"$f":"+R202","v":0.83091998100280795}]
[3500,{"$f":"+A2/10000","v":0.35},{"$f":"+(1/B2)^2","v":8.1632653061224492},{"$f":"0.23465+1.076*100/(146-C2)+0.93161/(41-C2)","v":1.04365466809531},{"$f":"9.4977*0.001*C2^2*D2*EXP(-h_/7.996/1000)","v":0.65972045599082785},{"$f":"+EXP(-0.0168*EXP(-15*ABS(B2-0.59)))","v":0.99954106680495547},{"$f":"-2.5*LOG(F2)","v":4.9839475912442368E-4},{"$f":"2.5*LOG(EXP(AOD_*(B2/0.55)^(-1.3)))","v":0.15631380889260948},{"$f":"+E2+G2+H2","v":0.81653265964256172},null,{"$f":"10^(-0.4*I2)","v":0.4713971322307054},{"$f":"10^(-0.4*I2*MAr)","v":0.3128354354927545},{"$f":"+L2/M$1","v":0.41698620101861034},{"$f":"10^(-0.4*I2*MAc)","v":0.30303907565176963},{"$f":"+N2/O$1","v":0.40711895573038637},{"$f":"(O2/M2-1)*100","v":-2.3663241767042487},{"$f":"+O2/M2","v":0.97633675823295751},3.42920012772083E-2,{"$f":"+R2/S$1","v":4.1269920162254968E-2},{"$f":"+S2*Q2","v":4.0293340063748989E-2}]
[3510,{"$f":"+A3/10000","v":0.35099999999999998},{"$f":"+(1/B3)^2","v":8.1168172336263531},{"$f":"0.23465+1.076*100/(146-C3)+0.93161/(41-C3)","v":1.0433516251257993},0.65204495476984314,{"$f":"+EXP(-0.0168*EXP(-15*ABS(B3-0.59)))","v":0.99953413253377554},{"$f":"-2.5*LOG(F3)","v":5.0592703132326536E-4},0.1557351164346141,{"$f":"+E3+G3+H3","v":0.80828599823578051},null,{"$f":"10^(-0.4*I3)","v":0.47499124050225988},0.31652866986548789,0.42190900577738616,0.30671519660565855,0.41205765388562249,{"$f":"(O3/M3-1)*100","v":-2.3349470518203574},{"$f":"+O3/M3","v":0.97665052948179643},8.8468998670578003E-2,{"$f":"+R3/S$1","v":0.10647114125695702},{"$f":"+S3*Q3","v":0.10398509648313821}]
[3520,0.35199999999999998,8.0707644628099189,1.0430514477090542,0.6444813944172344,0.9995270935137095,5.1357313923849706E-4,0.15516020359259211,0.80015517114906498,null,0.47856169239814145,0.32021271273865004,0.42681955895576851,0.31038333881732377,0.41698563297040481,-2.3040007841774623,0.97695999215822538,8.1712000072002397E-2,9.8339192630061772E-2,9.6073456860711365E-2]
[3530,0.35299999999999998,8.0251025206847029,1.0427540987536674,0.63702780957103144,0.99951994816317868,5.2133480327669433E-4,0.1545890350480616,0.79213817942236964,null,0.48210843304351519,0.32388715693125469,0.43171731781200462,0.31404307489298494,0.42190231880099432,-2.2734781779785607,0.97726521822021439,0.100615002214909,0.12108867823046006,0.11833575355488787]
[3540,0.35399999999999998,7.9798269973506981,1.0424595417851117,0.62968227527486265,0.99951269487674765,5.2921376984495358E-4,0.15402157591136775,0.78423306495607537,null,0.48563141609068322,0.32755160777893894,0.43660175628806297,0.31769398991809999,0.42680715395893032,-2.2433721779786753,0.97756627822021325,0.102376997470856,0.12320921365653144,0.12044517243665451]
[3550,0.35499999999999998,7.934933544931563,1.0421677409330723,0.62244290602452124,0.99950533202476466,5.3721181174419519E-4,0.15345779171528506,0.77643790955155045,null,0.48913060344027848,0.33120568296074365,0.44147236477874469,0.32133568130243056,0.43169959758288295,-2.2136758663839795,0.9778632413361602,0.101504996418953,0.12215977319073518,0.11945555177318247]
[3560,0.35599999999999998,7.8904178765307424,1.0418786609190875,0.61530785483996597,0.99949785795299773,5.4533072856738233E-4,0.15289764840872883,0.76875083397726218,null,0.4926059649682264,0.33484901232197578,0.4463286498955723,0.32496775862031657,0.43657912515406977,-2.1843824598272277,0.97815617540172772,8.5654996335506398E-2,0.10308453075365021,0.10083277034507226]
[3570,0.35699999999999998,7.8462757652080457,1.041592267044495,0.60827531236200549,0.99949027098226395,5.5357234710518423E-4,0.15234111235058109,0.76116999705969179,null,0.49605747825846075,0.33848123769356292,0.45117013422600266,0.32858984344659503,0.44144522827581995,-2.15548530641686,0.9784451469358314,6.5240003168582902E-2,7.8515386150477512E-2,7.682299853872751E-2]
[3580,0.35799999999999998,7.8025030429761868,1.0413085251786729,0.60134350597292363,0.99948256940805447,5.6193852175643894E-4,0.15178815030362383,0.75369359479830389,null,0.49948512834138931,0.34210201270830914,0.45599635608851002,0.33220156918859489,0.44629741444786736,-2.1269778828583608,0.97873022117141639,7.2071000933647197E-2,8.6736391688002568E-2,8.489152782040936E-2]
[3590,0.35899999999999999,7.7590955998168862,1.041027401747566,0.59451069894034381,0.99947475150015286,5.7043113494582669E-4,0.15123872942857777,0.74631985950386737,null,0.50288890743808035,0.34571100261442711,0.46080686928403797,0.33580258091460635,0.45113520683590685,-2.0988537916455385,0.97901146208354461,9.2969998717308003E-2,0.11188802874267845,0.10953966260901529]
[3600,0.36,7.716049382716049,1.0407488637224924,0.5877751895836415,0.99946681550224858,5.7905209754707061E-4,0.15069281727824718,0.73904705895943579,null,0.50626881471014662,0.34930788408671154,0.46560124284430832,0.33939253517921375,0.45595814403693735,-2.0711067583201292,0.97928893241679871,9.0103998780250494E-2,0.10843883988865831,0.10619295574708036]
[3610,0.36099999999999999,7.6733603947176601,1.0404728786092183,0.58113531046224576,0.99945875963154396,5.8780334931323515E-4,0.15015038179176557,0.73187349560332449,null,0.50962485601529006,0.35289234503569722,0.4703790607774424,0.34297109984585766,0.46076577984088196,-2.0437306287978907,0.97956269371202109,9.7662001848220797E-2,0.11753478563646523,0.11513269122292084]
[3620,0.36199999999999999,7.6310246939959097,1.040199414437297,0.57458942758518139,0.99945058207835602,5.9668685931267736E-4,0.14961139128894144,0.72479750573343549,null,0.51295704366846906,0.35646408441513122,0.47513992181133652,0.34653795390698044,0.46555768298896205,-2.0167193667593564,0.97983280633240644,0.11575300246477099,0.13930703931932506,0.13649760727811316]
[3630,0.36299999999999999,7.5890383929452314,1.0399284397496613,0.56813593964123899,0.99944228100571131,6.0570462637282588E-4,0.14907581446470347,0.71781745873231517,null,0.51626539620864065,0.36002281202806674,0.47988343913519921,0.35009278730208465,0.47033343692926705,-1.9900670511035501,0.9800993294889645,0.114561997354031,0.13787368215140305,0.13512990343076475]
[3640,0.36399999999999999,7.5473976572877675,1.0396599235924662,0.5617732772491616,0.99943385454893585,6.148586795292595E-4,0.14854362038363969,0.71093175631233052,null,0.51954993817102979,0.36356824833187712,0.48460924013964968,0.35363530073402671,0.47509263956995362,-1.9637678734630959,0.98036232126536904,0.115183003246784,0.1386210536275391,0.13589885791054543]
[3650,0.36499999999999999,7.5060987051979726,1.0393938355051706,0.55549990222727752,0.99942530081523817,6.2415107848249728E-4,0.14801477847463324,0.70413883178039316,null,0.52281069986486717,0.36710012424246369,0.48931696615574144,0.35716520548384234,0.47983490303047205,-1.9378161357788248,0.98062183864221175,0.13111099600791901,0.15779015910736166,0.15473247594350811]
[3660,0.36599999999999999,7.4651378064439067,1.0391301455108544,0.54931430688200589,0.99941661788328617,6.3358391406154364E-4,0.14748925852558831,0.69743714932165579,null,0.52604771715654131,0.37061818093792503,0.49400627219326826,0.36068222322439197,0.48455985339120766,-1.9122062479330015,0.98087793752066998,0.14084799587726601,0.16950849551996758,0.16626714347785754]
[3670,0.36699999999999999,7.4245112815448939,1.038868824106763,0.54321501331469713,0.99940780380277783,6.4315930869430864E-4,0.1469670306782474,0.69082520330163888,null,0.52926103125809842,0.37412216966193557,0.49867682667868252,0.36418608583309942,0.48926713044190373,-1.8869327254385948,0.98113067274561405,0.145561993122101,0.17518172200700646,0.17187616076546938]
[3680,0.36799999999999999,7.3842155009451798,1.0386098422550745,0.53720057274627753,0.99939885659400574,6.5287941688478904E-4,0.14644806542309854,0.68430151758626079,null,0.53245068852102495,0.37761185152706489,0.50332831119293453,0.36767653520403382,0.49395638742920239,-1.8619901871841482,0.98138009812815852,0.12973800301551799,0.15613778219527444,0.15323051201231147]
[3690,0.36899999999999999,7.34424688420326,1.0383531713738794,0.53126956485918964,0.99938977424741426,6.6274642569846116E-4,0.14593233359436694,0.67786464487925502,null,0.53561674023524497,0.38108699731826307,0.50796042020953314,0.37115332305958337,0.4986272908036371,-1.8373733532321523,0.98162626646767848,0.14071199297904999,0.16934481802836135,0.16623332146682876]
[3700,0.37,7.3046018991964932,1.0380987833283728,0.52542059715612888,0.99938055472315113,6.727625552538373E-4,0.145419806365094,0.67151316607647671,null,0.53875924243326079,0.38454738729671722,0.51257286083310138,0.3746162107619474,0.50327951996638076,-1.813077042669764,0.98186922957330236,0.13614399731159199,0.16384730229652752,0.16087662447355547]
[3710,0.371,7.2652770613407336,1.0378466504222492,0.5196523043351059,0.9993711959506113,6.8293005922248466E-4,0.14491045524229876,0.66524568963662711,null,0.54187825569935921,0.38799281100427457,0.51716535253868723,0.37806496912466026,0.50791276701603694,-1.7890961715108622,0.98210903828489138,0.138440996408463,0.16661170699178934,0.16363086332071033]
[3720,0.372,7.2262689328246035,1.0375967453892965,0.513963347680362,0.99936169582797518,6.932512253354572E-4,0.14440425206222104,0.65906085096791855,null,0.54497384498381296,0.39142306706861535,0.52173762691207304,0.38149937822435548,0.51252673649575375,-1.7654257506467985,0.98234574249353201,0.107655003666878,0.12956121663719408,0.12727390955582976]
[3730,0.373,7.1875741218581313,1.0373490413851802,0.50835241446869361,0.9993520522217384,7.0372837589892183E-4,0.14390116898564662,0.6529573118302392,null,0.54804607942199468,0.39483796300934648,0.52628942739131357,0.38491922721295496,0.51712114514090857,-1.74206088384673,0.9825793911615327,9.5393002033233601E-2,0.11480407766594704,0.11280412073586756]
[3740,0.374,7.1491892819354286,1.0371035119794194,0.50281821739075161,0.99934226296623629,7.1436386831572496E-4,0.14340117849330877,0.6469337597523761,null,0.55109503215832523,0.39823731504517612,0.53082050900971389,0.38832431413046731,0.52169572162761169,-1.7189967658041705,0.9828100323419583,0.103295996785164,0.12431521584124107,0.12217824130152766]
[3750,0.375,7.1111111111111107,1.0368601311475412,0.49735949398688811,0.99933232586315957,7.2516009561676481E-4,0.14290425338136861,0.64098890746387349,null,0.55412078017497624,0.40162094790231784,0.53533063814044646,0.39171444571856151,0.52625020632225061,-1.6962286802298721,0.98303771319770128,0.12926800549030301,0.1555721470728072,0.15293328769570885]
[3760,0.376,7.0733363512901759,1.0366188732634163,0.49197500609715006,0.99932223868106429,7.3611948699855545E-4,0.1424103667569705,0.63512149234111903,null,0.55712340412524441,0.4049886946242634,0.53981959224299236,0.39508943723507334,0.53078435103228838,-1.673751997989148,0.98326248002010852,0.13625299930572499,0.16397848459641812,0.16123389143421324]
[3770,0.377,7.0358617875310463,1.0363797130917665,0.48666353932501794,0.99931199915487323,7.4724450837048589E-4,0.14191949203387236,0.62933027586726076,null,0.56010298817151283,0.40834039638305319,0.54428715961157947,0.39844911226959046,0.53529791875851063,-1.6515621752833276,0.98348437824716672,0.17744700610637701,0.21355486709107957,0.21002787568272671]
[3780,0.378,6.9986842473614965,1.0361426257808402,0.4814239025145074,0.99930160498537068,7.5853766290924452E-4,0.14143160292814783,0.62361404310556445,null,0.56305961982771879,0.41167590229216428,0.54873313912577537,0.40179330256025714,0.53979068344891135,-1.6296547518728111,0.98370345248127189,0.16189700365066501,0.19484066739528544,0.19166543720049747]
[3790,0.379,6.9618006001072112,1.0359075868552519,0.47625492724026525,0.99929105383868921,7.7000149162222749E-4,0.14094667345396009,0.61797160218584757,null,0.56599338980624092,0.41499506922112517,0.55315734000338368,0.4051218478119204,0.54426242975438011,-1.60802534934259,0.9839197465065741,0.13626700639724701,0.16399534192545373,0.16135825525555139]
[3800,0.38,6.9252077562326884,1.0356745722089831,0.47115546731029651,0.99928034334578886,7.8163857391932772E-4,0.14046467791940662,0.61240178380362242,null,0.56890439186912156,0.41829776161195825,0.55755958155577479,0.40843459551574002,0.54871295278635734,-1.5866696694068927,0.98413330330593107,0.15756000578403501,0.18962115412591404,0.18661249278661887]
[3810,0.38100000000000001,6.8889026666942224,1.0354435580985364,0.46612439828097108,0.99926947110192876,7.9345152819311634E-4,0.13998559092243154,0.60690344073159574,null,0.57179272268354142,0.42158385129754911,0.56193969294578605,0.41173140077037229,0.55314205787660209,-1.565583492254341,0.98434416507745659,0.13136999309062999,0.15810185829456669,0.15562664170015961]
[3820,0.38200000000000001,6.8528823223047608,1.0352145211362427,0.46116061698398059,0.99925843466613062,8.054430124081396E-4,0.13950938734680593,0.60147544734319469,null,0.5746584816814575,0.42485321732201853,0.56629751294829156,0.41501212610482446,0.55754956033920611,-1.5447626749305887,0.98455237325069411,0.108388997614384,0.13044456757866521,0.12842950858723537]
[3830,0.38300000000000001,6.8171437531103223,1.0349874382837163,0.45626304106490578,0.99924723156063433,8.1761572469886174E-4,0.13903604235817371,0.59611669914777832,null,0.57750177092332367,0.42810574576318483,0.57063288971355675,0.41827664130307962,0.56193528523498437,-1.524203149758574,0.98475796850241426,0.125223994255066,0.15070523891354445,0.14840818491517302]
[3840,0.38400000000000001,6.7816840277777768,1.0347622868454525,0.45143060853308348,0.99923585927034508,8.2997240397709722E-4,0.13856553140016356,0.59082611233722415,null,0.58032269496580624,0.43134132955718141,0.57494568053346773,0.42152482323057155,0.56629906713835332,-1.503900922795276,0.98496099077204724,0.13704499602317799,0.16493164102009344,0.16245123254881086]
[3850,0.38500000000000001,6.7465002529937594,1.0345390444625657,0.44666227732246472,0.99922431524227318,8.425158305476175E-4,0.13809783019056227,0.5856026233435746,null,0.58312136073340948,0.43455986832529558,0.57923575161071994,0.42475655566259263,0.57064074990680369,-1.4838520723238435,0.98516147927676156,0.128978997468948,0.15522433016147694,0.15292103072162505]
[3860,0.38600000000000001,6.7115895728744386,1.0343176891066643,0.44195702486315791,0.99921259688496411,8.5524882673446926E-4,0.13763291471755365,0.58044518840744608,null,0.58589787739393018,0.43776126820308725,0.58350297783104588,0.42797172911470377,0.57496018645306524,-1.4640527473801845,0.98535947252619815,0.138374999165535,0.16653228027870398,0.16409415985400874]
[3870,0.38700000000000001,6.6769491683859812,1.0340981990738594,0.43731384766337789,0.9992007015679214,8.6817425751547659E-4,0.13717076123601477,0.57535278315690808,null,0.58865235623765344,0.44094544167183697,0.58774724253854882,0.43117024067521165,0.57925723852004651,-1.4444991663139062,0.98555500833686094,0.142909005284309,0.17198889008763174,0.16950451200416336]
[3880,0.38800000000000001,6.6425762567754267,1.0338805529789017,0.43273176090150717,0.99918862662102015,8.8129503116698797E-4,0.13671134626387627,0.57032440219655034,null,0.59138491056020837,0.44411230739236957,0.59196843731420123,0.43435199383977308,0.58353177645863441,-1.4251876153810628,0.98574812384618937,0.14912499487400099,0.17946974231384749,0.17691196177303423]
[3890,0.38900000000000001,6.6084680910118232,1.0336647297494448,0.42820979802800635,0.99917636933391174,8.9461409991851125E-4,0.13625464657853864,0.56535905870646352,null,0.59409565554900257,0.4472617900412949,0.59616646175756649,0.43751689834817703,0.58778367900841799,-1.4061144473701326,0.98593885552629867,0.170305997133255,0.20496076761533488,0.20207878465045492]
[3900,0.39,6.5746219592373425,1.033450708620433,0.42374701037690071,0.99916392695542011,9.0813446061676077E-4,0.13580063921334792,0.56045578405086538,null,0.59678470817315143,0.45039382014969942,0.60034122327178685,0.44066487002335525,0.59201283308140662,-1.3872760802584039,0.98612723919741596,0.171924993395805,0.20690920585194594,0.20403880393130927]
[3910,0.39100000000000001,6.5410351842282566,1.0332384691286083,0.41934246678659465,0.9991512966929289,9.2185915539984959E-4,0.13534930145412738,0.55561362739612186,null,0.59945218707682013,0.45350833394431661,0.60449263685187515,0.44379583061265626,0.59621913354878919,-1.3686689958993359,0.98631331004100664,0.17225900292396501,0.20731118141613553,0.20447377755106025]
[3920,0.39200000000000002,6.5077051228654721,1.0330279911071343,0.41499525322975273,0.99913847571175918,9.3579127238199581E-4,0.1349006108357651,0.55083165533789979,null,0.60209821247590378,0.45660527319120703,0.6086206248763526,0.44690970763142857,0.60040248303079524,-1.350289738739463,0.98649710261260537,0.115007996559143,0.13841043564789945,0.13654149373800128]
[3930,0.39300000000000002,6.47462916561454,1.032819254680335,0.4107044724520193,0.99912546113453815,9.4993394634826855E-4,0.13445454513885749,0.54610895153722505,null,0.60472290605795753,0.45968458504195953,0.61272511690224585,0.45000643420893377,0.60456279168968641,-1.3321349145642536,0.98667865085435746,8.3778999745845795E-2,0.10082679639588867,9.9483647437862421E-2]
[3940,0.39400000000000002,6.4418047360148423,1.032612240258544,0.40646924361932762,0.99911225004055826,9.6429035946010515E-4,0.13401108238640352,0.54144461636519126,null,0.60732639088530826,0.4627462218824423,0.61680604946348416,0.45308594893662874,0.60869997702593071,-1.3142011892724348,0.98685798810727565,0.137553006410599,0.16554302406423196,0.16336745567322228]
[3950,0.39500000000000002,6.4092292901778549,1.0324069285330637,0.40228870197358235,0.99909883946512723,9.7886374197088595E-4,0.13357020084055515,0.53683776655610838,null,0.60990879130126174,0.46579014118410378,0.62086336587269397,0.45614819571882731,0.61281396367757313,-1.2964852876778288,0.98703514712322171,0.168656006455421,0.20297502805489889,0.20034348667850718]
[3960,0.39600000000000002,6.3769003162942548,1.0322033004712285,0.39816199849648637,0.99908522639890751,9.9365737295338237E-4,0.13313187899941656,0.53228753486885627,null,0.61247023283933455,0.46881630535784141,0.62489701602641734,0.45919312362577031,0.61690468322284209,-1.2789839923379231,0.98721016007662077,0.102829001843929,0.1237531942845186,0.12217041073961275]
[3970,0.39700000000000002,6.3448153341496987,1.0320013373115722,0.39408829958129854,0.99907140778724723,1.0086745810366769E-3,0.13269609559389633,0.52779306975623153,null,0.615010842135434,0.47182468161044039,0.62890695621375559,0.46222068674911287,0.62097207398600374,-1.26169414240902,0.9873830585759098,0.16201800107955899,0.19498628602482901,0.19252615547555285]
[3980,0.39800000000000002,6.3129718946491238,1.0318010205590977,0.39006678671231759,0.99905738052949955,1.0239187451560625E-3,0.13226282958460739,0.52335353504208104,null,0.61753074684291065,0.47481524180358298,0.63289314892843895,0.46523084405984133,0.62501608084647942,-1.2446126325267315,0.98755387367473269,0.24302099645137801,0.2924722019057534,0.2888320559342053]
[3990,0.39900000000000002,6.2813675793493751,1.031602331980642,0.3860966561518846,0.99904314147833306,1.0393932953129132E-3,0.13183206015881807,0.51896810960601558,null,0.62003007555041134,0.47778796231542936,0.63685556268432442,0.46822355926862796,0.62903665505123885,-1.2277364117114886,0.98772263588288511,0.27612099051475503,0.33230755888372593,0.32822769798444085]
[4000,0.4,6.25,1.0314052536003397,0.38217711863470899,0.99902868743903195,1.0551017133461074E-3,0.13140376672744936,0.5146359870755044,null,0.62250895770246295,0.48074282390476752,0.64079417183431786,0.47119880068862885,0.63303375403047568,-1.2110624822987193,0.98788937517701281,0.30139100551605202,0.36271965099733655,0.35832688938818297]
[4010,0.40100000000000002,6.2188667980920496,1.0312097676951792,0.37830739906932931,0.99901401516878474,1.0710475337160949E-3,0.13097792892211993,0.51035637552516533,null,0.62496752352271201,0.48367981157772066,0.64470895639270454,0.47415654110072381,0.63700734121656311,-1.1945878988921965,0.98805412101107803,0.32815200090408297,0.39492611612016831,0.39020837652743184]
[4020,0.40200000000000002,6.1879656444147413,1.03101585679065,0.37448673624652101,0.99899912137596369,1.0872343442995744E-3,0.13055452659223785,0.50612849718305841,null,0.62740590393975382,0.48659891445700776,0.64859990186088379,0.47709675762119724,0.64095738586628981,-1.1783097673414678,0.98821690232658532,0.30793699622154203,0.37059765472230399,0.36623086635917268]
[4030,0.40300000000000002,6.1572942386197802,1.030823503656479,0.37071438255446809,0.99898400271939225,1.1036657871974389E-3,0.1301335398021376,0.50195158814380314,null,0.62982423051548353,0.48950012565374396,0.65246699905648808,0.48001943157186072,0.64488386288637489,-1.1622252437408997,0.988377747562591,0.31421700119972201,0.37815554852887834,0.37376052928326886]
[4040,0.40400000000000003,6.1268503087932551,1.0306326913024555,0.36698960370053191,0.99896865580760297,1.1203455595534724E-3,0.12971494882826101,0.4978248980883464,null,0.63222263537589818,0.49238344214176666,0.65631024394586945,0.48292454835260179,0.64878675266224406,-1.1463315334517166,0.98853668466548283,0.32870799303054798,0.39559524448291872,0.39106041145057563]
[4050,0.40500000000000003,6.0966316110349021,1.0304434029743381,0.3633116784394379,0.99895307719808302,1.1372774143869416E-3,0.12929873415638282,0.49374769001020768,null,0.63460125114428811,0.49524886463447243,0.66012963747993192,0.48581209731635827,0.65266604089006253,-1.1306258901451427,0.98869374109854857,0.33882400393486001,0.40776971511257354,0.40315936514133971]
[4060,0.40600000000000003,6.0666359290446241,1.0302556221498493,0.35967989830772229,0.99893726339650957,1.1544651614365663E-3,0.12888487647887883,0.48971923994803768,null,0.63696021087675136,0.49809639746414558,0.66392518543328605,0.48868207164650113,0.65652171841200502,-1.1151056148667515,0.98884894385133248,0.33698800206184398,0.40556011380920831,0.40103769020846186]
[4070,0.40699999999999997,6.0368610737161124,1.030069332534745,0.3560935673642725,0.99892121085597307,1.1719126680180465E-3,0.12847335669203752,0.48573883672432805,null,0.63929964799996553,0.50092604846376032,0.66769689824669975,0.49153446823661595,0.66035378105474785,-1.099768055121142,0.98900231944878858,0.34312498569488498,0.41294588352632894,0.40840443661436859]
[4080,0.40799999999999997,6.0073048827374098,1.0298845180589682,0.35255200193680769,0.9989049159761898,1.1896238598937152E-3,0.12806415589341053,0.48180578169011196,null,0.64161969625116322,0.50373782885123808,0.67144479087282183,0.49436928757266935,0.66416222947116454,-1.084610603976921,0.98915389396023079,0.39694699645042397,0.47771988341327726,0.47253848290047068]
[4090,0.40899999999999997,5.9779652201983495,1.0297011628728781,0.34905453037415263,0.99888837510270134,1.2076027221567414E-3,0.12765725537920647,0.47791938847551585,null,0.64392048962023629,0.50653175311612819,0.67516888262513619,0.49718653361753407,0.66794706898519107,-1.0696306991912707,0.98930369300808729,0.38879698514938399,0.46791146444710435,0.46290653977834267]
[4100,0.41,5.9488399762046402,1.0295192513435534,0.3456004928041469,0.99887158452606406,1.2258533001267597E-3,0.12725263664172426,0.47407898274599791,null,0.6462021622939238,0.50930783890870068,0.6788691970301306,0.49998621369786883,0.67170830943985393,-1.0548258223533558,0.98945174177646644,0.372871994972229,0.44874597253302656,0.4440124841379775]
[4110,0.41099999999999998,5.9199270664985413,1.0293387680511721,0.34218924089705699,0.99885454048102462,1.244379700261042E-3,0.12685028136682439,0.47028390196414238,null,0.6484648486020157,0.51206610693141486,0.68254576168263248,0.50276833839331958,0.67544596504841703,-1.0401934980466043,0.98959806501953396,0.37202098965644798,0.44772180012745511,0.44306462707319211]
[4120,0.41199999999999998,5.8912244320859664,1.02915969778546,0.3388201376343446,0.99883723914568512,1.263186091077487E-3,0.12645017143144055,0.46653349515686265,null,0.65070868296551931,0.51480658083274622,0.68619860810428823,0.50553292142803008,0.67916005424863168,-1.0257312930292084,0.98974268706970792,0.37095800042152399,0.44644250818692299,0.44186320767506526]
[4130,0.41299999999999998,5.8627300388699002,1.0289820255422113,0.33549255708266029,0.99881967664065385,1.2822767040936637E-3,0.12605228890112846,0.4628271226878824,null,0.65293379984673172,0.5175292871033359,0.68982777160513797,0.50827997956443227,0.68285059956004857,-1.0114368154321207,0.98988563184567879,0.35759499669075001,0.43036032935347307,0.4260075065433771]
[4140,0.41399999999999998,5.8344418772900184,1.0288057365198795,{"$f":"9.4977*0.001*C66^2*D66*EXP(-h_/7.996/1000)","v":0.33220588417293112},0.99880184902818558,1.3016558347778207E-3,{"$f":"2.5*LOG(EXP(AOD_*(B66/0.55)^(-1.3)))","v":0.12565661602765163},0.45916415603536054,null,0.65514033370116154,{"$f":"10^(-0.4*I66*MAr)","v":0.52023425497444131},0.69343329114825814,{"$f":"10^(-0.4*I66*MAc)","v":0.51100953249929659},0.68651762744436584,-0.99730771397500417,0.99002692286024996,0.36596599221229598,0.44043469958518094,0.43604221035119528]
[4150,{"$f":"+A67/10000","v":0.41499999999999998},{"$f":"+(1/B67)^2","v":5.8063579619683567},{"$f":"0.23465+1.076*100/(146-C67)+0.93161/(41-C67)","v":1.028630816116231},0.32895951448440891,{"$f":"+EXP(-0.0168*EXP(-15*ABS(B67-0.59)))","v":0.99878375231130723},{"$f":"-2.5*LOG(F67)","v":1.3213278435162223E-3},0.12526313524660443,{"$f":"+E67+G67+H67","v":0.45554397757452958},null,{"$f":"10^(-0.4*I67)","v":0.65732841893125071},0.5229215163186548,{"$f":"+L67/M$1","v":0.69701520921742677},0.51372160276201717,{"$f":"+N67/O$1","v":0.69016116816878059},{"$f":"(O67/M67-1)*100","v":-0.98334167719834609},{"$f":"+O67/M67","v":0.99016658322801654},0.414537012577057,{"$f":"+R67/S$1","v":0.49888920961651079},{"$f":"+S67*Q67","v":0.49398342409530621}]
[4160,0.41599999999999998,5.7784763313609462,1.0284572499250679,0.32575285403356119,0.99876538243293167,1.3412971565939318E-3,0.12487182917507077,0.45196598036522589,null,0.6594981898418405,0.52559110555286337,0.70057357168777612,0.51641621561510442,0.69378125567230498,-0.96953643271291412,0.99030463567287086,0.41823899745941201,0.50334449408071058,0.49846438582854358]
[4170,0.41699999999999998,5.7507950474153064,1.028285023733015,0.32258531906768373,0.9987467352749585,1.3615682671903851E-3,0.1244826806093184,0.44842956794419248,null,0.66164978059732993,0.52824305954341266,0.70410842769938331,0.51909339895685713,0.6973779274350107,-0.95588974646475533,0.99044110253535245,0.36382299661636402,0.43785563584267034,0.43367021871533218]
[4180,0.41799999999999998,5.7233121952336257,1.0281141235163656,0.31945633586310879,0.99872780665736038,1.3821457363910961E-3,0.12409567252252759,0.44493415412202753,null,0.66378332518048155,0.53087741751345308,0.70761982953376945,0.52175318322619124,0.70095122435017065,-0.94239942201627125,0.99057600577983729,0.40435299277305597,0.48663289127438797,0.48204686571967709]
[4190,0.41899999999999998,5.6960258827416128,1.027944535437993,0.31636534052790821,0.99870859233725695,1.4030341942135867E-3,0.12371078806255409,0.44147916278467586,null,0.66589895735281912,0.53349422095242838,0.71110783249325515,0.52439560130959095,0.70450119059925265,-0.92906329984281388,0.99070936700157186,0.38645699620246898,0.46509532209836585,0.4607742921514642]
[4200,0.42,5.6689342403628116,1.0277762458443194,0.31331177880896643,0.99868908800797496,1.42423834064876E-3,0.12332801054972589,0.43806402769934105,null,0.66799681061657579,0.53609351352767853,0.71457249478313367,0.52702068845015826,0.70802787352973096,-0.91587925664406988,0.9908412074335593,0.38038700819015497,0.45779018062735638,0.45359737532403699]
[4210,0.42099999999999999,5.6420354206983712,1.0276092412623434,0.31029510590332765,0.99866928929809351,1.4457629467191902E-3,0.12294732347467241,0.43468819232471922,null,0.67007701817814036,0.53867534099812198,0.71801387739661515,0.52962848215872627,0.71153132353567172,-0.90284520467041052,0.99097154795329589,0.33997601270675698,0.40915614075912815,0.40546209416266987]
[4220,0.42199999999999999,5.6153275982120796,1.0274435083967253,0.30731478627370001,0.99864919177047651,1.467612855551925E-3,0.12256871049618702,0.43135110962543893,null,0.67213971291296215,0.54123975112998657,0.72143204400250349,0.53221902212701333,0.7150115939410594,-0.88995909106330817,0.99110040908936692,0.22946700453758201,0.27616017159756634,0.27370245904453777]
[4230,0.42299999999999999,5.5888089689206328,1.0272790341269276,0.30437029346802597,0.99862879092128964,1.4897929834687274E-3,0.1221921554391201,0.4280522418906148,null,0.67418502733186381,0.54378679361455473,0.72482706083555559,0.53479235014277904,0.71846874088581236,-0.87721889721026347,0.99122781102789737,0.31948098540306102,0.38449067624717692,0.38111785137712517]
[4240,0.42399999999999999,5.5624777500890001,1.0271158055044101,0.30146110994301006,0.99860808217900365,1.5123083210919605E-3,0.1218176422923043,0.42479106055640631,null,0.67621309354872561,0.54631651998788833,0.7281989965894814,0.5373485100069586,0.72190282321445753,-0.86462263811293294,0.99135377361887067,0.40932500362396201,0.4926166333489323,0.48835735841788763]
[4250,0.42499999999999999,5.5363321799307963,1.0269538097498803,0.29858672689151278,0.99858706090338245,1.5351639344675838E-3,0.12144515520651017,0.42156704603249051,null,0.67822404324949193,0.54882898355250154,0.7315479223125394,0.53988754745274004,0.72531390236741378,-0.85216836176895683,0.99147831638231043,0.36743900179862998,0.44220744499991543,0.43843909306023932]
[4260,0.42599999999999999,5.5103705173135848,1.0267930342505915,0.29574664407371437,0.99856572238445651,1.5583649662049255E-3,0.12107467849243296,0.41837968753235227,null,0.68021800766246399,0.55132423930094632,0.7348739113056818,0.54240951006655336,0.7287020422748447,-0.83985414856696528,0.99160145851433035,0.396014004945755,0.47659704183286061,0.47259432180507988]
[4270,0.42699999999999999,5.4845910414689927,1.0266334665576986,0.29294036965195652,0.99854406184148081,1.581916636633973E-3,0.120706196618707,0.41522848290729752,null,0.68219511752983719,0.55380234384127758,0.73817703902320553,0.54491444721094318,0.73206730925304175,-0.82767811069394126,0.99172321889306059,0.35960501432418801,0.43277935607011569,0.42919733607232113]
[4280,0.42799999999999999,5.4589920517075727,1.0264750943836571,0.29016742002917367,0.99852207442187746,1.6058242449800851E-3,0.12033969420995154,0.4121129384841053,null,0.68415550308044204,0.55626335532436422,0.7414573829758625,0.5474024099492879,0.73540977190328738,-0.81563839155567308,0.99184361608444327,0.36833500862121599,0.44328577605834618,0.43967016708450879]
[4290,0.42899999999999999,5.4335718671383013,1.0263179055996756,0.28742731969082524,0.9984997552001631,1.6300931705560285E-3,0.11997515604484392,0.40903256890622519,null,0.68609929400365421,0.55870733337301215,0.74471502263638678,0.54987345097233942,0.73872950101316537,-0.80373316520887528,0.99196266834791125,0.36083999276161199,0.43426563449121414,0.43077529756170352]
[4300,0.43,5.408328826392645,1.0261618882332137,0.28471960105024791,0.99847709917686034,1.6547288739722082E-3,0.11961256705422182,0.40598689697844192,null,0.68802661942443211,0.56113433901286391,0.74795003934738835,0.55232762452654494,0.74202656946026357,-0.79196063580573295,0.99208039364194267,0.36668899655342102,0.44130482469668986,0.43780986420118057]
[4310,0.43099999999999999,5.3832612873531041,1.0260070304655287,0.28204380429734127,0.99845410127739231,1.679736898366084E-3,0.11925191231921212,0.40297545351491948,null,0.68993760787944947,0.56354443460504378,0.75116251623157448,0.55476498634412508,0.74530105211823816,-0.78031903704967043,0.9921968096295033,0.41981598734855702,0.50524237826354346,0.50129987580271052]
[4320,0.432,5.358367626886146,1.025853320629265,0.27939947725050956,0.99843075635096246,1.705122870648502E-3,0.11889317706938839,0.39999777719054647,null,0.69183238729428598,0.56593768378051301,0.75435253810424996,0.55718559357487218,0.74855302576518656,-0.76880663166296603,0.99231193368337034,0.46480700373649603,0.55938840605991558,0.55508779089737315]
[4330,0.433,5.3336462405794469,1.0257007472060908,0.27678617521178023,0.99840705916941641,1.7308925027703476E-3,0.11853634668095409,0.39705341439550468,null,0.69371108496164191,0.56831415137610275,0.75752019138805371,0.55958950471963964,0.75178256899429474,-0.75742171086496946,0.99242578289135031,0.50780302286148105,0.6111334839350373,0.60650462624534784]
[4340,0.434,5.3090955424833837,1.0255492988243791,0.27420346082502556,0.99838300442608785,1.7570515930076243E-3,0.11818140667495278,0.3941419190929859,null,0.6955738275205412,0.57067390337218904,0.76066556402988439,0.56197677956548542,0.75498976212670454,-0.74616259386193207,0.99253837406138068,0.477277010679245,0.57439587636734435,0.57010994919720581]
[4350,0.435,5.2847139648566515,1.025398964256927,0.27165090393720825,0.99835858673462741,1.7836060272658173E-3,0.11782834271550338,0.3912628526799774,null,0.69742074093649697,0.5730170068319822,0.76378874541997777,0.56434747912244865,0.75817468712657632,-0.73502762734668492,0.99264972372653315,0.47358500957489003,0.56995260723341501,0.56576329810746662]
[4360,0.436,5.2604999579160001,1.0252497324187242,0.26912808146258749,0.99833380062781352,1.8105617804049106E-3,0.11747714060806286,0.38841578385105524,null,0.69925195048259614,0.57534352984238912,0.76688982631308023,0.56670166556191071,0.76133742751828004,-0.7240151850095633,0.99275984814990437,0.502948999404907,0.60529173795762581,0.60090933386120426]
[4370,0.437,5.2364519895899342,1.0251015923647542,0.26663457724980494,0.99830864055634716,1.837924917582913E-3,0.11712778629771153,0.38560028846509936,null,0.70106758072148678,0.57765354145642611,0.76996889875168972,0.56903940215653015,0.76447806830570064,-0.71312366705864605,0.99286876332941354,0.48816800117492698,0.58750302355922923,0.58331340045354318]
[4380,0.438,5.2125685452763708,1.0249545332878436,0.26416998195179198,0.99828310088762751,1.8657015956211735E-3,0.11678026586746415,0.38281594941487729,null,0.70286775548822555,0.5799471116371423,0.77302605599130991,0.57136075322170166,0.76759669589359047,-0.70235149975079736,0.99297648500249203,0.46056398749351501,0.55428199829504232,0.55038899036716837]
[4390,0.439,5.1888481276041531,1.0248085445165445,0.26173389289842602,0.99825717590451035,1.8938980643894809E-3,0.11643456553660583,0.38006235649942133,null,0.70465259787396173,0.58222431120302254,0.77606139242767602,0.57366578405851809,0.77069339801094183,-0.6916971349318124,0.99308302865068188,0.47961899638175998,0.57721442178213689,0.57322184616425664]
[4400,0.44,5.1652892561983483,1.0246636155130584,0.25932591397187243,0.99823085980404824,1.9225206682121768E-3,0.11609067165905085,0.37733910629913547,null,0.70642223021042982,0.58448521177484336,0.77907500352591819,0.57595456089820418,0.77376826363633622,-0.68115904958635509,0.99318840950413645,0.45873299241066001,0.55207842259014084,0.54831789045385448]
[4410,0.441,5.1418904674492625,1.0245197358711982,0.25694565548454934,0.99820414669621171,1.9515758472959189E-3,0.11574857072172556,0.37464580205357084,null,0.70817677405522217,0.58672988572394402,0.78206698575161016,0.57822715084798715,0.77682138292522351,-0.67073574539722181,0.99329264254602778,0.51450097560882602,0.61919437174671499,0.615041213761922]
[4420,0.442,5.1186503142851292,1.0243768953143844,0.25459273405965516,0.99817703060259222,1.9810701391785365E-3,0.11540824934297282,0.37198205354180652,null,0.70991635017781274,0.58895840612188588,0.78503743650366942,0.58048362183837854,0.77985284713909842,-0.66042574831356449,0.99339574251686436,0.465873003005981,0.56067132053285729,0.55696850276864862]
[4430,0.443,5.0955673659483622,1.0242350836936802,0.25226677251419577,0.99814950545508563,2.011010180200206E-3,0.1150696942709817,0.36934747696537767,null,0.71164107854630831,0.59117084669146625,0.78798645404906242,0.58272404257183319,0.78286274857652527,-0.65022760812816216,0.99349772391871838,0.44088399410247803,0.53059741513303205,0.52714732425182265]
[4440,0.44400000000000001,5.0726402077753434,1.0240942909858604,0.24996739974445559,0.99812156509455674,2.0414027069965168E-3,0.11473289238223759,0.36674169483368974,null,0.71335107831490152,0.59336728175906117,0.79091413745928041,0.58494848247275921,0.78585118050597935,-0.64013989806342986,0.9935986010193657,0.495517998933792,0.59634863797085347,0.59253117240764419]
[4450,0.44500000000000001,5.0498674409796749,1.0239545072915146,0.24769425061385572,0.99809320326948425,2.0722545580140546E-3,0.11439783067999391,0.3641643358518637,null,0.71504646781199999,0.59554778620826099,0.79382058654853982,0.58715701163884859,0.78881823710046173,-0.63016121436556549,0.99369838785634435,0.46915900707244901,0.56462597819135074,0.56106792427055663]
[4460,0.44600000000000001,5.0272476824388175,1.0238157228331857,0.24544696584314221,0.99806441363458531,2.103572675049516E-3,0.11406449629276756,0.3616150348109593,null,0.71672736452900576,0.59771243543477348,0.7967059018136714,0.58934970079369564,0.79176401337384394,-0.62029017590775615,0.99379709824092244,0.41182300448417702,0.49562294071585861,0.49254864030505302]
[4470,0.44700000000000001,5.0047795644840827,1.0236779279535404,0.24322519190285263,0.99803518974942051,2.1353641048114285E-3,0.11373287647285324,0.35909343248051728,null,0.71839388510972735,0.5998613053025641,0.79957018437565797,0.59152662124068145,0.79468860511891448,-0.61052542380068964,0.9938947457619931,0.46917900443077099,0.56465004471854852,0.56120271264003985]
[4480,0.44800000000000001,4.982461734693878,1.0235411131135723,0.241028580908005,0.99800552507697848,2.1676360005054764E-3,0.11340295859485901,0.3565991755033695,null,0.72004614534039602,0.60199447210120627,0.80241353592278608,0.59368784481809134,0.79759210884708087,-0.60086562101180352,0.99399134378988196,0.50365400314331099,0.60614019960799204,0.60249811153341526]
[4490,0.44900000000000001,4.9602928556901995,1.0234052688908377,0.23885679051496261,0.99797541298223913,2.2003956234444544E-3,0.11307473015426522,0.35413191629267227,null,0.72168426014026488,0.60411201250440627,0.80523605865536263,0.59583344385543557,0.80047462172968842,-0.59130945199165064,0.99408690548008349,0.52232098579406705,0.62860563921413504,0.62488863465370936]
[4500,0.45,4.9382716049382722,1.0232703859777215,0.23670948382042117,0.99794484673071659,2.2336503446817916E-3,0.1127481787659988,0.35169131293110178,null,0.72330834355277351,0.60621400352968702,0.80803785523197624,0.59796349113095193,0.8033362415409272,-0.58185562230859134,0.99418144377691409,0.50565797090530396,0.60855194539315716,0.60501105168421876]
[4510,0.45100000000000001,4.9163966745492891,1.0231364551797333,0.23458632926246908,0.99791381948698077,2.2674076466699081E-3,0.11242329216303178,0.34927702907217079,null,0.72491850873725305,0.60830052249919198,0.81081902871725209,0.60007805983025864,0.80617706660228383,-0.57250285829034686,0.99427497141709653,0.50502598285675004,0.60779135705372256,0.60431173416214834]
[4520,0.45200000000000001,4.8946667710862242,1.0230034674138355,0.23248700052367863,0.99788232431315671,2.3016751249441761E-3,0.11210005819499674,0.34688873384361951,null,0.72651486796115228,0.61037164700158641,0.81357968253106849,0.60217722350612823,0.80899719572850004,-0.56324990667321329,0.99436750093326787,0.49113699793815602,0.5910761675816486,0.58774693161937741]
[4530,0.45300000000000001,4.8730806153726185,1.0228714137067982,0.23041117643617423,0.99785035416740264,2.3364604898318043E-3,0.1117784648268228,0.34452610175282883,null,0.72809753259276666,0.61242745485503103,0.81631992039920465,0.60426105603936353,0.81179672817501081,-0.55409553425841418,0.99445904465741586,0.50771099328994795,0.61102272769660626,0.60763707804913536]
[4540,0.45400000000000001,4.8516369423043324,1.0227402851935847,0.2283585408886403,0.99781790190236552,2.371771568186784E-3,0.1114585001373897,0.34218881259421674,null,0.72966661309444936,0.61446802407119805,0.81903984630537552,0.60632963160074183,0.81457576358681849,-0.54503852757520344,0.99454961472424797,0.52625501155853305,0.63334018147380988,0.6298882334741629]
[4550,0.45500000000000002,4.8303345006641702,1.0226100731157639,0.22632878273521786,0.99778496026361463,2.4076163051504683E-3,0.11114015231820135,0.33987655135856965,null,0.73122221901628826,0.61649343282030766,0.82173956444462914,0.60838302461400695,0.81733440194877416,-0.53607769255119564,0.99463922307448804,0.53836101293563798,0.64790957642625124,0.64443627771912715]
[4560,0.45600000000000002,4.8091720529393651,1.0224807688199502,0.22432159570625282,0.99775152188805116,2.4440027659400065E-3,0.11082340967207704,0.33758900814426984,null,0.73276445899022646,0.61850375939715485,0.82441917917806196,0.61042130971987951,0.82007274353722737,-0.52721185418902472,0.99472788145810975,0.64508497714996305,0.77635030074909595,0.77225728993351461]
[4570,0.45700000000000002,4.7881483751418479,1.0223523637562719,0.22233667832085091,0.99771757930229565,2.4809391376627602E-3,0.11050826061186034,0.33532587807037401,null,0.73429344072461389,0.6204990821881069,0.82707879498882964,0.61244456174106532,0.82279088887301599,-0.51843985624991928,0.99481560143750081,0.647669017314911,0.77946015515629097,0.77541912304837335]
[4580,0.45800000000000002,4.7672622566312608,1.0222248494768644,0.22037373380119865,0.99768312492105216,2.5184337311578379E-3,0.11019469365914754,0.33308686119150405,null,0.73580927099917037,0.62247947963904182,0.82971851643941141,0.61445285564823227,0.82548893867575834,-0.50976056094342859,0.99490239439056571,0.47381699085235601,0.57023179329557472,0.56732497650739344]
[4590,0.45900000000000002,4.7465124999406685,1.02209821763439,0.21843246998861243,0.99764815104544702,2.5564949828672323E-3,0.10988269744303134,0.33087166241451099,null,0.73731205566034197,0.62444503022420716,0.83233844813010049,0.61644626652693435,0.82816699381941705,-0.50117284862364331,0.99498827151376357,0.42004901170730602,0.50552281965871582,0.50298927654298964]
[4600,0.46,4.7258979206049148,1.0219724599805826,0.21651259926127439,0.99761264986134546,2.5951314567331028E-3,0.10957226069886286,0.32867999141687032,null,0.73880189961703979,0.62639581241597453,0.83493869465869008,0.6184248695454615,0.83082515528910628,-0.49267561749133382,0.99507324382508666,0.52550202608108498,0.63243397450483163,0.62931812651571495]
[4610,0.46100000000000002,4.7054173469915916,1.0218475683648192,0.21461383845362078,0.99757661343764248,2.6343518461250234E-3,0.10926337226703084,0.3265115625667766,null,0.74027890683674025,0.62833190465546518,0.83751936058131859,0.62038873992358434,0.83346352413910219,-0.48426778330249443,0.99515732216697506,0.62297499179840099,0.74974125793262847,0.74611050256233391]
[4620,0.46200000000000002,4.6850696201345547,1.021723534732712,0.21273590877734139,0.99754003372452926,2.6741649757960392E-3,0.10895602109175623,0.32436609484489365,null,0.74174318034193509,0.63025338532402619,0.84008055037445029,0.62233795290218041,0.83608220145203749,-0.47594827908236104,0.99524051720917639,0.49588400125503501,0.59678911639189391,0.59394870886267581]
[4630,0.46300000000000002,4.6648535935699647,1.0216003511247296,0.21087853574395918,0.99750290255173435,2.7145798038683304E-3,0.10865019621990513,0.32224331176773263,null,0.74319482220691468,0.63216033271553163,0.84262236839795435,0.62427258371371031,0.83868128829923649,-0.46771605484564605,0.99532283945154354,0.40138301253318798,0.48305856365227012,0.48079922119576168]
[4640,0.46400000000000002,4.6447681331747912,1.0214780096748357,0.20904144908895056,0.99746521162673951,2.7556054238486666E-3,0.10834588679981588,0.32014294131261511,null,0.7446339335548724,0.63405282500949023,0.84514491885925924,0.62619270755352918,0.84126088570217472,-0.45957007732201349,0.99540429922677987,0.43804299831390398,0.527178318404674,0.52475556459915673]
[4650,0.46500000000000002,4.6248121170077461,1.0213565026091573,0.20722438269737484,0.99742695253296931,2.7972510666748104E-3,0.1080430820801431,0.31806471584419271,null,0.74606061455531381,0.63593094024493479,0.8476483057785501,0.62809839955200653,0.84382109459502186,-0.45150932968750501,0.99548490670312495,0.52930402755737305,0.63700962747167866,0.63413346957263639]
[4660,0.46600000000000003,4.6049844351526081,1.0212358222446689,0.20542707453097878,0.99738811672795535,2.8395261027918495E-3,0.10774177140871674,0.31600837204248733,null,0.74747496442176076,0.63779475629507543,0.85013263295498231,0.62998973474743658,0.84636201578824921,-0.4435328113010728,0.99556467188698927,0.51766300201416005,0.62299982410991117,0.62023661547563569]
[4670,0.46700000000000003,4.5852839895638926,1.0211159609879039,0.20364926655674373,0.99734869554147265,2.8824400442613194E-3,0.10744194423141801,0.31397365083242307,null,0.74887708140973164,0.63964435084268989,0.85259800393387941,0.63186678805971319,0.84888374993326243,-0.43563953744665262,0.99564360462553347,0.45031198859214799,0.54194386810710993,0.53958294634686765]
[4680,0.46800000000000003,4.5657096939148216,1.020996911333685,0.20189070467684284,0.99730868017365004,2.926002546901126E-3,0.10714359009106793,0.3119602973148119,null,0.75026706281499311,0.64147980135623939,0.85504452197489722,0.63372963426475659,0.85138639748804534,-0.427828539080366,0.99572171460919634,0.51693201065063499,0.62212008673418595,0.61945847945578558]
[4690,0.46899999999999997,4.5462604734475658,1.0208786658638773,0.20015113865997852,0.99726806169305282,2.9702234124582877E-3,0.10684669862633342,0.30996806069877025,null,0.75164500497206377,0.64330118506668155,0.85747229002111669,0.63557834796966328,0.85387005868377497,-0.42009886258284057,0.99579901137417159,0.60775798559188798,0.73142781433466841,0.72835509440603396]
[4700,0.47,4.5269352648257124,1.0207612172461602,0.19843032207406913,0.9972268310347383,3.0151125908138522E-3,0.10655125957064562,0.30799669423552861,null,0.75301100325296355,0.64510857894496632,0.85988141066904822,0.6374130035885669,0.85633483349239148,-0.41244956951648204,0.99587550430483518,0.62307399511337302,0.7498604069689202,0.74676761094840238]
[4710,0.47099999999999997,4.5077330159889293,1.0206445582328221,0.19672801222025627,0.99718497899828207,3.0606801822224789E-3,0.10625726275113503,0.30604595515361377,null,0.75436515206619181,0.64690205968019165,0.86227198613951472,0.63923367531918185,0.85878082159508606,-0.40487973638793084,0.99595120263612069,0.59302699565887496,0.71369928418759609,0.71080966040717486]
[4720,0.47199999999999998,4.4886526860097682,1.020528681659574,0.19504397006820196,0.997142496245777,3.1069364395844893E-3,0.10596469808757927,0.30411560459536569,null,0.7557075448559295,0.64868170365840394,0.8646441182493938,0.64104043712002168,0.86120812235169453,-0.39738845441474879,0.99602611545585251,0.62543499469757102,0.75270183531121204,0.7497106851215174]
[4730,0.47299999999999998,4.469693244952599,1.0204135804443821,0.19337796019264991,0.99709937329980292,3.1538917707528771E-3,0.10567355559136508,0.30220540755476788,null,0.75703827410144886,0.65044758694202287,0.86699790838419322,0.64283336268826319,0.86361683477095885,-0.38997482929752358,0.99610025170702476,0.65379101037979104,0.78682788394467751,0.78375945324739893]
[4740,0.47399999999999998,4.4508536737346223,1.0202992475863211,0.19172975071122253,0.99705560054136688,3.2015567408752565E-3,0.10538382536446408,0.30031513281656186,null,0.75835743131672395,0.65219978524987188,0.86933345747143254,0.64461252543824454,0.86600705748164042,-0.38263798099608115,0.99617362019003919,0.74299699068069502,0.89418597177552306,0.89076447662677105]
[4750,0.47499999999999998,4.4321329639889191,1.0201856761644454,0.19009911322342585,0.9970111682078141,3.2499420747709581E-3,0.10509549759842342,0.2984445528966202,null,0.75966510705022894,0.65393837393779664,0.8716508659548089,0.64637799848057542,0.86837888870445556,-0.37537704351032763,0.99624622956489672,0.69854599237442005,0.84068984781346767,0.83753409111765398]
[4760,0.47599999999999998,4.4135301179295254,1.0200728593366799,0.18848582275083822,0.99696606639070851,3.2990586593443392E-3,0.10480856257336796,0.29659344398355053,null,0.76096139088491754,0.65566342797985577,0.87395023376912639,0.64812985460184425,0.87073242622481284,-0.3681911646657432,0.99631808835334257,0.36666300892829901,0.44127354897132981,0.4396488187520104]
[4770,0.47699999999999998,4.395044148218469,1.0199607903387264,0.18688965767845472,0.99692028503368335,3.3489175460340382E-3,0.10452301065701586,0.29476158588150458,null,0.76224637143837259,0.65737502195006892,0.87623166031596678,0.64986816624490673,0.87306776736633218,-0.36107950590300586,0.99638920494096994,0.40315198898315402,0.48518750084286594,0.48343558821211935]
[4780,0.47799999999999998,4.376674077834771,1.0198494624829921,{"$f":"9.4977*0.001*C130^2*D130*EXP(-h_/7.996/1000)","v":0.18531039969716603},0.99687381393026031,3.3995299532999738E-3,{"$f":"2.5*LOG(EXP(AOD_*(B130/0.55)^(-1.3)))","v":0.10423883230370901},0.29294876195417502,null,0.76352013636311333,{"$f":"10^(-0.4*I130*MAr)","v":0.6590732300046952},0.87849524444006843,{"$f":"10^(-0.4*I130*MAc)","v":0.65159300548973087},0.87538500896511051,-0.35404124207186749,0.99645958757928133,0.46262401342392001,0.5567612092630092,0.55479004496236006]
[4790,{"$f":"+A131/10000","v":0.47899999999999998},{"$f":"+(1/B131)^2","v":4.3584189399453459},{"$f":"0.23465+1.076*100/(146-C131)+0.93161/(41-C131)","v":1.0197388691575318},0.18374783374734369,{"$f":"+EXP(-0.0168*EXP(-15*ABS(B131-0.59)))","v":0.9968266427216379},{"$f":"-2.5*LOG(F131)","v":3.4509072691472241E-3},0.10395601805345378,{"$f":"+E131+G131+H131","v":0.2911547590699447},null,{"$f":"10^(-0.4*I131)","v":0.76478277234705805},0.66075812586504046,{"$f":"+L131/M$1","v":0.88074108440640952},0.65330444403479304,{"$f":"+N131/O$1","v":0.87768424734472827},{"$f":"(O131/M131-1)*100","v":-0.34707556122938188},{"$f":"+O131/M131","v":0.99652924438770618},0.53767502307891801,{"$f":"+R131/S$1","v":0.64708399770338543},{"$f":"+S131*Q131","v":0.64483812728673084}]
[4800,0.48,4.3402777777777786,1.0196290038250075,0.18220174796350891,0.99677876089444761,3.5030610536887063E-3,0.10367455853097565,0.28937936754817328,null,0.76603436511412937,0.66242978280076759,0.88296927787796209,0.65500255317900091,0.87996557829196409,-0.34018166444214071,0.99659818335557859,0.44836100935936002,0.53959589323902035,0.53776028694813838]
[4810,0.48099999999999998,4.322249644494967,1.0195198600216702,0.18067193362006512,0.99673015777847851,3.5560030417459243E-3,0.10339444444478674,0.28762238110659777,null,0.76727499942499022,0.66408827361369382,0.885179921894095,0.65668740380412838,0.88222909703319674,-0.33335876559243971,0.9966664123440756,0.43042299151420599,0.51800775207589023,0.51628092782789692]
[4820,0.48199999999999998,4.3043336030715729,1.0194114313563483,0.17915818507806608,0.99668082254436874,3.6097451454895862E-3,0.10311566658626344,0.28588359680981912,null,0.76850475907791305,0.66573367062206867,0.8873731128496174,0.65835906635775188,0.88447489821148051,-0.32660609118861927,0.99673393908811381,0.49944201111793501,0.60107112903359972,0.59910799411379978]
[4830,0.48299999999999998,4.2865287261722589,1.0193037115094634,0.1776602997330021,0.99663074420126452,3.6642994571196158E-3,0.1028382158287388,0.28416281501886054,null,0.76972372690976165,0.66736604564530588,0.88954894647442784,0.66001761083666621,0.88670307586426589,-0.31992288017889114,0.99680077119821109,0.55971002578735396,0.67360280000952644,0.67144779053077031]
[4840,0.48399999999999999,4.2688340960316928,1.0191966942320536,0.17617807796358009,0.99657991159444503,3.7196782515863565E-3,0.10256208312660427,0.28245983934177071,null,0.7709319847970868,0.66898546998916508,0.89170751781376234,0.66166310677076978,0.88891372340174934,-0.31330838376945058,0.99686691616230549,0.53919702768325795,0.6489157079030885,0.64688260058663127]
[4850,0.48499999999999999,4.2512488043362744,1.019090373344816,0.17471132308147741,0.99652831340291403,3.775893989352267E-3,0.10228725951442502,0.28077447658525467,null,0.77212961365732569,0.67059201443136129,0.89384892120901327,0.66329562320740187,0.8911069335858316,-0.30676186524596361,0.99693238134754036,0.49232700467109702,0.59250832321654479,0.59069073363250812]
[4860,0.48599999999999999,4.2337719521075714,1.0189847427371641,0.17325984128204924,0.99647593813695701,3.8329593191954274E-3,0.10201373610606525,0.27910653670730989,null,0.7733166934500969,0.67218574920759366,0.89597325027910601,0.66491522869612074,0.89328279850966785,-0.30028259979860694,0.99699717400201393,0.54425197839736905,0.65499926688551957,0.65303241805825396]
[4870,0.48699999999999999,4.2164026495874261,1.0188797963663012,0.17182344159596882,0.99642277413566316,3.8908870810558465E-3,0.10174150409382562,0.27745583277085029,null,0.77449330317858445,0.67376674399797609,0.89808059790241268,0.66652199127390355,0.89544140957778395,-0.29386987435124912,0.99706130125648751,0.62798601388931297,0.75577194946187098,0.75355096338360539]
[4880,0.48799999999999999,4.199140016124697,1.0187755282563058,0.17040193584177921,0.99636880956441254,3.9496903089243432E-3,0.10147055474759221,0.27582218089829574,null,0.77565952089100587,0.67533506791385867,0.90017105619918591,0.66811597845076098,0.89758285748675115,-0.28752298739341819,0.99712477012606582,0.69025897979736295,0.83071654982266019,0.82832804878183852]
[4890,0.48899999999999999,4.18198318006365,1.0186719324972349,0.16899513857934284,0.9963140324123273,4.0093822337752341E-3,0.10120087941399489,0.27420540022711293,null,0.77681542368215506,0.67689078948502579,0.90224471651449478,0.66969725719574746,0.89970723220639071,-0.28124124881625523,0.99718758751183745,0.75613200664520297,0.9099937706789214,0.90743449283411382]
[4900,0.49,4.1649312786339028,1.0185690032442389,0.16760286706416247,0.99625843048968665,4.0699762865434403E-3,0.1009324695155783,0.2726053128662842,null,0.77796108769501549,0.67843397664725869,0.90430166940164647,0.67126589392335656,0.90181462296149717,-0.27502397975167625,0.99724976020248324,0.85324698686599698,1.0268702238165501,1.0240460844601249]
[4910,0.49099999999999999,4.1479834578419696,1.0184667347166914,0.16622494120256165,0.99620199142530541,4.1314861011463155E-3,0.10066531654998209,0.27102174385369004,null,0.77909658812243776,0.67996469673024984,0.9063420046060775,0.67282195448028959,0.9039051182140625,-0.26887051241480941,0.99731129487585191,0.92396497726440396,1.1119782871863344,1.1089885054676352]
[4920,0.49199999999999999,4.1311388723643345,1.0183651211973341,0.16486118350770415,0.99614470266387467,4.193925517551887E-3,0.10039941208913244,0.2694545211143885,null,0.78022199920887303,0.68148301644585574,0.90836581104969516,0.67436550413258189,0.90597880564598088,-0.262780189949674,0.99737219810050326,1.0350940227508501,1.2457204621576576,1.2424469555609579]
[4930,0.49299999999999999,4.1143966854420304,1.0182641570314319,0.16351141905643343,0.99608655146326597,4.2573085848922436E-3,0.10013474777844408,0.26790347541976978,null,0.78133739425215998,0.68298900187667932,0.91037317681565888,0.6758966075530779,0.90803577214222198,-0.25675236627827891,0.99743247633721721,1.1249070167541499,1.353809082068937,1.3503331452158347]
[4940,0.49399999999999999,4.0977560687767376,1.0181638366259453,0.16217547544691926,0.99602752489179658,4.3216495646247639E-3,9.987131533603133E-2,0.26636844034757534,null,0.78244284560535837,0.68448271846496656,0.91236418913358019,0.67741532880924149,0.91007610377445469,-0.25078640595247448,0.99749213594047526,1.1862690448761,1.4276573821758791,1.424077011537805]
[4950,0.495,4.0812162024283243,1.0180641544487126,0.16085318275709026,0.99596760982545596,4.3869629337413485E-3,9.9609106551930587E-2,0.26484925224276223,null,0.783538424678621,0.68596423100180859,0.91433893436513025,0.67892173135128753,0.91209988578510248,-0.24488168400949029,0.9975511831599051,0.66503500938415505,0.80035987169492284,0.79839993696298017]
[4960,0.496,4.0647762747138394,1.0179651050276453,0.15954437350383835,0.99590679294509332,4.4532633880258465E-3,9.9348113287331868E-2,0.26334575017919604,null,0.78462420194110438,0.68743360361663752,0.91629749799003812,0.68041587800062953,0.91410720257182332,-0.2390375858298599,0.9976096241417014,0.34832900762558,0.41920884752969118,0.41820678082097101]
[4970,0.497,4.0484354821079389,1.0178666829499385,0.1582488826029804,0.99584506073356638,4.5205658453598366E-3,9.9088327473819751E-2,0.26185777592215997,null,0.78570024692290874,0.68889089976700368,0.9182399645924646,0.68189783093862577,0.91609813767239068,-0.23325350699852088,0.99766746493001479,0.44185501337051403,0.53176602256844852,0.53052565967178111]
[4980,0.498,4.0321930291446915,1.0177688828612901,0.15696654732995785,0.99578239947284808,4.5888854490803476E-3,9.8829741112625241E-2,0.26038517389166344,null,0.78676662821704291,0.69033618222862658,0.92016641784774145,0.68336765169561486,0.91807277374996332,-0.22752885316931204,0.99772471146830688,0.500810027122498,0.60271751621388148,0.60134615996138951]
[4990,0.499,4.0160481283207687,1.0176716994651347,0.15569720728126279,0.99571879524109441,4.6582375713864373E-3,9.8572346273885433E-2,0.25892779112653469,null,0.78782341348141149,0.69176951308570578,0.92207694050945577,0.68482540114023338,0.92003119257873389,-0.22186303993152467,0.99778136960068475,0.51585298776626598,0.62082149853190582,0.61944412508271451]
[5000,0.5,4,1.0175751275218883,0.15444070433657389,0.99565423390967012,4.7286378167982158E-3,9.8316135095914289E-2,0.25748547724928639,null,0.78887066944081696,0.6931909537214842,0.92397161439687248,0.68627113946899876,0.9219734750299341,-0.21625549268011746,0.99783744507319883,0.41889300942420998,0.50413158788005408,0.50304137563092799]
[5010,0.501,3.9840478723192332,1.017479161848204,0.15319688262158646,0.99558870114013298,4.8001020256677853E-3,9.8061099784480674E-2,0.25605808443173489,null,0.78990846188897523,0.69460056480905341,0.92585052038267723,0.68770492619615564,0.92389970105819375,-0.21070564648785206,0.99789294353512148,0.44785401225089999,0.53898572966123748,0.53785005629507754]
[5020,0.502,3.968190981095538,1.0173837973162414,0.15196558847152633,0.9955221823811754,4.8726462777437581E-3,9.7807232612097048E-2,0.25464546736136712,null,0.79093685569053651,0.69599840630238907,0.92771373838102866,0.68912682014376492,0.92580994968822605,-0.20521294598104811,0.99794787054018952,0.54432702064514205,0.65508957912916355,0.65374525050501775]
[5030,0.503,3.9524285697346739,1.0172890288529444,0.15074667039532844,0.99545466286552386,4.9462868957888435E-3,9.7554525917316268E-2,0.25324748320843354,null,0.79195591478311089,0.69738453742761108,0.92956134733590801,0.69053687943203745,0.92770429900184104,-0.19977684521728101,0.99800223154782719,0.64808297157287598,0.77995834302928613,0.77840016685757329]
[5040,0.504,3.9367598891408417,1.0171948514393319,0.14953997904047106,0.99538612760679446,5.0210404492527783E-3,9.7302972104036572E-2,0.25186399159376038,null,0.79296570217929385,0.69875901667445617,0.93139342520975277,0.69193516146989476,0.92958282612526444,-0.19439680756609956,0.998056031924339,0.74170702695846602,0.89263351937129498,0.89089826830637231]
[5050,0.505,3.9211841976276833,1.0171012601097993,0.1483453671584502,0.99531656139630476,5.0969237580004694E-3,9.7052563640817435E-2,0.25049485455726811,null,0.79396627996868374,0.70012190178795253,0.93321004897235982,0.69332172294574801,0.93144560721674996,-0.18907230559217503,0.99810927694407825,0.79039299488067605,0.95122636710069086,0.94942786147701286]
[5060,0.50600000000000001,3.9057007608305079,1.0170082499514286,0.14716268957088083,0.99524594879984118,5.1739538960965384E-3,9.6803293060201467E-2,0.24913993652717883,null,0.79495770931989396,0.70147324976029357,0.93501129459005372,0.69469661981849129,0.93329271745447862,-0.18380282094117018,0.9981619717905883,0.86881399154663097,1.0456048854404609,1.0436830341651226]
[5070,0.50700000000000001,3.8903088516197304,1.0169158161033129,0.14599180313621415,0.99517427415438142,5.2521481956470141E-3,9.6555152958045454E-2,0.24779910428990662,null,0.79594005048255168,0.7028131168228966,0.93679723701510142,0.69605990730869627,0.93512423102472975,-0.17858784422788432,0.99821412155772116,0.93050700426101696,1.1198515206458519,1.1178516019565774]
[5080,0.50800000000000001,3.8750077500155005,1.016823953755887,0.14483256671705624,0.99510152156477116,5.3315242506991314E-3,9.6308135992861379E-2,0.24647222696061677,null,0.79691336278927971,0.70414155843863879,0.93856795017536365,0.69741163988999733,0.93694022111030673,-0.1734268749271517,0.99826573125072848,0.98020702600479104,1.1796647672641278,1.1776189115236451]
[5090,0.50900000000000001,3.8597967431035083,1.0167326581502709,0.14368484114807814,0.9950276749003546,5.4120999212002238E-3,9.6062234885162592E-2,0.24515917595444098,null,0.79787770465765995,0.70545862929426528,0.94032350696417488,0.6987518712806664,0.93874075987921868,-0.16831942126662724,0.99831680578733373,1.0601259469986,1.2758460155443265,1.273698518914709]
[5100,0.51,3.8446751249519413,1.016641924577621,0.14254848920450328,0.99495271779155847,5.4938933370160918E-3,9.5817442416821066E-2,0.24385982495834041,null,0.79883313359217378,0.70676438329295932,0.9420639792304405,0.70008065443536005,0.94052591847359301,-0.16326500012280309,0.99836734999877197,1.06906294822693,1.2866015653357088,1.2845009952884834]
[5110,0.51100000000000001,3.8296421965295777,1.0165517483784943,0.14142337557116297,0.99487663362642875,5.5769229020102189E-3,9.5573751430429982E-2,0.24257404990360318,null,0.79977970618611605,0.70805887354706565,0.94378943776893753,0.70139804153703877,0.94229576699881901,-0.15826313691849059,0.99841736863081509,1.1807270050048799,1.4209876185428858,1.4187387189625564]
[5120,0.51200000000000001,3.814697265625,1.0164621249422183,0.14030936681210676,0.99479940554711888,5.661207298185188E-3,9.533115482867624E-2,0.2413017289389682,null,0.80071747812348015,0.70934215237096077,0.94549995231081096,0.70270408398904394,0.94405037451290374,-0.15331336552312225,0.99846686634476878,1.22238004207611,1.471116437230048,1.4688610191093667]
[5130,0.51300000000000001,3.7998396467669062,1.0163730497062737,0.13920633134075697,0.99472101644633049,5.7467654898856312E-3,9.5089645573719433E-2,0.24004274240436202,null,0.80164650418081029,0.71061427127406462,0.94719559151425892,0.70399883240732986,0.94578980901603649,-0.14841522815526309,0.99851584771844737,1.2852989435195901,1.546838411525991,1.5445426677683314]
[5140,0.51400000000000001,3.7850686611455129,1.0162845181556834,0.13811413939059788,0.99464144896370421,5.8336167280656675E-3,9.4849216686578641E-2,0.2387969728052422,null,0.80256683822901909,0.71187528095398123,0.94887642295538988,0.70528233661283979,0.94751413744034574,-0.14356827528722027,0.9985643172471278,1.20852494239807,1.4544420281475767,1.4523539108127128]
[5150,0.51500000000000001,3.7703836365350174,1.0161965258224133,0.13703266298638708,0.99456068548216126,5.9217805546202904E-3,9.4609861246527219E-2,0.2375643047875346,null,0.80347853323516549,0.71312523128976657,0.95054251311924909,0.70655464562402115,0.9492234256398443,-0.13877206555192867,0.99861227934448071,1.3492339849471999,1.623783295376839,1.6215299377577574]
[5160,0.51600000000000001,3.755783907217114,1.01610906828478,0.13596177591587952,0.99447870812419459,6.0112768067823417E-3,9.4371572390494679E-2,0.23634462511315654,null,0.80438164126419354,0.71436417133531338,0.95219392739100073,0.70781580764946994,0.95091773838054694,-0.13402616565204584,0.99865973834347954,0.93645501136779796,1.1270098598876195,1.1254993717858917]
[5170,0.51700000000000002,3.7412688139055472,1.0160221411668688,0.13490135370205464,0.99439549874810895,6.1021256215862659E-3,9.4134343312475083E-2,0.23513782263611599,null,0.80527621348062561,0.71559214931284776,0.95383073004726004,0.70906587008070121,0.95259713933075796,-0.12933015027110084,0.99870669849728899,0.37448799610137901,0.45069080617055651,0.45010792707367808]
[5180,0.51800000000000002,3.7268377036716802,1.015935740137959,0.13385127357583523,0.99431103894421013,6.194347440398467E-3,9.3898167262944338E-2,0.23394378827917803,null,0.80616230015021018,0.71680921260652997,0.95545298424756309,0.71030487948503418,0.95426169105151304,-0.12468360198678585,0.99875316398013214,0.49310499429702798,0.59344462231118456,0.59270469418029015]
[5190,0.51900000000000002,3.7124899298710652,1.0158498609119579,0.13281141444928979,0.99422531003094095,6.2879630135174256E-3,9.366303754828241E-2,0.23276241501108963,null,0.80703995064152034,0.71801540775615391,0.95706075202596874,0.71153288159858974,0.95591145498717112,-0.12008611118622392,0.99879913888813776,0.59201502799987804,0.71248139596474269,0.71162580476340331]
[5200,0.52,3.698224852071005,1.0157644992468449,0.13178165688930779,0.99413829305096568,6.3829934048419638E-3,9.3428947530205239E-2,0.23159359782435501,null,0.80790921342750011,0.71921078045093734,0.95865409428278181,0.71274992131938852,0.95754649145614235,-0.11553727598359043,0.9988446272401641,0.601384997367859,0.72375801655662286,0.72292180625958047]
[5210,0.52100000000000002,3.6840418359790892,1.0156796509441213,0.13076188309173947,0.99404996876720031,6.47945999661108E-3,9.3195890625200228E-2,0.23043723371355079,null,0.8087701360869578,0.72039537552340005,0.96023307077639275,0.71395604270055091,0.95916685964175286,-0.11103670213917782,0.99888963297860822,0.71179002523422197,0.85662884695008512,0.8556776745288589]
[5220,0.52200000000000002,3.6699402533726748,1.0155953118482695,0.12975197685598988,0.99396031765878912,6.5773844942148656E-3,9.2963860303971996E-2,0.22929322165417673,null,0.80962276530600275,0.7215692369433192,0.96179774011522068,0.71515128894358271,0.96077261758322352,-0.10658400298115822,0.99893415997018842,0.82235002517700195,0.98968618396266839,0.98863133681084947]
[5230,0.52300000000000002,3.6559194820293275,1.01551147784622,0.12875182356005951,0.99386931991702654,6.6767889310783406E-3,9.2732850090891661E-2,0.22816146258202952,null,0.81046714687942301,0.72273240781176062,0.96334815974975763,0.71633570239175126,0.96236382216677208,-0.1021787993285006,0.99897821200671499,0.91407698392867998,1.1000782323533884,1.0989541856238956]
[5240,0.52400000000000002,3.6419789056581777,1.0154281448668261,0.12776131013602229,0.99377695544122358,6.7776956736192318E-3,9.2502853563455112E-2,0.22704185937309665,null,0.81130332571200225,0.72388493035517743,0.96488438596470261,0.71750932452353555,0.96394052911681294,-9.7820719416652491E-2,0.99902179280583348,0.80498397350311302,0.96878639569072145,0.96783872186884612]
[5250,0.52500000000000002,3.6281179138321993,1.0153453088803468,0.12678032504593204,0.99368320383451858,6.8801274262803276E-3,9.2273864351746476E-2,0.22593431682395884,null,0.81213134581977475,0.72502684591957056,0.9664064738711774,0.71867219594615339,0.96550279298726138,-9.350939882429854E-2,0.99906490601175701,0.88018000125884999,1.0592837112866054,1.0582931814563374]
[5260,0.52600000000000002,3.6143359019213803,1.0152629658979351,0.12580875825814924,0.99358804439963133,6.9841072366380553E-3,9.2045876137908447E-2,0.22483874163269574,null,0.81295125033121429,0.72615819496470924,0.9679144773990237,0.7198243563891541,0.9670506671529262,-8.9244480402728144E-2,0.99910755519597272,0.85658001899719205,1.0308814790606142,1.0299614742410585]
[5270,0.52700000000000002,3.6006322710267922,1.0151811119711374,0.12484650122408132,0.99349145613455958,7.0896585005885684E-3,9.1818882655618897E-2,0.22375504238028876,null,0.8137630814883553,0.7272790170583987,0.96940844928916181,0.7209658446980739,0.96858420380098509,-8.5025614206390987E-2,0.99914974385793609,0.96505898237228405,1.1614343191116772,1.1604468024482486]
[5280,0.52800000000000002,3.5870064279155183,1.015099743191396,0.12389344685532544,0.99339341772821854,7.1968049676112899E-3,9.1592877689573887E-2,0.22268312951251062,null,0.81456688064784777,0.72838935087080037,0.97088844108602024,0.72209669882814809,0.97010345392253783,-8.0852457425939495E-2,0.99919147542574061,1.1117140054702801,1.3379314866500043,1.3368497361643723]
[5290,0.52900000000000003,3.5734577849564566,1.0150188556895625,0.12294948950120956,0.99329390755602043,7.3055707461135554E-3,9.136785507497619E-2,0.2216229153222993,null,0.8153626882819377,0.72948923416878841,0.97235450313001293,0.72321695583807444,0.97160846730422779,-7.6724674322348196E-2,0.99923275325677652,1.1672730445861801,1.4047959746706771,1.4037181495342175]
[5300,0.53,3.5599857600569589,1.0149384456354156,0.12201452492672105,0.99319290367539637,7.4159803088542572E-3,9.1143808697031009E-2,0.22057431393260632,null,0.81615054397937725,0.73057870381034629,0.97380668455007091,0.72432665188382261,0.97309929251992466,-7.2641936163442278E-2,0.99927358063836558,1.1730749607086199,1.4117784955572705,1.4107529523237585]
[5310,0.53100000000000003,3.5465897766003094,1.0148585092371873,0.12108845029081759,0.99309038382125714,7.5280584984508767E-3,9.0920732490446785E-2,0.21953724127971525,null,0.81693048644625832,0.73165779573899492,0.97524503325621503,0.72542582221248553,0.97457597692246456,-6.8603921161902726E-2,0.99931396078838097,1.1112370491027801,1.3373574766629963,1.3364399969940537]
[5320,0.53200000000000003,3.5332692633840241,1.0147790427410943,0.12017116412511139,0.9929863254013942,7.6418305329688371E-3,9.0698620438941516E-2,0.21851161509702172,null,0.81770255350677268,0.73272654497824696,0.97666959593216407,0.72651450115616767,0.97603856663543898,-6.4610314414759173E-2,0.99935389685585241,1.08730804920197,1.3085592765379601,1.3077138122750855]
[5330,0.53300000000000003,3.5200236545589578,1.0147000424308792,0.11926256631292093,0.99288070549181884,7.7573220115959816E-3,9.0477466574756651E-2,0.21749735489927358,null,0.81846678210388957,0.73378498562608485,0.9780804180279743,0.72759272212590209,0.97748710654502247,-6.066080784523642E-2,0.99939339192154764,1.1224839687347401,1.3508929793456812,1.3500735167512856]
[5340,0.53400000000000003,3.5068523895692181,1.0146215046273539,0.11836255806868247,0.99277350083204008,7.8745589204021332E-3,9.0257264978175003E-2,0.21649438196725962,null,0.81922320829995809,0.73483315084945611,0.97947754375270224,0.72866051760559836,0.97892164029184237,-5.6755100145533532E-2,0.99943244899854466,1.21625304222107,1.463742682843199,1.4629119342176784]
[5350,0.53500000000000003,3.4937549130928467,1.0145434256879535,0.11747104191771379,0.99266468782027917,7.9935676381865644E-3,9.0038009777044806E-2,0.21550261933294518,null,0.81997186727722493,0.73587107287878473,0.98086101606708875,0.72971791914601103,0.98034221026287538,-5.2892896721856708E-2,0.99947107103278143,1.2809979915618901,1.5416622789788963,1.5408468491418761]
[5360,0.53600000000000003,3.4807306749832918,1.0144658020062944,0.11658792167632527,0.99255424250862201,8.1143749424125236E-3,8.9819695146310274E-2,0.21452199176504808,null,0.82071279333827107,0.73689878300248945,0.98223087667625208,0.73076495735872549,0.98174885758336794,-4.9073909640795499E-2,0.99950926090359205,1.12827801704407,1.3578660314346891,1.3571996734853797]
[5370,0.53700000000000003,3.4677791302116376,1.0143886300117388,0.11571310243227016,0.99244214059810587,8.2370080152333724E-3,8.9602315307545949E-2,0.21355242575504949,null,0.82144601990636212,0.73791631156150972,0.98358716602239182,0.7318016619101595,0.98314162210877776,-4.5297857577364375E-2,0.99954702142422636,1.2201999425888099,1.4684927194989266,1.467827523758314]
[5380,0.53800000000000003,3.4548997388095799,1.0143119061689667,0.11484649052552789,0.99232835743374326,8.3614944496077995E-3,8.9385864528498102E-2,0.2125938495036338,null,0.82217157952571474,0.73892368794383279,0.9849299232774934,0.73282806151557256,0.98452054241672515,-4.1564465764831748E-2,0.99958435534235168,1.2759330272674601,1.5355666687995415,1.5349284187171921]
[5390,0.53900000000000003,3.4420919658131424,1.0142356269775517,0.1139879935294142,0.99221286799947928,8.4878622555087518E-3,8.9170337122630561E-2,0.21164619290755352,null,0.82288950386167425,0.73992094057901792,0.98625918633602982,0.73384418393308271,0.9858856557989556,-3.7873465945792439E-2,0.99962126534054208,1.24272000789642,1.4955952875229035,1.4950288537509966]
[5400,0.54,3.4293552812071324,1.0141597889715446,0.11313752023201294,0.9920956469130835,8.6161398662255844E-3,8.8955727448676594E-2,0.21070938754691512,null,0.82359982370080387,0.74090809693271587,0.98757499180765584,0.73485005595768271,0.98723699825330014,-3.4224596325294065E-2,0.99965775403674706,1.2488199472427399,1.5029364749847312,1.502422101043142]
[5410,0.54100000000000004,3.4166891598703018,1.0140843887190627,0.11229498061792129,0.99197666842097476,8.746356144761859E-3,8.87420299101946E-2,0.20978336667287772,null,0.82430256895088372,0.74188518350117671,0.98887737500988815,0.73584570341525646,0.98857460447563705,-3.0617601524973725E-2,0.99969382398475026,1.3284000158309901,1.5987099193688796,1.598220432736227]
[5420,0.54200000000000004,3.4040930815212205,1.0140094228218841,{"$f":"9.4977*0.001*C194^2*D194*EXP(-h_/7.996/1000)","v":0.11146028585030458},0.9918559063929786,8.8785403903297502E-3,{"$f":"2.5*LOG(EXP(AOD_*(B194/0.55)^(-1.3)))","v":8.8529238955130998E-2},0.20886806519576534,null,0.8249977686408172,{"$f":"10^(-0.4*I194*MAr)","v":0.7428522258057455},0.9901663699607679,{"$f":"10^(-0.4*I194*MAc)","v":0.73683115115658604},0.98989850785184053,-2.7052232539259702E-2,0.9997294776746074,1.3489799499511701,1.6234775679881159,1.623038381061201]
[5430,{"$f":"+A195/10000","v":0.54300000000000004},{"$f":"+(1/B195)^2","v":3.3915665306648486},{"$f":"0.23465+1.076*100/(146-C195)+0.93161/(41-C195)","v":1.0139348879150485},0.11063334825325379,{"$f":"+EXP(-0.0168*EXP(-15*ABS(B195-0.59)))","v":0.99173333431701705},{"$f":"-2.5*LOG(F195)","v":9.0127223449420653E-3},8.8317349075386478E-2,{"$f":"+E195+G195+H195","v":0.20796341967358234},null,{"$f":"10^(-0.4*I195)","v":0.8256854509204461},0.74380924838734119,{"$f":"+L195/M$1","v":0.99144200937150162},0.73780642305135302,{"$f":"+N195/O$1","v":0.99120874044972174},{"$f":"(O195/M195-1)*100","v":-2.3528246692694488E-2},{"$f":"+O195/M195","v":0.99976471753307306},1.38900399208069,{"$f":"+R195/S$1","v":1.6716459151750693},{"$f":"+S195*Q195","v":1.6712526062003186}]
[5440,0.54400000000000004,3.379108996539792,1.0138607806664617,0.10981408129443988,0.99160892529372879,9.1489322001047559E-3,8.8106354806387593E-2,0.20706936830093223,null,0.82636564306027172,0.74475627480091522,0.99270432463907521,0.73877154198212402,0.99250533301094856,-2.004540759897866E-2,0.99979954592401021,1.2186969518661499,1.4666838922267191,1.4663898894623337]
[5450,0.54500000000000004,3.3667199730662398,1.0137870977765089,0.10900239956806086,0.99148265203102071,9.2872006036096976E-3,8.789625072666464E-2,0.20618585089833519,null,0.82703837145107773,0.74569332760988449,0.99395334583883299,0.73972652983831944,0.99378831494294284,-1.660348512141363E-2,0.99983396514878586,0.70020300149917603,0.84268403397174996,0.84254411905354898]
[5460,0.54600000000000004,3.3543989587945631,1.0137138359776703,0.10819821877807395,0.99135448683854799,9.427558666431286E-3,8.7687031457432008E-2,0.20531280890193726,null,0.82770366160345998,0.74662042838054155,0.99518910171702746,0.7406714075101628,0.99505771431075196,-1.3202255335076352E-2,0.99986797744664924,0.77932602167129505,0.93790742729613275,0.93778360236277447]
[5470,0.54700000000000004,3.3421454568545723,1.013640992034144,0.10740145572170917,0.99122440162212511,9.5700379697254596E-3,8.7478691662176394E-2,0.20445018535361104,null,0.82836153814725633,0.74753759767643024,0.99641161968332226,0.74160619488260804,0.9963135578288902,-9.8415004898488867E-3,0.99990158499510151,0.84884202480316195,1.0215689166346975,1.0214683789247627]
[5480,0.54800000000000004,3.3299589749054284,1.0135685627414728,0.1066120282732589,0.99109236787806299,9.7146705719368068E-3,8.7271226046246167E-2,0.20359792489144188,null,0.8290120248308781,0.74844485505269209,0.99762092580325601,0.74253091082923695,0.9975558708531399,-6.5210089758016565E-3,0.99993478991024198,0.95340502262115501,1.1474089496205448,1.1473341269799509]
[5490,0.54900000000000004,3.3178390250861809,1.0134965449261768,0.10582985536813719,0.99095835668743582,9.861489016010961E-3,8.7064629356448597E-2,0.20275597374059673,null,0.82965514452054201,0.74934221905037413,0.99881704479065569,0.74344557320613081,0.99878467737231902,-3.2405752890873885E-3,0.99996759424710913,0.91975998878479004,1.1069176452764611,1.1068817747767776]
[5500,0.55000000000000004,3.3057851239669418,1.0134249354453917,0.10505485698720506,0.99082233871027381,1.0010526336717132E-2,8.6858896380650447E-2,0.20192427970457263,null,0.83029091919940012,0.75022970719070026,1,0.74435019884570686,1,0,1,0.83091998100280795,1,1]
[5510,0.55100000000000005,3.2937967925006832,1.0133537311865104,0.10428695414135679,0.99068428417968224,1.0161816068081314E-2,8.6654021947382587E-2,0.2011027921568207,null,0.83091936996656834,0.7511073359692978,1.0011698134187246,0.74524480355051992,1.0012018599661832,3.2009102780561349E-3,1.0000320091027806,0.94233500957489003,1.1340863514169188,1.1341226525035033]
[5520,0.55200000000000005,3.2818735559756349,1.0132829290668313,0.10352606885636098,0.99054416289588654,1.0315392250931305E-2,8.6450000925449841E-2,0.20029146203274212,null,0.83154051703605059,0.75197512085038398,1.0023265056594728,0.74612940208702672,1.0023902771089186,6.3623429177761537E-3,1.0000636234291778,1.0142719745636,1.2206614328127132,1.2207390954789339]
[5530,0.55300000000000005,3.2700149439682935,1.0132125260332103,0.1027721241579537,0.990401944220202,1.0471289440556059E-2,8.6246828223545291E-2,0.19949024182205505,null,0.83215437973556117,0.75283307626090168,1.0034700959522784,0.74700400817930757,1.0035652698658724,9.4844793061321653E-3,1.0000948447930613,1.0566320419311499,1.2716411520829456,1.2717617606248632]
[5540,0.55400000000000005,3.2582204902970191,1.0131425190617174,0.10202504405717734,0.99025759706892746,1.0629542714481093E-2,8.6044498789868959E-2,0.19869908556152738,null,0.83276097650523784,0.75368121558460732,1.0046006021366862,0.74786863450274588,1.0047268552658348,1.2567494871107421E-2,1.0001256749487111,1.1298309564590501,1.3597349712249032,1.3599058558476724]
[5550,0.55500000000000005,3.2464897329762188,1.0130729051572998,0.10128475353596182,0.99011108990716312,1.0790187680360636E-2,8.5843007611750011E-2,0.19791794882807245,null,0.83336032489625345,0.75451955115610791,1.0057180406538038,0.7487232926776608,1.0058750489201662,1.5611559106609718E-2,1.0001561155910661,1.10923099517822,1.3349432202118046,1.3351516256616676]
[5560,0.55600000000000005,3.2348222141711087,1.0130036813534471,0.10055117853294321,0.98996239074255077,1.0953260483989572E-2,8.5642349715274124E-2,0.19714678873220692,null,0.83395244156931714,0.75534809425484284,1.0068224265382784,0.7495679932628917,1.0070098650141779,1.8616835596718673E-2,1.0001861683559672,1.07764303684235,1.2969275760366006,1.2971690229112398]
[5570,0.55700000000000005,3.2232174801530378,1.012934844711862,9.9824245929515054E-2,0.98981146711893575,1.1118797817436878E-2,8.5442520164914937E-2,0.19638556391186687,null,0.83453734229306864,0.75616685509900838,1.0079137734102004,0.75040274574933108,1.0081313162984442,2.1583482038134427E-2,1.0002158348203813,1.03786396980286,1.2490540527744907,1.2493236421316178]
[5580,0.55800000000000005,3.2116750812553789,1.0128663923221375,9.9103883536109383E-2,0.98965828610995132,1.1286836927300993E-2,8.5243514063169601E-2,0.19563423452657996,null,0.8351150419423633,0.75697584283942509,1.0089920934669281,0.75122755855340462,1.0092394140800429,2.4511650261294093E-2,1.0002451165026129,1.05353796482086,1.2679174756989022,1.2682282631961475]
[5590,0.55900000000000005,3.2001945718299663,1.0127983213014344,9.8390020078701457E-2,0.9895028143125234,1.145741562309033E-2,8.5045326550198364E-2,0.19489276225199015,null,0.83568555449644888,0.75777506555334417,1.0100573974748324,0.7520424390104955,1.0103341682137217,2.7401486250311358E-2,1.0002740148625031,0.94798600673675504,1.1408872435498112,1.1411998636109841]
[5600,0.56000000000000005,3.1887755102040813,1.0127306287941669,9.7682585185536117E-2,0.98934501784029472,1.1630572285731281E-2,8.4847952803467963E-2,0.19416111027473537,null,0.83624889303702887,0.75856453023818937,1.0111096947609548,0.75284739336831208,1.0114155870929868,3.025313016153941E-2,1.0003025313016154,0.845064997673035,1.017023319926855,1.0173310013156056]
[5610,0.56100000000000005,3.1774174586379673,1.0126633119716897,9.6981509374069477E-2,0.98918486231696967,1.1806345876203373E-2,8.4651388037399064E-2,0.19343924328767192,null,0.83680506974621804,0.75934424280523782,1.0121489932045848,0.75364242678019533,1.0124836776411135,3.3066716340734992E-2,1.0003306671634073,0.83882600069045998,1.0095147786410317,1.0098485920293028]
[5620,0.56200000000000006,3.1661199832828859,1.0125963680319927,9.6286724038125007E-2,0.98902231286957709,1.1984775944305933E-2,8.4455627503018743E-2,0.19272712748544968,null,0.83735409590438237,0.76011420807322938,1.0131752992287422,0.75442754329836403,1.0135384453020695,3.5842373338934586E-2,1.0003584237333893,0.80503600835800204,0.96884901887475683,0.96919627735719249]
[5630,0.56299999999999994,3.1548826541396804,1.0125297941993947,9.5598161435256554E-2,0.98885733412165122,1.216590263755715E-2,8.4260666487615266E-2,0.19202473056042896,null,0.83789598188786818,0.76087442976191177,1.0141886177915715,0.7552027458670979,1.0145798940313586,3.8580223927087154E-2,1.0003858022392709,0.81764400005340598,0.98402255180651732,0.98440218991049733]
[5640,0.56399999999999995,3.1437050450178567,1.0124635877242472,9.4915754674317523E-2,0.98868989018633069,1.2349766710227039E-2,8.4066500314397066E-2,0.19133202169894165,null,0.83843073716661753,0.76162491048551373,1.0151889523776441,0.75596803631585618,1.0156080262867742,4.1280385109443429E-2,1.0004128038510944,0.87062197923660301,1.047780772085755,1.0482133000235747]
[5650,0.56499999999999995,3.132586733495184,1.0123977458826359,9.4239437703231524E-2,0.98851994465937365,1.2536409532507701E-2,8.3873124342157102E-2,0.19064897157789634,null,0.83895837030166753,0.76236565174614646,1.0161763049891617,0.75672341535232612,1.0166228430190614,4.394296813527987E-2,1.0004394296813528,0.96486401557922397,1.1611996794381616,1.1617099450432842]
[5660,0.56599999999999995,3.1215273008777737,1.0123322659760929,9.3569145296960129E-2,0.98834746061208956,1.2725873099821724E-2,8.3680533964938492E-2,0.18997555236172034,null,0.83947888894253642,0.763096653927132,1.0171506761370637,0.75746888255540756,1.0176243436624917,4.6568078509956479E-2,1.0004656807850996,0.91922301054000899,1.1062713998412113,1.1067865691752226]
[5670,0.56699999999999995,3.1105263321606653,1.0122671453313061,9.2904813045664933E-2,0.98817240058418698,1.2918200042270723E-2,8.3488724611706228E-2,0.18931173769964188,null,0.83999229982449264,0.76381791628625739,1.0181120648320356,0.75820443636812418,1.0186125261253394,4.915581600404284E-2,1.0004915581600404,0.93672198057174705,1.1273311534057111,1.1278853022332356]
[5680,0.56799999999999995,3.0995834159888913,1.0122023812998375,9.224637734306057E-2,0.98799472657653498,1.3113433634228309E-2,8.3297691746020419E-2,0.18865750272330931,null,0.84049860876570881,0.76452943694895226,1.0190604685754161,0.75893007409046531,1.0195873867802656,5.1706274661622587E-2,1.0005170627466162,1.0293509960174601,1.238808813786344,1.2394493556741328]
[5690,0.56899999999999995,3.0886981446190251,1.0121379712578429,9.1593775374954875E-2,0.98781440004384025,1.3311617804076414E-2,8.3107430865714288E-2,0.18801282404474556,null,0.84099782066429651,0.76523121290138929,1.0199958833499989,0.75964579187215475,1.0205489204546023,5.4219542807087961E-2,1.0005421954280709,1.0670280456543,1.2841525899600363,1.2848488516232581]
[5700,0.56999999999999995,3.0778701138811946,1.0120739126057949,9.0946945107972729E-2,0.98763138188723776,1.3512797144089178E-2,8.2917937502576311E-2,0.1873776797546382,null,0.84148993949522577,0.76592323998350553,1.0209183036107314,0.76035158470534481,1.0214971204205385,5.6695703050868573E-2,1.0005669570305087,1.13157498836517,1.3618338880231429,1.3626059893203426]
[5710,0.57099999999999995,3.0670989231415682,1.0120102027682114,9.0305825278460983E-2,0.98744563244679395,1.3717016920466854E-2,8.272920722203464E-2,0.18675204942096246,null,0.84197496830712382,0.76660551288194434,1.0218277222753078,0.7610474464172361,1.0224319783852041,5.9134832293517015E-2,1.0005913483229352,1.1451389789581301,1.3781579515949325,1.3789729229883478]
[5720,0.57199999999999995,3.0563841752652943,1.0119468391933866,8.9670355381570532E-2,0.98725711149392315,1.3924323083520753E-2,8.2541235622844905E-2,0.18613591408793617,null,0.84245290921895799,0.76727802512291721,1.0227241307146524,0.76173336966262195,1.0233534844806542,6.1537001729106144E-2,1.0006153700172911,1.1547060012817401,1.3896717225263571,1.390526884838277]
[5730,0.57299999999999995,3.0457254765798947,1.0118838193531248,8.9040475660512583E-2,0.98706577822371588,1.4134762278012228E-2,8.2354018336783241E-2,0.18552925627530806,null,0.84292376341659525,0.76794076906498254,1.0236075187432965,0.76240934591635356,1.0242616272537466,6.3902276846605766E-2,1.0006390227684661,1.19891798496246,1.4428801958950708,1.4438022291924164]
[5740,0.57399999999999995,3.0351224368391025,1.0118211407424789,8.8416127095986174E-2,0.98687159124717916,1.434838185364759E-2,8.2167551028340752E-2,0.18493205997797452,null,0.84338753114924692,0.76859373589174262,1.0244778746096419,0.76307536546573007,1.0251563936559176,6.6230717430992847E-2,1.0006623071743099,1.2574419975280799,1.5133129859394134,1.5143152639869775]
[5750,0.57499999999999996,3.024574669187146,1.0117588008794927,8.7797251395774198E-2,0.98667450858338657,1.4565229875732773E-2,8.1981829394421751E-2,0.18434431066592871,null,0.84384421172578727,0.76923691560445695,1.025335184986117,0.7637314174028067,1.026037769032849,6.852237756198587E-2,1.0006852237756199,1.27188396453857,1.5306936812418186,1.5317425489453966]
[5760,0.57599999999999996,3.0140817901234569,1.0116967973049442,8.7183790984503975E-2,0.98647448765154033,1.4785355135987523E-2,8.1796849164046198E-2,0.18376599528453769,null,0.84429380351095662,0.76987029701457155,1.0261794349592168,0.76437748961662644,1.0269057371140313,7.0777305612579333E-2,1.0007077730561258,1.1313840150833101,1.3616040544817356,1.3625677611446094]
[5770,0.57699999999999996,3.0036434194678145,1.0116351275820954,8.6575688993570585E-2,0.98627148526294239,1.5008807163524054E-2,8.1612606098055068E-2,0.18319710225514971,null,0.8447363039214385,0.77049386773616302,1.0270106080194341,0.76501356878536853,1.0277602800022156,7.2995544245380017E-2,1.0007299554424538,1.1892460584640501,1.4312401743291707,1.4322849158838808]
[5780,0.57799999999999996,2.9932591803259063,1.0115737892964425,8.5972889251219264E-2,0.98606545761287534,1.5235636235991248E-2,8.1429095988816966E-2,0.18263762147602747,null,0.84517170942181952,0.77110761417829898,1.0278286860510735,0.76563964036842014,1.0286013781627621,7.517713040849916E-2,1.000751771304085,1.25348997116089,1.5085567802185924,1.5096908699165437]
[5790,0.57899999999999996,2.9829286990553072,1.0115127800554715,8.537533627278468E-2,0.98585636027239232,1.5465893390887381E-2,8.1246314659942226E-2,0.18208754432361429,null,0.84560001552042197,0.77171152153730893,1.0286336493219512,0.76625568859836213,1.0294290104128743,7.7322095329801499E-2,1.000773220953298,1.3844920396804801,1.6662158466927051,1.6675041996980851]
[5800,0.57999999999999996,2.9726516052318672,1.0114520974884162,8.4782975251083859E-2,0.98564414818001567,1.5699630437043689E-2,8.1064257965994618E-2,0.18154686365412215,null,0.84602121676501951,0.77230557378897491,1.0294254764729853,0.76686169647287916,1.0302431539107288,7.9430464509688825E-2,1.0007943046450969,1.4196519851684599,1.7085303249720052,1.7098874185454194]
[5810,0.58099999999999996,2.9624275316165081,1.0113917392460179,8.419575204696042E-2,0.98542877563334363,1.5936899966281604E-2,8.0882921792211737E-2,0.18101557380545374,null,0.84643530673842515,0.77288975368062929,1.0302041445076622,0.76745764574658182,1.0310437841444908,8.1502257713195192E-2,1.000815022577132,1.1795690059661901,1.4195939836981775,1.4207509848452522]
[5820,0.58199999999999996,2.9522561141224126,1.0113317030002913,8.3613613179977175E-2,0.98521019628056472,1.6177755365246349E-2,8.0702302054223435E-2,0.18049367059944696,null,0.84684227805395895,0.77346404272317115,1.0309696287813954,0.76804351692275319,1.0318308749212246,8.3537488960483408E-2,1.0008353748896048,1.1699199676513701,1.4079815077252504,1.4091577001218321]
[5830,0.58299999999999996,2.9421369917826117,1.0112719864442905,8.3036505819254744E-2,0.98498836311188009,1.6422250827418633E-2,8.0522394697777666E-2,0.17998115134445103,null,0.84724212235079099,0.77402842118299331,1.0317219029907645,0.76861928924500866,1.0326043983556892,8.5536166516053669E-2,1.0008553616651605,1.21319496631622,1.4600623333814382,1.4613112147301575]
[5840,0.58399999999999996,2.9320698067179589,1.0112125872918798,8.2464377774453534E-2,0.9847632284508322,1.6670441365308881E-2,8.03431956984655E-2,0.1794780148382279,null,0.84763483028916109,0.77458286807382415,1.0324609391626418,0.76918494068887766,1.0333643248590287,8.7498292876775352E-2,1.0008749829287678,1.0980910062789899,1.321536407096316,1.3226927288922703]
[5850,0.58499999999999996,2.9220542041054864,1.0111535032775061,8.1897177486896483E-2,0.9845347439455403,1.6922382822835421E-2,8.0164701061451585E-2,0.17898426137118351,null,0.84802039154547493,0.7751273611484818,1.0331867076432002,0.7697404479533011,1.0341106231273505,8.9423864758941818E-2,1.0008942386475894,0.88898700475692705,1.0698828107178744,1.07083954127561]
[5860,0.58599999999999997,2.9120898321471422,1.0110947321559753,8.1334854020830558E-2,0.9843028605598434,1.7178131887888838E-2,7.9986906821207029E-2,0.17849989272992645,null,0.8483987948072742,0.77566187689054333,1.0338991770868098,0.77028578645204948,1.034843260130194,9.1312873083460033E-2,1.0009131287308346,0.86228698492050204,1.0377497287763358,1.0386973278690972]
[5870,0.58699999999999997,2.9021763420388949,1.0110362717022319,8.077735705482389E-2,0.98406752856434765,1.7437746105087863E-2,7.98098090412446E-2,0.17802491220115635,null,0.84877002776808441,0.77618639050592653,1.0345983144448163,0.77082093030505894,1.0355622010988932,9.316530296050729E-2,1.0009316530296051,0.802468001842499,0.9657584607293096,0.96665821252511475]
[5880,0.58799999999999997,2.8923133879402103,1.0109781197111389,8.0224636873296853E-2,0.98382869752738122,1.7701283888726473E-2,7.9633403813856293E-2,0.17755932457587964,null,0.84913407712213795,0.77670087591438886,1.0352840849542098,0.77134585232968833,1.0362674095148288,9.4981133672367157E-2,1.0009498113367237,0.77865397930145297,0.9370986341689882,0.93798870107535015]
[5890,0.58899999999999997,2.8825006269438864,1.010920273997264,7.9676644358184417E-2,0.98358631630585347,1.7968804535918086E-2,7.9457687259855678E-2,0.17710313615395817,null,0.84949092855897046,0.77720530574093805,1.0359564521261764,0.7718605240318942,1.0369588470975741,9.6760338655199618E-2,1.000967603386552,0.71014499664306596,0.85464907918812716,0.85547604053146309]
[5900,0.59,2.8727377190462517,1.0108627323946666,7.9133330980727778E-2,0.9833403330360212,1.8240368239936619E-2,7.9282655528321103E-2,0.1766563547489855,null,0.84984056675789543,0.77769965130716123,1.0366153777345402,0.77236491559733,1.037636473792936,9.8502885479789803E-2,1.0009850288547979,0.71262300014495905,0.8576313200278558,0.8584761116248617]
[5910,0.59099999999999997,2.8630243271177078,1.0108054927566867,7.8594648793392466E-2,0.98358631630585347,1.7968804535918086E-2,7.9108304796341997E-2,0.17567175812565256,null,0.85061159167686662,0.77879017794532579,1.0380689680518953,0.77347763474937237,1.0391313604118526,0.10234313833223929,1.0010234313833224,0.73233801126480103,0.88135804651245497,0.88226005599719959]
[5920,0.59199999999999997,2.8533601168736307,1.0107485529557383,7.8060550421911706E-2,0.98382869752738122,1.7701283888726473E-2,7.8934631268768984E-2,0.17469646557940716,null,0.85137602032578552,0.77987190708002829,1.0395108319561561,0.77458141951098947,1.04061424409124,0.10614724745172666,1.0010614724745173,0.75391501188278198,0.90732565002578058,0.90828875122870645]
[5930,0.59299999999999997,2.8437447568456053,1.0106919108831043,7.7530989057452024E-2,0.98406752856434765,1.7437746105087863E-2,7.8761631177965016E-2,0.1737303663405049,null,0.8521339206065337,0.78094492093746748,1.0409410790486864,0.7756763527096241,1.0420852361059296,0.10991564078621785,1.0010991564078622,0.82928901910781905,0.99803716130039311,0.99913416024152102]
[5940,0.59399999999999997,2.8341779183530029,1.0106355644487344,7.7005918448899105E-2,0.9843028605598434,1.7178131887888838E-2,7.858930078356037E-2,0.17277335112034831,null,0.85288535971721857,0.78200930106129252,1.0423598180210614,0.77676251649990746,1.0435444468268613,0.11364874060946217,1.0011364874060946,0.86059701442718495,1.0357158740948327,1.0368929521420338]
[5950,0.59499999999999997,2.8246592754748958,1.0105795115810456,7.6485292895262791E-2,0.9845347439455403,1.6922382822835421E-2,7.841763637220997E-2,0.17182531209030819,null,0.85363040415787117,0.78306512831386454,1.0437671566567517,0.77783999236445511,1.0449919857221537,0.11734696360108376,1.0011734696360108,0.84207797050476096,1.0134284765766335,1.0146177041221649]
[5960,0.59599999999999997,2.8151885050222965,1.0105237502267252,7.5969067238197741E-2,0.9847632284508322,1.6670441365308881E-2,7.8246634257352371E-2,0.17088614286085899,null,0.85436911973616025,0.78411248287768254,1.0451632018330217,0.77890886111483859,1.046427961358408,0.12101072092551846,1.0012101072092552,0.89495801925659202,1.0770688390192504,1.0783722077862117]
[5970,0.59699999999999998,2.8057652865107223,1.010468278350535,7.545719685463867E-2,0.98498836311188009,1.6422250827418633E-2,7.8076290778973018E-2,0.16995573846103032,null,0.85510157157311284,0.78515144425695593,1.0465480595230268,0.77996920289271521,1.0478524814022272,0.12464041830959616,1.001246404183096,0.93743801116943404,1.1281928857193604,1.1295990700514602]
[5980,0.59799999999999998,2.7963893021330857,1.0104130939351199,7.4949637649548401E-2,0.98521019628056472,1.6177755365246349E-2,7.7906602303368697E-2,0.16903399531816343,null,0.85582782410884406,0.78618209127932526,1.0479218347981072,0.78102109717112012,1.0492656526219517,0.12823645611921286,1.0012823645611921,1.01629197597504,1.2230924748596286,1.2246609253044494]
[5990,0.59899999999999998,2.7870602367328963,1.0103581949808189,7.4446346048776216E-2,0.98542877563334363,1.5936899966281604E-2,7.7737565222914057E-2,0.16812081123797187,null,0.85654794110828991,0.78720450209772275,1.0492846318302667,0.78206462275590916,1.0506675808895969,0.1317992294348258,1.0013179922943483,1.1087609529495199,1.3343775312893493,1.3361362305933402]
[6000,0.6,2.7777777777777781,1.0103035795054758,7.3947278992024676E-2,0.98564414818001567,1.5699630437043689E-2,7.7569175955832348E-2,0.16721608538490071,null,0.85726198566694511,0.78821875419236753,1.0506365538948339,0.78309985778734714,1.0520583711829874,0.13532912812548314,1.0013532912812548,1.0879499912262001,1.3093318443410058,1.3111037517102218]
[6010,0.60099999999999998,2.7685416153332914,1.0102492455442553,7.3452393925923704E-2,0.98585636027239232,1.5465893390887381E-2,7.7401430945967367E-2,0.16631971826277847,null,0.85797002021659929,0.78922492437288994,1.0519777033732918,0.78412687974183837,1.0534381275880826,0.13882653692258717,1.0013882653692259,1.14314997196198,1.3757642108718491,1.3776741366820229]
[6020,0.60199999999999998,2.7593514420370635,1.0101951911494595,7.2961648797209441E-2,0.98606545761287534,1.5235636235991248E-2,7.723432666255689E-2,0.1654316116957576,null,0.8586721065310754,0.79022308878058112,1.0533081817562777,0.78514576543379189,1.0548069533014814,0.14229183549154811,1.0014229183549155,1.2123889923095701,1.4590923554953881,1.4611685247895394]
[6030,0.60299999999999998,2.7502069530732189,1.0101414143903484,7.2475002046006654E-2,0.98627148526294239,1.5008807163524054E-2,7.7067859600011196E-2,0.16455166880954192,null,0.85936830573196188,0.79121332289075885,1.0546280896467366,0.78615659101761581,1.0561649506331023,0.14572539850332689,1.0014572539850333,1.25653100013733,1.512216613952245,1.5144202976391605]
[6040,0.60399999999999998,2.741107846147099,1.0100879133529601,7.1992412599212088E-2,0.98647448765154033,1.4785355135987523E-2,7.6902026277691091E-2,0.16367979401289071,null,0.86005867829434191,0.7921957015152512,1.0559375267632312,0.78715943198983829,1.0575122210090322,0.14912759570426815,1.0014912759570427,1.3467090129852299,1.6207445286848614,1.6231615060329976]
[6050,0.60499999999999998,2.732053821460283,1.0100346861399352,7.1513839863978329E-2,0.98667450858338657,1.4565229875732773E-2,7.6736823239689E-2,0.16281589297940011,null,0.86074328405251654,0.79317029880498779,1.0572365919433959,0.7881543631913468,1.0588488649745358,0.15249879198526717,1.0015249879198527,1.3889960050582899,1.6716363029108527,1.6741855280791791]
[6060,0.60599999999999998,2.7230445816858913,1.0099817308703438,{"$f":"9.4977*0.001*C258^2*D258*EXP(-h_/7.996/1000)","v":7.1039243721295484E-2},0.98687159124717916,1.434838185364759E-2,{"$f":"2.5*LOG(EXP(AOD_*(B258/0.55)^(-1.3)))","v":7.6572247054614448E-2},0.16195987262955752,null,0.86142218220571753,{"$f":"10^(-0.4*I258*MAr)","v":0.79413718825269319},1.0585253831475272,{"$f":"10^(-0.4*I258*MAc)","v":0.78914145880974151},1.0601749821972162,0.15583934744993755,1.0015583934744994,1.410640001297,1.697684534670292,1.7003301951708807]
[6070,{"$f":"+A259/10000","v":0.60699999999999998},{"$f":"+(1/B259)^2","v":2.714079831944177},{"$f":"0.23465+1.076*100/(146-C259)+0.93161/(41-C259)","v":1.009929045679512},7.0568584519669339E-2,{"$f":"+EXP(-0.0168*EXP(-15*ABS(B259-0.59)))","v":0.98706577822371588},{"$f":"-2.5*LOG(F259)","v":1.4134762278012228E-2},7.6408294315378322E-2,{"$f":"+E259+G259+H259","v":0.16111164111305989},null,{"$f":"10^(-0.4*I259)","v":0.86209543132381339},0.79509644269568558,{"$f":"+L259/M$1","v":1.0598039974623141},0.79012079238180111,{"$f":"+N259/O$1","v":1.0614906714703274},{"$f":"(O259/M259-1)*100","v":0.1591496174813356},{"$f":"+O259/M259","v":1.0015914961748134},1.46855103969574,{"$f":"+R259/S$1","v":1.7673796193026887},{"$f":"+S259*Q259","v":1.7701923972062521}]
[6080,0.60799999999999998,2.7051592797783939,1.0098766287188536,7.0101823068894495E-2,0.98725711149392315,1.3924323083520753E-2,7.6244961638981854E-2,0.16027110779139708,null,0.86276308935300183,0.79604813431876764,1.0610725311046911,0.7910924367960529,1.0627960307162287,0.16242995280852934,1.0016242995280853,1.4681429862976101,1.7668885330278858,1.7697584892382623]
[6090,0.60899999999999999,2.6962826351309448,1.0098244781557018,6.9638920633920784E-2,0.98744563244679395,1.3717016920466854E-2,7.6082245666306794E-2,0.15943818322069442,null,0.86342521362148994,0.79699233465720842,1.0623310794258132,0.79205646429544185,1.0640911569899691,0.16568069957130227,1.001656806995713,1.5586810111999501,1.8758497169833768,1.8789576379173811]
[6100,0.61,2.6874496103198067,1.0097725921731429,6.917983892881166E-2,0.98763138188723776,1.3512797144089178E-2,7.592014306190871E-2,0.15861277913480953,null,0.86408186084516059,0.79792911459981419,1.063579736915149,0.79301294648009912,1.0653761464830069,0.16890219938454631,1.0016890219938455,1.5914770364761399,1.9153192519879503,1.9185542683297936]
[6110,0.61099999999999999,2.6786599200152148,1.0097209689698547,6.8724540110792348E-2,0.98781440004384025,1.3311617804076414E-2,7.5758650513810463E-2,0.15779480842867921,null,0.86473308713322372,0.79885854439208281,1.0648185972046846,0.79396195431020145,1.0666510945270513,0.17209478940143352,1.0017209478940143,1.6278710365295399,1.9591188968219537,1.9624904383615631]
[6120,0.61199999999999999,2.6699132812166262,1.0096696067599438,6.8272986774387298E-2,0.98799472657653498,1.3113433634228309E-2,7.5597764733299724E-2,0.15698418514191531,null,0.86537894799385007,0.79978069363943516,1.0660477530732324,0.79490355810891877,1.0679160955980223,0.17525880237576619,1.0017525880237577,1.6702140569686901,2.01007810036409,2.0136009391696055]
[6130,0.61299999999999999,2.6612094132299369,1.0096185037727845,6.782514194564436E-2,0.98817240058418698,1.2918200042270723E-2,7.5437482454727811E-2,0.15618082444264289,null,0.86601949833978609,0.80069563131052346,1.0672672964508394,0.79583782756544552,1.0691712433201235,0.17839456672341658,1.0017839456672342,1.7230299711227399,2.0736412777597137,2.0773405411325712]
[6140,0.61399999999999999,2.6525480376449617,1.0095676582528639,6.7380969076445238E-2,0.98834746061208956,1.2725873099821724E-2,7.5277800435310599E-2,0.15538464261157756,null,0.86665479249395105,0.80160342574061172,1.068477318423293,0.79676483173811274,1.0704166304700224,0.18150240658278971,1.0018150240658279,1.7076100111007699,2.0550835822240257,2.0588136083830499]
[6150,0.61499999999999999,2.6439288783131731,1.0095170684596249,6.6940432038900169E-2,0.98851994465937365,1.2536409532507701E-2,7.51187154549319E-2,0.15459555702633976,null,0.86728488419501359,0.80250414463502229,1.0696779092367166,0.79768463905757547,1.0716523489811334,0.1845826418744867,1.0018458264187449,1.2502679824829099,1.5046791641404575,1.5074565406933629]
[6160,0.61599999999999999,2.6353516613256871,1.0094667326673115,6.6503495119825534E-2,0.98868989018633069,1.2349766710227039E-2,7.4960224315947496E-2,0.15381348614600007,null,0.86790982660294469,0.80339785507264949,1.0708691583022512,0.79859731733007377,1.0728784899479977,0.18763558836003558,1.0018763558836004,0.89494597911834695,1.0770543488896107,1.0790752861541071]
[6170,0.61699999999999999,2.6268161149915019,1.0094166491648175,6.60701230153031E-2,0.98885733412165122,1.216590263755715E-2,7.4802323842993429E-2,0.15303834949585368,null,0.86852967230455103,0.80428462350953234,1.0720511542008184,0.79950293374076298,1.0740951436307582,0.19066155769997817,1.0019066155769998,0.88763999938964799,1.0682617095311473,1.0702984739468517]
[6180,0.61799999999999999,2.6183219698159848,1.0093668162555378,6.5640280825319988E-2,0.98902231286957709,1.1984775944305933E-2,7.4645010882793919E-2,0.15227006765241985,null,0.86914447331898281,0.80516451578248682,1.0732239846879628,0.80040155485710851,1.0753023994597204,0.1936608575107357,1.0019366085751074,0.832047998905182,1.0013575529872476,1.0032967906111112]
[6190,0.61899999999999999,2.6098689584795953,1.009317232257217,6.5213934048486896E-2,0.98918486231696978,1.1806345876203248E-2,7.4488282303972919E-2,0.15150856222866305,null,0.86975428110321729,0.80603759711279199,1.0743877366987629,0.80129324663234269,1.0765003460399953,0.19663379142094151,1.0019663379142094,0.78206199407577504,0.94120012992337965,0.94305084742370682]
[6200,0.62,2.6014568158168578,1.0092678955018051,6.4791048576834653E-2,0.98934501784029472,1.1630572285731281E-2,7.4332134996866431E-2,0.15075375585943235,null,0.87035914655751756,0.80690393210992661,1.0755424963528142,0.80217807440898203,1.0776890711562261,0.19958065912699663,1.00199580659127,0.84787899255752597,1.0204099214634974,1.0224464623105516]
[6210,0.621,2.5930852787955638,1.0092188043353123,6.4371590690687097E-2,0.9895028143125234,1.145741562309033E-2,7.4176565873337846E-2,0.15000557218711527,null,0.87095912003086406,0.80776358477535715,1.0766883489592773,0.80305610292239837,1.0788686617773853,0.20250175644749291,1.0020250175644749,0.80473899841308605,0.96849157176588174,0.97045278420975356]
[6220,0.622,2.5847540864962104,1.0091699571176649,6.3955527053608727E-2,0.98965828610995132,1.1286836927300993E-2,7.402157186659418E-2,0.14926393584750391,null,0.87155425132636,0.80861661850636879,1.0778253790219843,0.80392739630444388,1.0800392040616442,0.20539737537714764,1.0020539737537715,0.75567597150802601,0.90944493908550306,0.91131291512088497]
[6230,0.623,2.5764629800916707,1.009121352222565,6.3542824707426837E-2,0.98981146711893575,1.1118797817436878E-2,7.3867149931004544E-2,0.14852877245586826,null,0.87214458970660835,0.80946309609994049,1.0789536702446039,0.80479201808712486,1.0812007833613098,0.20826780413996104,1.0020826780413996,0.78465598821640004,0.94432196379418687,0.94628868241219233]
[6240,0.624,2.5682117028270879,1.009072988037351,6.3133451067325957E-2,0.98996239074255077,1.0953260483989572E-2,7.371329704192045E-2,0.147800008593236,null,0.87273018389905976,0.81030307975665972,1.0800733055358596,0.80565003120632295,1.082353484227822,0.21111332724135234,1.0021111332724135,0.84291797876357999,1.0144394141855779,1.0165810309857128]
[6250,0.625,2.5600000000000005,1.0090248629628578,6.2727373917014176E-2,0.99011108990716323,1.0790187680360514E-2,7.3560010195498321E-2,0.14707757179287301,null,0.87331108210133179,0.81113663108467526,1.0811843670147989,0.80650149800555893,1.0834973904168126,0.21393422551974073,1.0021393422551974,0.92012101411819502,1.107352133965696,1.1097211391772719]
[6260,0.626,2.5518276189406857,1.0089769754132822,6.2324561403959713E-2,0.99025759706892746,1.0629542714481093E-2,7.3407286408522662E-2,0.14636139052696345,null,0.87388733198649793,0.81196381110368354,1.0822869360161063,0.80734648023979938,1.0846325848932175,0.21673077619743797,1.0021673077619744,0.99545699357986495,1.1980178793853087,1.2006143528342845]
[6270,0.627,2.5436943089927224,1.0089293238160477,6.1924982034696908E-2,0.990401944220202,1.0471289440556059E-2,7.3255122718232493E-2,0.14565139419348544,null,0.87445898070834593,0.81278468024894956,1.0833810930954624,0.8081850390793005,1.085759149836441,0.21950325293049744,1.002195032529305,1.02059102058411,1.2282663119406454,1.2309623964500045]
[6280,0.628,2.5355998214937729,1.0088819066116708,6.1528604670200188E-2,0.99054416289588665,1.0315392250931183E-2,7.3103516182147998E-2,0.14494751310327936,null,0.87502607490660478,0.8135992983753545,1.0844669180349404,0.80901723511348789,1.0868771666455692,0.22225192585829667,1.002222519258583,1.08303594589233,1.3034178629153341,1.3063147342176444]
[6290,0.629,2.5275439097565724,1.0088347222536298,6.1135398521325053E-2,0.99068428417968224,1.0161816068081314E-2,7.2952463877900359E-2,0.14424967846730674,null,0.87558866071213914,0.81440772476147405,1.085544489848441,0.80984312835486993,1.0879867159446259,0.22497706165187648,1.0022497706165188,1.1607090234756501,1.3968962716179136,1.4000389678041243]
[6300,0.63,2.5195263290501382,1.0087877692082348,6.0745333144315308E-2,0.99082233871027381,1.0010526336717132E-2,7.2801962903062387E-2,0.14355782238409481,null,0.87614678375211408,0.81521001811368088,1.0866138867871615,0.81066277824298361,1.089087877587875,0.2276789235621024,1.002276789235621,1.26550400257111,1.5230154906659217,1.5264830759407539]
[6310,0.63100000000000001,2.5115468365811822,1.0087410459544985,6.0358378436374996E-2,0.99095835668743582,9.861489016010961E-3,7.2652010374980786E-2,0.14287187782736674,null,0.876700489155123,0.8160062365702685,1.0876751863450917,0.81147624364836535,1.0901807306651539,0.23035777146682701,1.0023035777146683,1.39974701404572,1.6845749844123556,1.6884555338051357]
[6320,0.63200000000000001,2.5036051914757249,1.0086945509840104,5.9974504631304069E-2,0.99109236787806299,9.7146705719368068E-3,7.2502603430610837E-2,0.14219177863385171,null,0.87724982155628495,0.81679643770559995,1.0887284652645448,0.81228358287655211,1.0912653535072501,0.23301386191725282,1.0023301386191725,1.42772197723389,1.71824244196273,1.7222461850338486]
[6330,0.63300000000000001,2.4957011547609245,1.0086482828008103,5.9593682295197382E-2,0.99122440162212511,9.5700379697254596E-3,7.2353739226351715E-2,0.14151745949127456,null,0.87779482510230844,0.81758067853427174,1.0897737995417069,0.81308485367210481,1.0923418236913047,0.23564744818398431,1.0023564744818398,1.5295499563217201,1.8407909200543719,1.8451286968838825]
[6340,0.63400000000000001,2.4878344893470925,1.0086022399212642,5.9215882322204844E-2,0.9913544868385481,9.4275586664311645E-3,7.2205414937884446E-2,0.14084885592652047,null,0.87833554345651854,0.81835901551529655,1.0908112644322128,0.81388011322265363,1.0934102180462497,0.23825878030236947,1.0023825878030237,1.62659299373627,1.9575807910807397,1.9622448991970021]
[6350,0.63500000000000001,2.4800049600099197,1.0085564208739426,5.8841075930353134E-2,0.99148265203102071,9.2872006036096976E-3,7.2057627760010803E-2,0.14018590429397365,null,0.8788720198038521,0.81913150455630113,1.0918409344567408,0.81466941816296345,1.0944706126582668,0.24084810511655341,1.0024084810511655,1.53930604457855,1.8525322290611137,1.8569940178314808]
[6360,0.63600000000000001,2.4722123333728883,1.0085108241994982,5.8469234657426719E-2,0.99160892529372879,9.1489322001047559E-3,7.1910374906494309E-2,0.13952854176402579,null,0.87940429685581623,0.81989820101773614,1.0928628834066243,0.81545282457901858,1.095523082876277,0.24341566632406497,1.0024341566632406,1.57996201515198,1.9014610928541875,1.9060895470432513]
[6370,0.63700000000000001,2.4644563778898836,1.0084654484505478,5.810033035690821E-2,0.99173333431701705,9.0127223449420653E-3,7.1763653609901612E-2,0.13887670631175189,null,0.87993241685541324,0.82065915971709935,1.0938771843494817,0.81623038801212222,1.0965677033174477,0.24596170451860466,1.002459617045186,1.7529829740524301,2.1096892771032136,2.1148783048092228]
[6380,0.63800000000000001,2.4567368638279889,1.0084202921915508,5.773433519397618E-2,0.9918559063929786,8.8785403903297502E-3,7.1617461121447706E-2,0.13823033670575363,null,0.88045642158202708,0.82141443493316624,1.0948839096348548,0.81700216346300969,1.0976045478727179,0.24848645723274387,1.0024848645723274,1.76027500629425,2.1184651308659546,2.1237292298173545]
[6390,0.63900000000000001,2.4490535632504815,1.0083753539986964,5.7371221641560964E-2,0.99197666842097476,8.746356144761859E-3,7.1471794710839961E-2,0.1375893724971628,null,0.88097635235627758,0.82216408041023037,1.0958831308998607,0.81776820539597672,1.0986336897123452,0.25099015898035759,1.0025099015898036,1.85117304325104,2.227859584044332,2.2334512923561842]
[6400,0.64,2.44140625,1.0083306324597843,5.7010962476455616E-2,0.9920956469130835,8.6161398662255844E-3,7.1326651666125868E-2,0.13695375400880705,null,0.881492250044836,0.82290814936234924,1.0968749190748519,0.81852856774301497,1.0996552012914613,0.25347304129759163,1.0025347304129759,2.0076849460601802,2.4162193616251426,2.4223438263254753]
[6410,0.64100000000000001,2.4337946996819029,1.0082861261741127,5.6653530775482672E-2,0.99221286799947928,8.4878622555087518E-3,7.1182029293541269E-2,0.13632342232453271,null,0.88200415506520469,0.82364669447759509,1.0978593443890818,0.81928330390795978,1.1006691543556442,0.25593533278398528,1.0025593533278399,1.92203104496002,2.3131361489711546,2.3190562816717706]
[6420,0.64200000000000002,2.42621868964781,1.0082418337523644,5.6298899911715397E-2,0.99232835743374326,8.3614944496077995E-3,7.1037924917359746E-2,0.13569831927868295,null,0.88251210739046104,0.82437976792231038,1.0988364763763774,0.82003246677064345,1.1016756199464983,0.2583772591426392,1.0025837725914264,1.8223559856414799,2.1931786782189819,2.1988453531758649]
[6430,0.64300000000000002,2.4186779989793177,1.008197753816495,5.594704355075223E-2,0.99244214059810587,8.2370080152333724E-3,7.0894335879744419E-2,0.13507838744573003,null,0.8830161465539641,0.82510742134536197,1.0998063838808088,0.82077610869105488,1.1026746684072426,0.260799043220028,1.0026079904322003,1.9752830266952499,2.3772241272996597,2.3834239050788528]
[6440,0.64400000000000002,2.4111724084718955,1.0081538849996228,5.5597935647044239E-2,0.99255424250862201,8.1143749424125236E-3,7.0751259540601227E-2,0.134463570130058,null,0.88351631165402289,0.82582970588239868,1.1007691350623652,0.82151428151350336,1.103666369388304,0.26320090504488025,1.0026320090504488,2.07500195503235,2.4972343937717123,2.5038071372972115]
[6450,0.64500000000000002,2.4037017006189529,1.00811022594592,5.525155044027423E-2,0.99266468782027928,7.993567638186443E-3,7.0608693277432313E-2,0.13385381135589297,null,0.88401264135853086,0.82654667216010747,1.1017247974026283,0.82224703657078579,1.1046507918529163,0.26558306186681424,1.0026558306186681,2.0736429691314702,2.4955988741886599,2.5022267620906438]
[6460,0.64600000000000002,2.396265659596085,1.0080667753105037,5.4907862451787096E-2,0.99277350083204008,7.8745589204021332E-3,7.0466634485191595E-2,0.13324905585738084,null,0.88450517390956018,0.82725837030046667,1.1026734377104406,0.82297442468835624,1.1056280040827222,0.26794572819459628,1.002679457281946,2.2454450130462602,2.7023601121449889,2.7096009706259161]
[6470,0.64700000000000002,2.3888640712454818,1.0080235317593309,5.4566846481070339E-2,0.99288070549181884,7.7573220115959816E-3,7.0325080576142923E-2,0.13264924906880926,null,0.88499394712791879,0.82796484992499553,1.1036151221275696,0.82369649618849206,1.1065980736833692,0.27028911583315551,1.0027028911583316,2.2014920711517298,2.6494633917634607,2.6566246029393814]
[6480,0.64800000000000002,2.3814967230605091,1.0079804939690915,5.4228477602283977E-2,0.9929863254013942,7.6418305329688371E-3,7.0184028979717303E-2,0.13205433711497011,null,0.88547899841767308,0.82866616015900074,1.1045499161343697,0.82441330089446441,1.1075610675901135,0.27261343392086523,1.0027261343392087,1.97126996517181,2.3723944666642316,2.3788619326859535]
[6490,0.64900000000000002,2.3741634041704551,1.0079376606271053,5.3892731160839334E-2,0.99309038382125714,7.5280584984508767E-3,7.0043477142374105E-2,0.13146426680166431,null,0.8859603647706279,0.82936234963581501,1.1054778845554301,0.8251248881347002,1.1085170520734109,0.27491888896564731,1.0027491888896565,1.98495101928711,2.388859414466773,2.3954268402279761]
[6500,0.65,2.3668639053254434,1.0078950304312184,5.355958277002567E-2,0.99319290367539637,7.4159803088542572E-3,6.9903422527460457E-2,0.13087898560634037,null,0.88643808277077418,0.83005346650103151,1.1063990915652198,0.82583130674694716,1.1094660927445124,0.27720568488118769,1.0027720568488119,2.1323609352111799,2.5662650844401513,2.5733789171433403]
[6510,0.65100000000000002,2.3595980188815031,1.0078526020897012,5.3229008307684011E-2,0.99329390755602043,7.3055707461135554E-3,6.9763862615075403E-2,0.13029844166887297,null,0.88691218859869514,0.83073955841672686,1.1073136006937165,0.82653260508242732,1.1104082545610439,0.27947402302188618,1.0027947402302189,2.18264603614807,2.6267824652789207,2.6341236399106691]
[6520,0.65200000000000002,2.3523655387858029,1.0078103743211475,5.2900983912927378E-2,0.99339341772821854,7.1968049676112899E-3,6.9624794901933157E-2,0.12972258378247181,null,0.8873827180359366,0.8314206725656782,1.1082214748320278,0.82722883100998934,1.1113436018325857,0.28172410221802835,1.0028172410221803,2.3391520977020299,2.8151352129948664,2.8230661273998998]
[6530,0.65300000000000002,2.345166260562042,1.0077683458543767,5.2575485982906942E-2,0.99349145613455969,7.089658500588447E-3,6.948621690122779E-2,0.12915136138472316,null,0.88784970646933892,0.8320968556555689,1.1091227762379967,0.82792003192025276,1.1122721982262394,0.28395611880995819,1.0028395611880996,2.4863650798797599,2.9923038760953298,3.00080070604489]
[6540,0.65400000000000003,2.3379999812960004,1.0077265154283324,5.2252491169623064E-2,0.99358804439963133,6.9841072366380553E-3,6.9348126142500688E-2,0.1285847245487618,null,0.88831318889533128,0.83276815392318282,1.1100175665417928,0.82860625472974292,1.1131941067721822,0.2861702666819621,1.0028617026668196,2.3455269336700399,2.8228072345056696,2.830885269496572]
[6550,0.65500000000000003,2.3308664996212336,1.0076848817919879,5.1931976376780549E-2,0.99368320383451858,6.8801274262803276E-3,6.9210520171507542E-2,0.12802262397456843,null,0.88877319992418791,0.83343461313858824,1.1109059067514881,0.82928754588501818,1.1141093898692134,0.28836673729577544,1.0028836673729578,2.12571096420288,2.5582619419470869,2.5656391184405591]
[6560,0.65600000000000003,2.3237656157049376,1.0076434437042481,5.1613918756688033E-2,0.99377695544122358,6.7776956736192318E-3,6.9073396550087832E-2,0.12746501098039509,null,0.88922977378424783,0.83409627860930713,1.1117878572586155,0.82996395136678736,1.1150181092902844,0.2905457197233563,1.0029054571972336,1.9972009658813501,2.4036020453750537,2.4105856082370738]
[6570,0.65700000000000003,2.3166971312339419,1.0076021999338556,5.1298295707199584E-2,0.99386931991702654,6.6767889310783406E-3,6.8936752856034567E-2,0.12691183749431251,null,0.88968294432609518,0.83475319518447333,1.1126634778437108,0.8306355166940147,1.1159203261880146,0.2927074006792596,1.0029270740067926,2.0001881122589098,2.4071970321919007,2.4142430760540581]
[6580,0.65800000000000003,2.3096608494008737,1.0075611492592953,5.0985084868699432E-2,0.99396031765878912,6.5773844942148656E-3,6.8800586682966652E-2,0.12636305604588094,null,0.89013274502670248,0.83540540725897316,1.1135328276818317,0.83130228692801489,1.1168161011001918,0.29485196455278917,1.0029485196455279,2.0638511180877699,2.4838145251928845,2.4911381011162632]
[6590,0.65900000000000003,2.3026565748904506,1.0075202904687031,5.0674264121127723E-2,0.99404996876720031,6.47945999661108E-3,6.8664895640200382E-2,0.12581861975793918,null,0.89057920899353771,0.8360529587775748,1.1143959653480626,0.8319643066765352,1.117705493955258,0.29697959343937264,1.0029697959343937,1.99865794181824,2.4053554945280413,2.4124989094964624]
[6600,0.66,2.2956841138659319,1.007479622359772,5.0365811581047734E-2,0.99413829305096568,6.3829934048419638E-3,6.8529677352624788E-2,0.12527848233851449,null,0.89102236896863085,0.83669589323903681,1.1152529488229901,0.83262162009782192,1.1185885640777702,0.29909046717162546,1.0029909046717163,1.9697359800338701,2.370548338068204,2.3776384221670614]
[6610,0.66100000000000003,2.2887432739557032,1.0074391437396628,5.0059705598753092E-2,0.99422531003094095,6.2879630135174256E-3,6.839492946057632E-2,0.12474259807284684,null,0.89146225733260531,0.83733425370020498,1.1161038354981638,0.83327427090467587,1.1194653701938511,0.30118476335017075,1.0030118476335017,1.9458080530166599,2.3417514291428314,2.3488044276429445]
[6620,0.66200000000000003,2.2818338642400118,1.0073988534249134,4.9755924755415251E-2,0.99431103894421013,6.194347440398467E-3,6.826064961971455E-2,0.12421092181552827,null,0.89189890610867217,0.83796808278008961,1.1169486821815324,0.83392230236849152,1.1203359704366138,0.30326265737343761,1.0030326265737344,1.81593501567841,2.185451135122328,2.1920787923102978]
[6630,0.66300000000000003,2.2749556952378351,1.0073587502413495,4.9454447860269653E-2,0.99439549874810895,6.1021256215862659E-3,6.8126835500900401E-2,0.12368340898275632,null,0.89233234696658514,0.8385974226639239,1.1177875451028514,0.83456575732327942,1.121200422351567,0.30532432246788144,1.0030532432246788,1.7668540477752701,2.1263829107141174,2.132875274929328]
[6640,0.66400000000000003,2.2681085788938882,1.0073188330239979,4.9155253947840712E-2,0.99447870812419459,6.0112768067823417E-3,6.7993484790074804E-2,0.12316001554469785,null,0.89276261122655998,0.83922231510720646,1.1186204799190727,0.8352046781696747,1.1220587829019988,0.30736992971689414,1.0030736992971689,1.68969202041626,2.0335195434547506,2.0397699710462467]
[6650,0.66500000000000004,2.2612923285657751,1.0072791006169981,4.8858322275204903E-2,0.99456068548216126,5.9217805546202904E-3,6.7860595188138556E-2,0.12264069801796375,null,0.89318972986315559,0.83984280143972101,1.1194475417197016,0.83583910687892493,1.1229111084743357,0.309399648090114,1.0030939964809011,1.45170497894287,1.747105632471202,1.7525111711498305]
[6660,0.66600000000000004,2.2545067590112633,1.0072395518735173,4.8563632319290895E-2,0.99464144896370421,5.8336167280656675E-3,6.7728164410832431E-2,0.122125413458189,null,0.89361373350911999,0.84045892256954202,1.1202687850321376,0.83646908499686556,1.1237574548834823,0.31141364447146991,1.0031141364447147,1.52634501457214,1.8369338197043332,1.8426542822588035]
[6670,0.66700000000000004,2.2477516863757026,1.0072001856556647,4.8271163774216849E-2,0.99472101644633049,5.7467654898856312E-3,6.7596190188620814E-2,0.1216141194527233,null,0.894034652459197,0.84107071898701291,1.1210842638269747,0.83709465364787139,1.1245978773781307,0.31341208368778073,1.0031341208368778,1.5296280384063701,1.8408848906970754,1.8466544463913026]
[6680,0.66800000000000004,2.2410269281795685,1.0071610008344085,4.7980896548663894E-2,0.99479940554711888,5.661207298185188E-3,6.7464670266573726E-2,0.1211067741134228,null,0.89445251667389813,0.84167823076871018,1.1218940315232875,0.83771585353879396,1.1254324306460493,0.31539512853611118,1.0031539512853611,1.34353995323181,1.6169306117904869,1.6220303321718832]
[6690,0.66900000000000004,2.2343323033061413,1.0071219962894906,4.7692810763285298E-2,0.99487663362642875,5.5769229020102189E-3,6.7333602404251486E-2,0.12060333606954701,null,0.89486735578323728,0.84228149758138215,1.1226981409938801,0.83833272496287692,1.126261168819344,0.31736293981119434,1.0031736293981119,1.3886760473251301,1.6712512384756786,1.676555170537736]
[6700,0.67,2.227667631989307,1.0070831709093471,{"$f":"9.4977*0.001*C322^2*D322*EXP(-h_/7.996/1000)","v":4.7406886748150766E-2},0.99495271779155847,5.4938933370160918E-3,{"$f":"2.5*LOG(EXP(AOD_*(B322/0.55)^(-1.3)))","v":6.7202984375590066E-2},0.12010376446075692,null,0.89527919909042863,{"$f":"10^(-0.4*I322*MAr)","v":0.84288055868586798},1.1234966445705101,{"$f":"10^(-0.4*I322*MAc)","v":0.83894530780365251},1.1270841454796923,0.31931567633241009,1.0031931567633241,1.4655170440673799,1.7637282501002072,1.7693601108906805]
[6710,{"$f":"+A323/10000","v":0.67100000000000004},{"$f":"+(1/B323)^2","v":2.2210327358014932},{"$f":"0.23465+1.076*100/(146-C323)+0.93161/(41-C323)","v":1.0070445235910244},4.7123105040225662E-2,{"$f":"+EXP(-0.0168*EXP(-15*ABS(B323-0.59)))","v":0.9950276749003546},{"$f":"-2.5*LOG(F323)","v":5.4120999212002238E-3},6.7072813968787975E-2,{"$f":"+E323+G323+H323","v":0.11960801893021386},null,{"$f":"10^(-0.4*I323)","v":0.8956880755755493},0.8434754529409938,{"$f":"+L323/M$1","v":1.1242895940490816},0.83955364153881784,{"$f":"+N323/O$1","v":1.1279014136635508},{"$f":"(O323/M323-1)*100","v":0.32125349497023059},{"$f":"+O323/M323","v":1.0032125349497023},1.3267780542373699,{"$f":"+R323/S$1","v":1.5967579123998539},{"$f":"+S323*Q323","v":1.6018875529996521}]
[6720,0.67200000000000004,2.214427437641723,1.0070060532401004,4.6841446380883965E-2,0.99510152156477116,5.3315242506991314E-3,6.6943088986193194E-2,0.1191160596177763,null,0.89609401389916388,0.84406621880744692,1.1250770406948101,0.84015776524408925,1.1287130258673337,0.32317655067231055,1.0032317655067231,1.27093398571014,1.5295503956666137,1.5344935438761238]
[6730,0.67300000000000004,2.2078515617238015,1.0069677587706041,4.6561891713455331E-2,0.99517427415438142,5.2521481956470141E-3,6.6813807244191697E-2,0.11862784715329404,null,0.89649704240591632,0.84465289435162705,1.1258590352473545,0.84075771759703877,1.1295190340525667,0.32508499648964406,1.0032508499648964,1.3757899999618499,1.655743069629229,1.6611256419290108]
[6740,0.67400000000000004,2.2013049335646171,1.0069296391049372,4.6284422180804863E-2,0.99524594879984118,5.1739538960965384E-3,6.6684966573098262E-2,0.11814334264999966,null,0.89689718912808203,0.84523551724947277,1.1266356279259189,0.84135353688090264,1.1303194896510038,0.32697898360154465,1.0032697898360154,1.41634297370911,1.7045479782539057,1.7101214919082011]
[6750,0.67500000000000004,2.1947873799725648,1.0068916931737963,4.6009019122945589E-2,0.99531656139630476,5.0969237580004694E-3,6.6556564817045596E-2,0.11766250769799166,null,0.89729448178908822,0.84581412479026763,1.1274068684343246,0.8419452609883753,1.1311144435697242,0.32885866134100272,1.00328858661341,1.43736100196838,1.72984286673872,1.7355316048335798]
[6760,0.67600000000000005,2.1882987290360982,1.006853919916096,4.5735664074683394E-2,0.99538612760679446,5.0210404492527783E-3,6.6428599833876792E-2,0.11718530435781296,null,0.89768894780699648,0.84638875388041968,1.128172805966049,0.84253292742537589,1.1319039461961922,0.33072417721931036,1.0033072417721931,1.5663319826126101,1.8850575487693284,1.8912918898376063]
[6770,0.67700000000000005,2.181838810112386,1.0068163182788916,4.5464338763293061E-2,0.99545466286552386,4.9462868957888435E-3,6.6301069495038417E-2,0.11671169515412032,null,0.89808061429795016,0.84695944104721677,1.1289334892092309,0.84311657331479262,1.1326880474032877,0.33257567695035295,1.0033257567695035,1.6676429510116599,2.0069838120862622,2.0136585520855923]
[6780,0.67800000000000005,2.1754074538160997,1.0067788872173056,4.5195025106226056E-2,0.9955221823811754,4.8726462777437581E-3,6.6173971685473107E-2,0.11624164306944293,null,0.89846950807958892,0.8475262224425596,1.1296889663516452,0.84369623540020688,1.1334667965543099,0.33441330447487871,1.0033441330447488,1.53287696838379,1.8447949302336129,1.8509641699205921]
[6790,0.67900000000000005,2.1690044920083027,1.0067416256944519,4.4927705208848541E-2,0.99558870114013298,4.8001020256677853E-3,6.6047304303515464E-2,0.1157751115380318,null,0.89885565567442538,0.8480891338466674,1.1304392850856442,0.84427195004958977,1.1342402425079425,0.33623720198385776,1.0033623720198386,1.5911550521850599,1.914931748620067,1.9213704615515277]
[6800,0.68,2.1626297577854667,1.0067045326813622,4.4662361362210024E-2,0.99565423390967012,4.7286378167982158E-3,6.5921065260786518E-2,0.11531206443979475,null,0.89923908331319014,0.84864821067176077,1.1311844926130652,0.84484375325897931,1.1350084336231947,0.33804750994208543,1.0033804750994209,1.6898829936981199,2.0337493769961577,2.0406244161235558]
[6810,0.68100000000000005,2.1562830854685924,1.0066676071569136,4.4398976040841559E-2,0.99571879524109441,4.6582375713864373E-3,6.5795252482091213E-2,0.11485246609431921,null,0.89961981693814008,0.84920348796571776,1.1319246356501043,0.84541168065612982,1.1357714177643037,0.33984436711107513,1.0033984436711108,1.72678995132446,2.0781663587394519,2.0852288900488252]
[6820,0.68200000000000005,2.1499643105924435,1.0066308481077562,4.4137531900583463E-2,0.99578239947284808,4.5888854490803476E-3,6.5669863905315928E-2,0.11439628125497975,null,0.89999788220633403,0.84975500041570406,1.1326597604321547,0.84597576750413894,1.1365292423056068,0.34162791057181785,1.0034162791057182,1.8024760484695399,2.1692534656516447,2.1766642409413572]
[6830,0.68300000000000005,2.143673269894895,1.0065942545282414,4.3878011776441905E-2,0.99584506073356638,4.5205658453598366E-3,6.5544897481326012E-2,0.11394347510312774,null,0.90037330449287367,0.85030278235178125,1.1333899127186169,0.84653604870505161,1.1372819541363841,0.34339827574709769,1.003433982757471,1.93438804149628,2.3280076129132619,2.336001950915267]
[6840,0.68400000000000005,2.1374098013063842,1.006557825420352,4.3620398680473987E-2,0.99590679294509332,4.4532633880258465E-3,6.5420351173866964E-2,0.1134940132423668,null,0.90074610889411078,0.85084686775048268,1.1341151377976648,0.84709255880343493,1.1380295996656611,0.3451555964236297,1.0034515559642363,2.0634860992431601,2.4833752303715353,2.4919467389593608]
[6850,0.68500000000000005,2.1311737439394745,1.0065215597936321,4.3364675799700977E-2,0.99596760982545596,4.3869629337413485E-3,6.5296222959462955E-2,0.11304786169290529,null,0.901116320230822,0.85138729023837123,1.1348354804909875,0.84764533198993386,1.1387722248269845,0.34690000477370919,1.0034690000477371,2.10287308692932,2.5307768918872751,2.5395561570460439]
[6860,0.68600000000000005,2.1249649380785214,1.0064854566651171,4.3110826494049001E-2,0.99602752489179658,4.3216495646247639E-3,6.5172510827319424E-2,0.11260498688599319,null,0.90148396305134826,0.85192408309556289,1.1355509851584871,0.8481944021047968,1.13950987508316,0.34863163137677233,1.0034863163137677,2.08734107017517,2.5120843377192976,2.5208422583274488]
[6870,0.68700000000000006,2.1187832251694498,1.0064495150592672,4.2858834294317444E-2,0.99608655146326597,4.2573085848922436E-3,6.5049212779224694E-2,0.11216535565843438,null,0.9018490616347028,0.85245727925923065,1.1362616957029472,0.84873980264137894,1.1402425954309587,0.35035060524053474,1.0035035060524053,2.1899158954620401,2.6355316342484723,2.6447652352803677]
[6880,0.68799999999999994,2.1126284478096271,1.0064137340078985,4.2608682900173625E-2,0.99614470266387467,4.193925517551887E-3,6.4926326829453276E-2,0.11172893524717878,null,0.9022116399936464,0.85298691132707849,1.1369676555746657,0.8492815667496193,1.1409704304057871,0.35205705382166386,1.0035205705382166,2.3769829273223899,2.8606640611213767,2.8707352307346956]
[6890,0.68899999999999995,2.1065004497378466,1.0063781125501154,4.2360356178174394E-2,0.99620199142530541,4.1314861011463155E-3,6.4803851004669608E-2,0.11129569328399032,null,0.90257172187772916,0.85351301156078918,1.1376689077760491,0.84981972723949095,1.1416934240863237,0.3537511030464735,1.0035375110304647,2.4598939418792698,2.9604462500835651,2.9709188613483337]
[6900,0.69,2.1003990758244071,1.0063426497322474,4.2113838159813594E-2,0.99625843048968665,4.0699762865434403E-3,6.468178334383283E-2,0.11086559779018987,null,0.90292933077629989,0.85403561188944643,1.1383654948661741,0.85035431658442917,1.1424116200991241,0.35543287733135198,1.0035543287733135,2.6448678970336901,3.1830596898653134,3.1943733305081761]
[6910,0.69099999999999995,2.0943241720612971,1.0063073446077797,4.1869113039595299E-2,0.9963140324123273,4.0093822337752341E-3,6.456012189810359E-2,0.11043861717147413,null,0.90328448992148402,0.85455474391292929,1.1390574589653122,0.85088536692472805,1.1431250616231843,0.35710249960234641,1.0035710249960235,2.7384259700775102,3.2956554574275621,3.307424325444317]
[6920,0.69199999999999995,2.0882755855524744,1.0062721962372918,4.1626165173132328E-2,0.99636880956441254,3.9496903089243432E-3,6.4438864730748682E-2,0.11001472021280535,null,0.9036372222911303,0.85507043890528101,1.1397448417594205,0.85141291007091768,1.1438337913944769,0.35876009131521336,1.0035876009131521,2.78071093559265,3.3465447927208447,3.3585508598751144]
[6930,0.69299999999999995,2.0822531645042468,1.0062372036883909,4.1384979075269654E-2,0.99642277413566316,3.8908870810558465E-3,6.4318009917050209E-2,0.1095938760733757,null,0.9039875506117232,0.85558272781804923,1.1404276845045931,0.85193697750710984,1.1445378517104476,0.36040577247473671,1.0036040577247474,2.9327709674835201,3.5295468090008648,3.5422674994427017]
[6940,0.69399999999999995,2.0762567582157487,1.0062023660356505,4.1145539418232603E-2,0.99647593813695701,3.8329593191954274E-3,6.4197555544212831E-2,0.10917605428164086,null,0.90433549736126695,0.85609164128360093,1.1411060280314809,0.85245760039432017,1.1452372844344769,0.3620396616537791,1.0036203966165378,3.08281302452087,3.7101202221666782,3.7235523288659591]
[6950,0.69499999999999995,2.0702862170695102,1.0061676823605461,4.0907831029798926E-2,0.99652831340291403,3.775893989352267E-3,6.4077499711273717E-2,0.1087612247304249,null,0.90468108477213649,0.85659720961840957,1.1417799127496717,0.8529748095737647,1.1459321310003092,0.36366187601233335,1.0036366187601233,3.2241129875183101,3.8801726534813161,3.894283362145484]
[6960,0.69599999999999995,2.0643413925221301,1.0061331517513943,4.0671838891495261E-2,0.99657991159444503,3.7196782515863565E-3,6.3957840529011337E-2,0.10834935767209296,null,0.90502433483389921,0.85709946282631577,1.1424493786520378,0.85348863557012811,1.146622432416444,0.36527253131599657,1.00365272531316,3.3908140659332302,4.0807949543360076,4.095700977363526]
[6970,0.69699999999999995,2.0584221370950315,1.0060987733032902,4.0437548136816527E-2,0.99663074420126452,3.6642994571196158E-3,6.3838576119857299E-2,0.10794042371379345,null,0.90536526929610317,0.85759843060176022,1.1431144653190439,0.85399910859480765,1.1473082292704935,0.36687174195446648,1.0036687174195447,3.38210892677307,4.0703184471401475,4.0852512953302647]
[6980,0.69799999999999995,2.0525283043653171,1.0060645461180482,4.0204944049468998E-2,0.99668082254436874,3.6097451454895862E-3,6.3719704617807058E-2,0.10753439381276564,null,0.90570390967103864,0.85809414233299053,1.1437752119230229,0.85450625854912898,1.1479895617335032,0.3684596209595048,1.003684596209595,3.4646840095520002,4.1696963471387409,4.185059994494571]
[6990,0.69899999999999995,2.0466597489567158,1.0060304693041402,3.9974012061636033E-2,0.99673015777847851,3.5560030417459243E-3,6.3601224168332859E-2,0.10713123927171481,null,0.90604027723646618,0.85858662710523947,1.1444316572324109,0.85501011502753732,1.148666469564239,0.37003628002296729,1.0037003628002297,3.4257979393005402,4.122897532402658,4.1381537490607192]
[7000,0.7,2.0408163265306123,1.0059965419766368,3.9744737752266106E-2,0.99677876089444761,3.5030610536887063E-3,6.3483132928296382E-2,0.10673093173425119,null,0.90637439303831668,0.8590759137038787,1.1450838396159524,0.85551070732076107,1.1493389921134369,0.37160182951421206,1.0037160182951421,3.5634651184082,4.2885779616318525,4.3045143957974199]
[7010,0.70099999999999996,2.03499789377718,1.0059627632571491,3.9517106845383648E-2,0.9968266427216379,3.4509072691472241E-3,6.3365429065863108E-2,0.10633344318039398,null,0.90670627789336133,0.8595620306175431,1.1457317970468635,0.85600806441894883,1.1500071683280184,0.37315637849755223,1.0037315637849755,3.7115919589996298,4.4668464399186076,4.4835147623268545]
[7020,0.70199999999999996,2.0292043084065883,1.0059291322737693,3.9291105208421037E-2,0.99687381393026031,3.3995299532999738E-3,6.3248110760416379E-2,0.1059387459221374,null,0.9070359523918522,0.86004500604122902,1.146375567106962,0.85650221501478163,1.150671036755271,0.37470003474946445,1.0037470003474946,3.77689909934998,4.5454426246818302,4.56247439977603]
[7030,0.70299999999999996,2.0234354291403034,1.0058956481610137,3.906671885057262E-2,0.99692028503368335,3.3489175460340382E-3,6.3131176202473632E-2,0.10554681259908029,null,0.90736343690013288,0.86052486787936622,1.1470151869907628,0.85699318750655717,1.1513306355469914,0.37623290477526439,1.0037623290477526,3.7893519401550302,4.5604294357945214,4.5775872719310371]
[7040,0.70399999999999996,2.0176911157024797,1.0058623100597657,3.8843933921169943E-2,0.99696606639070851,3.2990586593443392E-3,6.3014623593602256E-2,0.10515761617411654,null,0.90768875156322171,0.86100164374886146,1.1476506935095336,0.85748101000124721,1.1519860024635942,0.37775509382589334,1.0037775509382589,3.75918388366699,4.524122622650335,4.5412127263083262]
[7050,0.70499999999999996,2.011971228811428,1.0058291171172182,3.8622736708077664E-2,0.9970111682078141,3.2499420747709581E-3,6.2898451146335688E-2,0.1047711299291843,null,0.90801191630736533,0.86147536098211752,1.14828212309532,0.85796571031753188,1.1526371748781865,0.37926670591430511,1.0037926670591431,2.73738694190979,3.2944050022796834,3.3068995836113055]
[7060,0.70599999999999996,2.0062756301711757,1.0057960684868203,3.840311363611057E-2,0.99705560054136688,3.2015567408752565E-3,6.2782657084093099E-2,0.10438732746107893,null,0.90833295084256283,0.86194604663002139,1.1489095118049277,0.85844731598880253,1.1532841897806041,0.38076784383165307,1.0038076784383165,1.9395090341568,2.3341706524087615,2.3430584236732894]
[7070,0.70699999999999996,2.0006041824631038,1.0057631633282187,3.8185051265470303E-2,0.99709937329980292,3.1538917707528771E-3,6.2667239641095246E-2,0.10400618267731843,null,0.90865187466506581,0.86241372746491163,1.149532895323879,0.8589258542661441,1.1539270837814166,0.38225860916312193,1.0038225860916312,2.1425719261169398,2.5785538621073303,2.5884106062371437]
[7080,0.70799999999999996,1.9949567493376745,1.0057304008072054,3.7968536290202887E-2,0.997142496245777,3.1069364395844893E-3,6.2552197062286083E-2,0.10362766979207347,null,0.90896870705984356,0.8628784299835125,1.1501523089703221,0.85940135212128543,1.1545658931158922,0.38373910230389274,1.0038373910230389,1.97993099689484,2.3828178912069622,2.3919616951922165]
[7090,0.70899999999999996,1.9893331954062319,1.0056977800956632,3.7753555536675476E-2,0.99718497899828207,3.0606801822224789E-3,6.243752760325106E-2,0.10325176332214901,null,0.90928346710302876,0.86334018040984606,1.1507677876989137,0.85987383624952829,1.1552006536479313,0.3852094224745084,1.0038520942247451,1.58485102653503,1.9073449462875225,1.9146922187397133]
[7100,0.71,1.9837333862328907,1.0056653003715108,3.7540095962072778E-2,0.9972268310347383,3.0151125908138522E-3,6.2323229530138226E-2,0.10287843808302485,null,0.90959617366432854,0.86379900469811688,1.151379366104665,0.86034333307264699,1.1558314008739639,0.38666966773610589,1.0038666966773611,1.6943290233612101,2.0391001084320832,2.0469846900461643]
[7110,0.71099999999999997,1.9781571883264988,1.0056329608186509,3.7328144652912724E-2,0.99726806169305282,2.9702234124582877E-3,6.220930111957905E-2,0.10250766918495006,null,0.90990684540941424,0.86425492853556862,1.151987078426747,0.86080986874176435,1.1564581699268115,0.38811993500575959,1.0038811993500576,1.8363629579544101,2.2100358637881934,2.218613453546332]
[7120,0.71199999999999997,1.9726044691326856,1.0056007606269177,3.7117688823581213E-2,0.99730868017365004,2.926002546901126E-3,6.2095740658611634E-2,0.10213943202909398,null,0.9102155008022792,0.86470797734531546,1.1525909585522665,0.86127346914019887,1.1570809955795129,0.38956032007106955,1.0038956032007107,1.66491603851318,2.0037020129228953,2.0115076408977082]
[7130,0.71299999999999997,1.9670750970259792,1.0055686989920249,3.6908715814885112E-2,0.99734869554147265,2.8824400442613194E-3,6.1982546444601577E-2,0.10177370230374801,null,0.91052215810757364,0.86515817628914782,1.1531910400200054,0.86173415988628888,1.1576999122491187,0.39099091760503857,1.0039099091760504,1.42430603504181,1.7141314056774339,1.7208335037894482]
[7140,0.71399999999999997,1.9615689413020114,1.0055367751155133,3.6701213092624189E-2,0.99738811672795535,2.8395261027918495E-3,6.1869716785166902E-2,0.10141045598058293,null,0.91082683539291187,0.86560555027031028,1.1537873560241234,0.86219196633618911,1.1583149540004478,0.39241182118048279,1.0039241182118048,1.5705089569091799,1.8900844760211304,1.8975013909353344]
[7150,0.71499999999999997,1.9560858721697887,1.0055049882047009,3.6495168246180737E-2,0.99742695253296931,2.7972510666748104E-3,6.1757249998101463E-2,0.10104966931095702,null,0.91112955053115241,0.86605012393625491,1.1543799394178273,0.86264691358664125,1.1589261545498097,0.39382312328426483,1.0039382312328426,1.7019280195236199,2.0482453887673073,2.0563118527298765]
[7160,0.71599999999999997,1.9506257607440467,1.005473337472633,3.6290568987127486E-2,0.99746521162673951,2.7556054238486666E-3,6.1645144411299348E-2,0.1006913188222755,null,0.91143032120265444,0.86649192168136835,1.1549688227170076,0.86309902647772074,1.1595335472686947,0.39522491533137138,1.0039522491533137,1.74446797370911,2.0994415991823585,2.1077391154651584]
[7170,0.71699999999999997,1.9451884790376766,1.0054418221380308,3.6087403147852873E-2,0.99750290255173435,2.7145798038683304E-3,6.1533398362680694E-2,0.10033538131440189,null,0.91172916489750544,0.86693096764967104,1.1555540381038345,0.8635483295955555,1.1601371651874264,0.39661728767894644,1.0039661728767895,1.8189460039138801,2.1890748152651938,2.1977570644227615]
[7180,0.71799999999999997,1.9397738999542216,1.0054104414252427,3.588565868020379E-2,0.99754003372452926,2.6741649757960392E-3,6.1422010200117297E-2,9.9981833856117128E-2,null,0.91202609891772712,0.86736728573749544,1.1561356174303294,0.86399484727502207,1.1607370409987838,0.39800032963968057,1.0039800032963968,1.9399820566177399,2.3347399279969703,2.3440322006066276]
[7190,0.71899999999999997,1.934381897280453,1.0053791945641966,3.5685323654145583E-2,0.99757661343764248,2.6343518461250234E-3,6.131097828135975E-2,9.9630653781630357E-2,null,0.91232114037945267,0.86780089959613282,1.1567135922218916,0.86443860360241265,1.1613332070615843,0.3993741294955333,1.0039937412949553,1.9864410161971999,2.3906526038762896,2.4002002519022829]
[7200,0.72,1.9290123456790123,1.0053480807903499,3.5486386256438775E-2,0.99761264986134546,2.5951314567331028E-3,6.1200300973964332E-2,9.9281818687136203E-2,null,0.91261430621508211,0.86823183263445836,1.1572879936807985,0.86487962241808092,1.1619256954042383,0.40073877451103357,1.0040073877451103,1.9674129486084,2.3677526038476038,2.377241106615716]
[7210,0.72099999999999997,1.9236651206811315,1.0053170993446421,3.5288834789332681E-2,0.99764815104544702,2.5564949828672323E-3,6.1089976655221076E-2,9.8935306427420988E-2,null,0.91290561317541097,0.86866010802153026,1.1578588526896687,0.8653179273190601,1.1625145377282664,0.40209435094638035,1.0040209435094638,2.14768409729004,2.5847062850722109,2.5950992430330424]
[7220,0.72199999999999998,1.918340098679415,1.005286249473448,3.5092657669275253E-2,0.99768312492105216,2.5184337311578379E-3,6.0980003712082523E-2,9.8591095112515612E-2,null,0.91319507783173437,0.86908574868916277,1.158426199814893,0.86575354166165608,1.1630997654117836,0.40344094407027686,1.0040344094407028,2.3142619132995601,2.785180241431382,2.7964167988914714]
[7230,0.72299999999999998,1.9130371569206988,1.0052555304285307,3.4897843425639188E-2,0.99771757930229565,2.4809391376627602E-3,6.0870380541092589E-2,9.8249163104394535E-2,null,0.91348271657792945,0.86950877733447418,1.1589900653100298,0.86618648856401748,1.1636814095129508,0.40477863817289794,1.004047786381729,2.4397890567779501,2.9362503159852467,2.9481356300276391]
[7240,0.72399999999999998,1.9077561734989774,1.005224941466994,3.470438069946423E-2,0.99775152188805116,2.4440027659400065E-3,6.0761105548316499E-2,9.7909489013720735E-2,null,0.91376854563251086,0.86992921642241194,1.1595504791191711,0.86661679090867916,1.164259500773394,0.40610751657832456,1.0040610751657832,2.6426041126251198,3.180335258559861,3.1932508390972631]
[7250,0.72499999999999998,1.902497027348395,1.0051944818512384,3.451225824221487E-2,0.99778496026361463,2.4076163051504683E-3,6.065217714927125E-2,9.7572051696636589E-2,null,0.91405258104066356,0.87034708818824902,1.1601074708802703,0.86704447134508122,1.1648340696215858,0.4074276616569783,1.0040742766165698,2.9004430770874001,3.4906406674526687,3.5048625031009184]
[7260,0.72599999999999998,1.8972595982363079,1.0051641508489135,3.4321464914553845E-2,0.99781790190236552,2.371771568186784E-3,6.0543593768856423E-2,9.7236830251597045E-2,null,0.91433483867625442,0.87076241464005966,1.1606610699284416,0.86746955229206513,1.1654051461762007,0.40873915483798928,1.0040873915483799,3.0899899005889901,3.7187574871647575,3.7339575050882692]
[7270,0.72699999999999998,1.8920437667564129,1.0051339477328751,3.4131989685130919E-2,0.99785035416740264,2.3364604898318043E-3,6.0435353841286239E-2,9.6903804016248957E-2,null,0.91461533424381602,0.871175217561168,1.1612113052992246,0.86789205594034335,1.1659727602494332,0.41004207662116432,1.0041004207662116,3.1512820720672599,3.7925217158264615,3.8080726506263449]
[7280,0.72799999999999998,1.8868494143219419,1.0051038717811385,3.3943821629386681E-2,0.99788232431315671,2.3016751249441761E-3,6.0327455810021108E-2,9.6572952564351972E-2,null,0.91489408328051147,0.87158551851257271,1.1617582057318148,0.86831200425494581,1.1665369413502831,0.41133650658899956,1.00411336506589,3.3170299530029301,3.9919968575069333,4.0084173979237452]
[7290,0.72899999999999998,1.8816764231589209,1.0050739222768363,3.3756949928371416E-2,0.99791381948698077,2.2674076466699081E-3,6.0219898127701239E-2,9.6244255702742559E-2,null,0.91517110115807454,0.87199333883534846,1.1623017996722664,0.86872941897764222,1.16709771868781,0.41262252341824901,1.0041262252341825,3.5769228935241699,4.30477419643623,4.3225366643530228]
[7300,0.73,1.8765246762994932,1.005044098508173,3.3571363867578412E-2,0.99794484673071659,2.2336503446817916E-3,6.011267925607907E-2,9.5917693468339282E-2,null,0.91544640308472891,0.87239869965302352,1.1628421152766606,0.86914432162934097,1.1676551211743575,0.41390020489169288,1.0041390020489169,3.8801798820495601,4.6697395305944003,4.6890675920794385]
[7310,0.73099999999999998,1.8713940575753099,1.0050143997683834,3.3387052835792103E-2,0.99797541298223913,2.2003956234444544E-3,6.0005797665954104E-2,9.5593246125190656E-2,null,0.91572000410708199,0.87280162187392996,1.163379180414237,0.86955673351246243,1.1682091774287402,0.4151696279095729,1.0041516962790957,4.1138367652893102,4.9509421597064813,4.9714969678489531]
[7320,0.73199999999999998,1.8662844516109767,1.0049848253556881,3.3204006323950097E-2,0.99800552507697848,2.1676360005054764E-3,5.9899251837106683E-2,9.5270894161562258E-2,null,0.91599191911200062,0.87320212619353554,1.1639130226705046,0.86996667571329067,1.1687599157794035,0.41643086850065014,1.0041643086850065,4.2993898391723597,5.1742525603772078,5.1957997452528035]
[7330,0.73299999999999998,1.861195743817573,1.0049553745732527,3.3022213924019765E-2,0.99803518974942051,2.1353641048114285E-3,5.9793040258233537E-2,9.4950618287064734E-2,null,0.9162621628284614,0.87360023309674717,1.1644436693503093,0.87037416910430065,1.1693073642675507,0.4176840018336847,1.0041768400183368,4.5432209968566903,5.467699779434402,5.4905374866813954]
[7340,0.73399999999999999,1.8561278203862235,1.0049260467291445,{"$f":"9.4977*0.001*C386^2*D386*EXP(-h_/7.996/1000)","v":3.2841665327888271E-2},0.99806441363458531,2.103572675049516E-3,{"$f":"2.5*LOG(EXP(AOD_*(B386/0.55)^(-1.3)))","v":5.9687161426883358E-2},9.4632399429821143E-2,null,0.91653074982938265,{"$f":"10^(-0.4*I386*MAr)","v":0.87399596286019421},1.1649711474808793,{"$f":"10^(-0.4*I386*MAc)","v":0.87077923434646198},1.1698515506502365,0.41892910222802726,1.0041892910222803,4.7341418266296396,5.6974701955249305,5.7213385562647527]
[7350,{"$f":"+A387/10000","v":0.73499999999999999},{"$f":"+(1/B387)^2","v":1.8510805682817344},{"$f":"0.23465+1.076*100/(146-C387)+0.93161/(41-C387)","v":1.0048968411362917},3.2662350326266625E-2,{"$f":"+EXP(-0.0168*EXP(-15*ABS(B387-0.59)))","v":0.99809320326948425},{"$f":"-2.5*LOG(F387)","v":2.0722545580140546E-3},5.9581613849392853E-2,{"$f":"+E387+G387+H387","v":9.4316218733673532E-2},null,{"$f":"10^(-0.4*I387)","v":0.91679769453343174},0.87438933555448639,{"$f":"+L387/M$1","v":1.1654954838148339},0.87118189189151907,{"$f":"+N387/O$1","v":1.1703925024034321},{"$f":"(O387/M387-1)*100","v":0.42016624316463247},{"$f":"+O387/M387","v":1.0042016624316463},4.7359108924865696,{"$f":"+R387/S$1","v":5.6995992403154947},{"$f":"+S387*Q387","v":5.7235470323189679}]
[7360,0.73599999999999999,1.8460538752362949,1.004867757112442,3.2484258807607219E-2,0.99812156509455674,2.0414027069965168E-3,5.9476396040823276E-2,9.400205755542701E-2,null,0.91706301120681466,0.87478037104645001,1.1660167048331642,0.87158216198425054,1.1709302467250593,0.42139549729676151,1.0042139549729676,4.9594049453735396,5.9685710522789561,5.993722341946218]
[7370,0.73699999999999999,1.8410476297432292,1.0048387939801224,3.2307380757034536E-2,0.99814950545508563,2.011010180200206E-3,5.937150652489831E-2,9.3689897462133048E-2,null,0.9173267139650414,0.8751690890013395,1.1665348367481814,0.87198006466470179,1.1714648105379908,0.42261693646048482,1.0042261693646048,5.3757209777831996,6.4696012861496381,6.4969429169063719]
[7380,0.73799999999999999,1.836061721050815,1.0048099510665978,3.2131706255289182E-2,0.99817703060259222,1.9810701391785365E-3,5.9266943833941037E-2,9.3379720228408764E-2,null,0.91758881677467297,0.87555550888502909,1.1670499055064376,0.87237561977039879,1.1719962204930232,0.42383063168487389,1.0042383063168487,5.39076900482178,6.4877113657994494,6.5152082738630082]
[7390,0.73899999999999999,1.8310960391561575,1.0047812277038317,3.1957225477684786E-2,0.99820414669621171,1.9515758472959189E-3,5.9162706508813279E-2,9.3071507833793976E-2,null,0.91784933345504682,0.87593964996617835,1.1675619367916126,0.87276884693853662,1.1725245029718183,0.42503665320252626,1.0042503665320253,5.4671859741210902,6.5796780666207315,6.6076441100665972]
[7400,0.74,1.8261504747991233,1.0047526232284472,3.1783928693077827E-2,0.99823085980404824,1.9225206682121768E-3,5.9058793098853743E-2,9.2765242460143754E-2,null,0.91810827767998271,0.87632153131837776,1.1680709560273734,0.87315976560814668,1.1730496840898139,0.42623507045951303,1.0042623507045951,5.6008567810058603,6.7405489205427269,6.7692795039835598]
[7410,0.74099999999999999,1.8212249194563281,1.0047241369816866,3.1611806262849956E-2,0.99825717590451035,1.8938980643894809E-3,5.8955202161817093E-2,9.2460906489056527E-2,null,0.91836566297946798,0.87670117182227192,1.1685769883802055,0.87354839502224213,1.1735717896991067,0.42742595212530432,1.004274259521253,5.52781009674072,6.6526383082874014,6.6810734109180512]
[7420,0.74199999999999999,1.8163192653351834,1.0046957683093736,3.1440848639902735E-2,0.99828310088762751,1.8657015956211735E-3,5.8851932263814966E-2,9.2158482499338876E-2,null,0.91862150274132315,0.87707859016765821,1.1690800587622083,0.8739347542299396,1.1740908453913019,0.42860936610269462,1.0042860936610269,5.5782427787780797,6.7133333008142317,6.7421072761192127]
[7430,0.74299999999999999,1.8114334053680015,1.0046675165618748,3.1271046367664902E-2,0.99830864055634716,1.837924917582913E-3,5.8748981979255474E-2,9.1857953264503286E-2,null,0.91887581021284737,0.87745380485556679,1.1695801918338693,0.87431886208856013,1.1746068765003366,0.42978537953739515,1.004297853795374,5.6810660362243697,6.8370795818005146,6.8664643502304292]
[7440,0.74399999999999999,1.8065672332061509,1.0046393810940615,3.1102390079111489E-2,0.99833380062781352,1.8105617804049106E-3,5.8646349890784509E-2,9.1559301750300914E-2,null,0.9191285985024461,0.87782683420031637,1.1700774120068034,0.87470073726570896,1.1751199081052732,0.43095405882773719,1.0043095405882774,5.7280430793762198,6.8936157636542177,6.9233240805876743]
[7450,0.745,1.8017206432142698,1.0046113612652718,3.0934870495794985E-2,0.99835858673462741,1.7836060272658173E-3,5.8544034589226412E-2,9.1262511112287212E-2,null,0.91937988058123843,0.87819769633155087,1.1705717434464675,0.87508039824133277,1.1756299650330642,0.43211546963399794,1.00432115469634,5.8060789108276403,6.9875307413121641,7.0177249425908048]
[7460,0.746,1.7968935304645328,1.0045834564392737,3.076847842688828E-2,0.99838300442608785,1.7570515930076243E-3,5.8442034673527654E-2,9.0967564693423555E-2,null,0.91962966928464362,0.8785664091962504,1.1710632100748422,0.87545786330975384,1.1761370718612836,0.43326967688765983,1.0043326967688766,5.7851810455322301,6.9623804671904743,6.9925463505443597]
[7470,0.747,1.792085790730974,1.0045556659842285,3.0603204768239405E-2,0.99840705916941641,1.7308925027703476E-3,5.8340348750696575E-2,9.0674446021706323E-2,null,0.91987797731395438,0.87893299056072693,1.1715518355730903,0.87583315058168842,1.1766412529208394,0.43441674480066972,1.0043441674480067,5.8236598968505904,7.0086891999181695,7.0391361193936497]
[7480,0.748,1.7872973204838571,1.0045279892726533,3.0439040501437357E-2,0.99843075635096246,1.705122870648502E-3,5.8238975435749199E-2,9.0383138807835051E-2,null,0.92012481723788431,0.87929745801259229,1.1720376433841808,0.87620627798623596,1.177142532298646,0.43555673687452057,1.0043555673687452,5.9152078628540004,7.1188658331637962,7.1498725328891997]
[7490,0.749,1.7825280168841053,1.0045004256813861,3.02759766928897E-2,0.99845410127739231,1.679736898366084E-3,5.8137913351649979E-2,9.0093626942905763E-2,null,0.92037020149410298,0.879659828962712,1.1725206567154931,0.87657726327285568,1.1776409338402791,0.43668971590906658,1.0043668971590907,5.8237991333007804,7.0088567689421106,7.0394637256548771]
[7500,0.75,1.7777777777777777,1.0044729745915486,3.0114004492910965E-2,0.99847709917686034,1.6547288739722082E-3,5.8037161129257581E-2,8.9805894496140751E-2,null,0.92061414239075023,0.88002012064713209,1.1730008985413858,0.87694612401331584,1.1781364811525956,0.4378157440114494,1.0043781574401145,5.8,6.9802148613638879,7.0107753409927662]

{"sheet":"Sp","index":6,"n_rows":402,"n_cols":3,"rows_kept":402,"cut":false,"hidden":false,"merged":[]}
["A0V","G5V","M5III"]
[1.5708316564559901,0.56608688831329301,3.42920012772083E-2]
[1.55176949501038,0.56227791309356701,8.8468998670578003E-2]
[1.56819760799408,0.51974195241928101,8.1712000072002397E-2]
[1.58313453197479,0.63187336921691895,0.100615002214909]
[1.56829905509949,0.64365226030349698,0.102376997470856]
[1.5384112596511801,0.57788026332855202,0.101504996418953]
[1.57178974151611,0.49893116950988797,8.5654996335506398E-2]
[1.5365446805953999,0.47677415609359702,6.5240003168582902E-2]
[1.5243955850601201,0.44234716892242398,7.2071000933647197E-2]
[1.5605888366699201,0.59503448009491,9.2969998717308003E-2]
[1.5697674751281701,0.53815656900405895,9.0103998780250494E-2]
[1.5655332803726201,0.51304090023040805,9.7662001848220797E-2]
[1.5767921209335301,0.65612900257110596,0.11575300246477099]
[1.5666375160217301,0.58083403110504195,0.114561997354031]
[1.52202808856964,0.57431566715240501,0.115183003246784]
[1.56538605690002,0.75707066059112504,0.13111099600791901]
[1.5603615045547501,0.71178406476974498,0.14084799587726601]
[1.47732925415039,0.71910446882247903,0.145561993122101]
[1.5008801221847501,0.64062708616256703,0.12973800301551799]
[1.4255837202072099,0.75043368339538596,0.14071199297904999]
[1.7047582864761399,0.63015699386596702,0.13614399731159199]
[1.8769659996032699,0.71218806505203203,0.138440996408463]
[1.8975924253463701,0.62101137638091997,0.107655003666878]
[1.53316521644592,0.464212685823441,9.5393002033233601E-2]
[1.6355737447738601,0.49823445081710799,0.103295996785164]
[2.3141236305236799,0.64354336261749301,0.12926800549030301]
[1.6752028465271001,0.60547798871993996,0.13625299930572499]
[2.4089193344116202,0.788157999515533,0.17744700610637701]
[2.8878042697906499,0.800714612007141,0.16189700365066501]
[1.00468361377716,0.63870871067047097,0.13626700639724701]
[2.7846627235412602,0.77166175842285201,0.15756000578403501]
[3.5767402648925799,0.64533352851867698,0.13136999309062999]
[2.53535056114197,0.45426028966903698,0.108388997614384]
[1.2948476076126101,0.393474191427231,0.125223994255066]
[3.1823132038116499,0.62682217359542802,0.13704499602317799]
[3.84701704978943,0.60104125738143899,0.128978997468948]
[3.85328269004822,0.64972913265228305,0.138374999165535]
[3.15845847129822,0.60809308290481601,0.142909005284309]
[1.2493329048156701,0.57521796226501498,0.14912499487400099]
[2.5562472343444802,0.72086435556411699,0.170305997133255]
[3.6923518180847199,0.71882259845733598,0.171924993395805]
[4.0023040771484402,0.78962641954421997,0.17225900292396501]
[4.0853362083435103,0.56995272636413596,0.115007996559143]
[4.0456881523132298,0.34854206442832902,8.3778999745845795E-2]
[3.85045337677002,0.57881283760070801,0.137553006410599]
[3.1457977294921902,0.73213279247283902,0.168656006455421]
[1.4596638679504399,0.49790424108505199,0.102829001843929]
[2.3486783504486102,0.594155132770538,0.16201800107955899]
[3.5623612403869598,0.86663174629211404,0.24302099645137801]
[3.82317113876343,1.00183093547821,0.27612099051475503]
[4.0850272178649902,1.0198512077331501,0.30139100551605202]
[4.0896015167236301,1.0759369134903001,0.32815200090408297]
[4.0765576362609899,1.0890705585479701,0.30793699622154203]
[4.1001172065734899,1.0290888547897299,0.31421700119972201]
[4.1014761924743697,0.99060976505279497,0.32870799303054798]
[3.9656112194061302,1.0113685131073,0.33882400393486001]
[3.71712327003479,0.95504575967788696,0.33698800206184398]
[3.43282246589661,0.99744504690170299,0.34312498569488498]
[3.1895670890808101,1.0978206396102901,0.39694699645042397]
[1.8028867244720499,1.06333792209625,0.38879698514938399]
[1.9626268148422199,1.00111615657806,0.372871994972229]
[3.2372949123382599,1.1004658937454199,0.37202098965644798]
[3.5352556705474898,1.0948184728622401,0.37095800042152399]
[3.7791650295257599,1.06557321548462,0.35759499669075001]
[3.8722264766693102,1.0547741651535001,0.36596599221229598]
[3.8239076137542698,1.0778238773345901,0.414537012577057]
[3.8098273277282702,1.11832046508789,0.41823899745941201]
[3.6724112033843999,1.0547149181366,0.36382299661636402]
[3.6382474899292001,1.0402930974960301,0.40435299277305597]
[3.8219838142395002,1.03454041481018,0.38645699620246898]
[3.8216633796691899,1.0681194067001301,0.38038700819015497]
[3.7779088020324698,1.1199812889099099,0.33997601270675698]
[3.5246324539184601,1.0078305006027199,0.22946700453758201]
[3.7593121528625502,1.0139231681823699,0.31948098540306102]
[3.6016886234283398,1.0572876930236801,0.40932500362396201]
[3.7139983177185099,1.0614050626754801,0.36743900179862998]
[3.6972734928131099,1.0483973026275599,0.396014004945755]
[3.6751587390899698,0.98018801212310802,0.35960501432418801]
[3.5939853191375701,1.0120592117309599,0.36833500862121599]
[3.5091176033020002,0.92236900329589799,0.36083999276161199]
[3.3144373893737802,0.76869833469390902,0.36668899655342102]
[3.2689545154571502,0.92782300710678101,0.41981598734855702]
[2.7111628055572501,1.0225087404251101,0.46480700373649603]
[1.44327521324158,1.09477603435516,0.50780302286148105]
[2.01059174537659,1.0607228279113801,0.477277010679245]
[2.8983592987060498,1.1259480714798,0.47358500957489003]
[3.1962919235229501,1.1956330537796001,0.502948999404907]
[3.3653724193572998,1.10478532314301,0.48816800117492698]
[3.3299608230590798,0.99947714805603005,0.46056398749351501]
[3.3895468711853001,1.08315086364746,0.47961899638175998]
[3.3580687046050999,1.09686255455017,0.45873299241066001]
[3.11856269836426,1.17720758914948,0.51450097560882602]
[3.29271268844604,1.2031831741332999,0.465873003005981]
[3.3261291980743399,1.19736516475677,0.44088399410247803]
[3.2654645442962602,1.22976362705231,0.495517998933792]
[3.2587141990661599,1.17689061164856,0.46915900707244901]
[3.2113850116729701,1.1982953548431401,0.41182300448417702]
[3.2305812835693399,1.2665045261383101,0.46917900443077099]
[3.1908278465271001,1.2910590171814,0.50365400314331099]
[3.1885364055633501,1.29725325107574,0.52232098579406705]
[3.1262125968933101,1.3647936582565301,0.50565797090530396]
[3.1501414775848402,1.3487534523010301,0.50502598285675004]
[3.12771439552307,1.2719259262085001,0.49113699793815602]
[3.1376690864563002,1.2509663105011,0.50771099328994795]
[3.0851192474365199,1.2700824737548799,0.52625501155853305]
[3.0512571334838898,1.29335713386536,0.53836101293563798]
[3.0724544525146502,1.3311710357666,0.64508497714996305]
[3.02093529701233,1.3517107963562001,0.647669017314911]
[2.9491534233093302,1.2900599241256701,0.47381699085235601]
[2.9881165027618399,1.2796055078506501,0.42004901170730602]
[2.9766321182250999,1.3248436450958301,0.52550202608108498]
[2.9129545688629199,1.3651866912841799,0.62297499179840099]
[2.93225002288818,1.3679276704788199,0.49588400125503501]
[2.8972709178924601,1.3222987651825,0.40138301253318798]
[2.86485815048218,1.3151259422302199,0.43804299831390398]
[2.8221862316131601,1.3070327043533301,0.52930402755737305]
[2.7641062736511199,1.2655223608017001,0.51766300201416005]
[2.83268141746521,1.2762743234634399,0.45031198859214799]
[2.8014104366302499,1.29113161563873,0.51693201065063499]
[2.7871263027191202,1.28012800216675,0.60775798559188798]
[2.7565035820007302,1.2220151424407999,0.62307399511337302]
[2.75383496284485,1.2646369934082,0.59302699565887496]
[2.7273879051208501,1.31945145130157,0.62543499469757102]
[2.67896175384521,1.2725585699081401,0.65379101037979104]
[2.6747715473175,1.31494808197021,0.74299699068069502]
[2.65552878379822,1.3292876482009901,0.69854599237442005]
[2.63647508621216,1.2687966823577901,0.36666300892829901]
[2.62368965148926,1.31137990951538,0.40315198898315402]
[2.57030129432678,1.3250916004180899,0.46262401342392001]
[2.5759143829345699,1.35338723659515,0.53767502307891801]
[2.5260365009307901,1.3246163129806501,0.44836100935936002]
[2.5108981132507302,1.3367676734924301,0.43042299151420599]
[2.4298570156097399,1.3155602216720601,0.49944201111793501]
[2.28497219085693,1.29598677158356,0.55971002578735396]
[1.9843088388443,1.29570376873016,0.53919702768325795]
[1.2922716140747099,1.2244185209274301,0.49232700467109702]
[1.3800081014633201,1.1131350994110101,0.54425197839736905]
[1.9419618844986,1.18685638904572,0.62798601388931297]
[2.2542557716369598,1.2557792663574201,0.69025897979736295]
[2.3508882522582999,1.2755001783371001,0.75613200664520297]
[2.3928394317627002,1.28852367401123,0.85324698686599698]
[2.3958752155303999,1.27390480041504,0.92396497726440396]
[2.3977084159851101,1.24041759967804,1.0350940227508501]
[2.3859665393829301,1.2785072326660201,1.1249070167541499]
[2.3903756141662602,1.30125939846039,1.1862690448761]
[2.2890498638153098,1.30483245849609,0.66503500938415505]
[2.36805248260498,1.3112612962722801,0.34832900762558]
[2.3521256446838401,1.3114306926727299,0.44185501337051403]
[2.3537745475768999,1.23794281482697,0.500810027122498]
[2.3523359298706099,1.2629762887954701,0.51585298776626598]
[2.27470874786377,1.1895682811737101,0.41889300942420998]
[2.2711164951324498,1.2079223394393901,0.44785401225089999]
[2.2756516933441202,1.2250838279724099,0.54432702064514205]
[2.2731156349182098,1.2473218441009499,0.64808297157287598]
[2.2693212032318102,1.2150117158889799,0.74170702695846602]
[2.1801426410675,1.25509464740753,0.79039299488067605]
[2.2243597507476802,1.2788277864456199,0.86881399154663097]
[2.24094557762146,1.2491532564163199,0.93050700426101696]
[2.1975915431976301,1.24057245254517,0.98020702600479104]
[2.17044901847839,1.2796769142150899,1.0601259469986]
[2.1958212852478001,1.2463457584381099,1.06906294822693]
[2.2039954662322998,1.2746728658676101,1.1807270050048799]
[2.1668653488159202,1.25639247894287,1.22238004207611]
[2.14507389068604,1.2297165393829299,1.2852989435195901]
[2.1355283260345499,1.1958471536636399,1.20852494239807]
[2.1318106651306201,1.2120155096054099,1.3492339849471999]
[1.9934051036834699,1.12493324279785,0.93645501136779796]
[2.1043679714202899,1.0270179510116599,0.37448799610137901]
[2.1021816730499299,1.05811619758606,0.49310499429702798]
[2.0362608432769802,1.14079570770264,0.59201502799987804]
[2.0829491615295401,1.1841734647750899,0.601384997367859]
[2.0210931301116899,1.21342957019806,0.71179002523422197]
[1.8886189460754399,1.2207704782486,0.82235002517700195]
[1.98155033588409,1.2231521606445299,0.91407698392867998]
[2.0221135616302499,1.2716937065124501,0.80498397350311302]
[2.0038325786590598,1.2643116712570199,0.88018000125884999]
[1.9773017168045,1.16396749019623,0.85658001899719205]
[1.9597960710525499,1.1541457176208501,0.96505898237228405]
[1.9815833568573,1.2283024787902801,1.1117140054702801]
[1.9562357664108301,1.2734016180038501,1.1672730445861801]
[1.9456399679184,1.2556958198547401,1.1730749607086199]
[1.7218540906906099,1.2815468311309799,1.1112370491027801]
[1.90693306922913,1.2248008251190201,1.08730804920197]
[1.87693691253662,1.22106921672821,1.1224839687347401]
[1.89270055294037,1.2391500473022501,1.21625304222107]
[1.91547846794128,1.2827999591827399,1.2809979915618901]
[1.86960160732269,1.2600333690643299,1.12827801704407]
[1.8820037841796899,1.2360147237777701,1.2201999425888099]
[1.8587443828582799,1.25444996356964,1.2759330272674601]
[1.8262201547622701,1.2219752073287999,1.24272000789642]
[1.8446521759033201,1.1751185655593901,1.2488199472427399]
[1.84407806396484,1.2054922580719001,1.3284000158309901]
[1.8304643630981401,1.2266756296157799,1.3489799499511701]
[1.83210861682892,1.2216280698776201,1.38900399208069]
[1.79639208316803,1.22785007953644,1.2186969518661499]
[1.8058706521987899,1.24465119838715,0.70020300149917603]
[1.7723573446273799,1.2390109300613401,0.77932602167129505]
[1.73956799507141,1.2181469202041599,0.84884202480316195]
[1.7491439580917401,1.2293899059295701,0.95340502262115501]
[1.7675696611404399,1.2405797243118299,0.91975998878479004]
[1.7446421384811399,1.2296777963638299,0.83091998100280795]
[1.7578046321868901,1.21974956989288,0.94233500957489003]
[1.7362096309661901,1.23420405387878,1.0142719745636]
[1.73829889297485,1.2181384563446001,1.0566320419311499]
[1.7229939699173,1.22567415237427,1.1298309564590501]
[1.72488129138947,1.2531653642654399,1.10923099517822]
[1.70280337333679,1.2194520235061601,1.07764303684235]
[1.69258785247803,1.1860713958740201,1.03786396980286]
[1.64226150512695,1.18877589702606,1.05353796482086]
[1.68022441864014,1.16527140140533,0.94798600673675504]
[1.6764065027236901,1.1740651130676301,0.845064997673035]
[1.64881014823914,1.20212006568909,0.83882600069045998]
[1.64954721927643,1.1919002532959,0.80503600835800204]
[1.62905526161194,1.2169893980026201,0.81764400005340598]
[1.6291482448577901,1.2102036476135301,0.87062197923660301]
[1.6213411092758201,1.1988251209259,0.96486401557922397]
[1.60740983486176,1.1785308122634901,0.91922301054000899]
[1.5949062108993499,1.19518554210663,0.93672198057174705]
[1.58012807369232,1.1727478504180899,1.0293509960174601]
[1.58325660228729,1.1643921136856099,1.0670280456543]
[1.5653488636016799,1.1692425012588501,1.13157498836517]
[1.5625736713409399,1.14723908901215,1.1451389789581301]
[1.5453873872757,1.2013543844223,1.1547060012817401]
[1.543053150177,1.2046045064926101,1.19891798496246]
[1.5349868535995499,1.19725513458252,1.2574419975280799]
[1.5264636278152499,1.1777216196060201,1.27188396453857]
[1.5215108394622801,1.1823132038116499,1.1313840150833101]
[1.51363754272461,1.19045126438141,1.1892460584640501]
[1.5102456808090201,1.16640961170197,1.25348997116089]
[1.50697898864746,1.1634147167205799,1.3844920396804801]
[1.4925434589386,1.1742186546325699,1.4196519851684599]
[1.4979003667831401,1.19393599033356,1.1795690059661901]
[1.49202585220337,1.2104854583740201,1.1699199676513701]
[1.4889111518859901,1.2058188915252701,1.21319496631622]
[1.4765928983688399,1.2088814973831199,1.0980910062789899]
[1.46104872226715,1.18864893913269,0.88898700475692705]
[1.4621344804763801,1.17911624908447,0.86228698492050204]
[1.44910204410553,1.19869685173035,0.802468001842499]
[1.4270647764205899,1.1326212882995601,0.77865397930145297]
[1.38998711109161,1.0333174467086801,0.71014499664306596]
[1.42209112644196,1.1467492580413801,0.71262300014495905]
[1.4163224697112999,1.1702138185501101,0.73233801126480103]
[1.40907537937164,1.16976141929626,0.75391501188278198]
[1.40273332595825,1.15414094924927,0.82928901910781905]
[1.3762685060501101,1.1538276672363299,0.86059701442718495]
[1.3628172874450699,1.1443566083908101,0.84207797050476096]
[1.3651136159896899,1.15199875831604,0.89495801925659202]
[1.353475689888,1.15190446376801,0.93743801116943404]
[1.3582519292831401,1.13922083377838,1.01629197597504]
[1.3564928770065301,1.1454041004180899,1.1087609529495199]
[1.3441140651702901,1.1329829692840601,1.0879499912262001]
[1.34065341949463,1.1227898597717301,1.14314997196198]
[1.3297874927520801,1.1187220811843901,1.2123889923095701]
[1.32992935180664,1.1624712944030799,1.25653100013733]
[1.3154977560043299,1.1591267585754399,1.3467090129852299]
[1.3123866319656401,1.1421201229095499,1.3889960050582899]
[1.30466556549072,1.13470423221588,1.410640001297]
[1.30632436275482,1.14155769348145,1.46855103969574]
[1.29745829105377,1.1252913475036599,1.4681429862976101]
[1.2967264652252199,1.10211706161499,1.5586810111999501]
[1.2926605939865099,1.0919263362884499,1.5914770364761399]
[1.28500664234161,1.13514935970306,1.6278710365295399]
[1.27678334712982,1.10150623321533,1.6702140569686901]
[1.25606453418732,1.08094334602356,1.7230299711227399]
[1.2477070093154901,1.0910772085189799,1.7076100111007699]
[1.22085392475128,1.09970879554749,1.2502679824829099]
[1.2544033527374301,1.05744004249573,0.89494597911834695]
[1.2442442178726201,1.08319079875946,0.88763999938964799]
[1.23612821102142,1.1125193834304801,0.832047998905182]
[1.2357548475265501,1.1043293476104701,0.78206199407577504]
[1.22443807125092,1.11733710765839,0.84787899255752597]
[1.2151170969009399,1.1035805940628101,0.80473899841308605]
[1.21652972698212,1.10045742988586,0.75567597150802601]
[1.19576215744019,1.0898966789245601,0.78465598821640004]
[1.1623666286468499,1.0815469026565601,0.84291797876357999]
[1.19184577465057,1.07129454612732,0.92012101411819502]
[1.18014752864838,1.0781056880950901,0.99545699357986495]
[1.10792791843414,1.08831691741943,1.02059102058411]
[1.1686812639236499,1.0777670145034799,1.08303594589233]
[1.16579473018646,1.0859909057617201,1.1607090234756501]
[1.14640748500824,1.07379603385925,1.26550400257111]
[1.14104175567627,1.0604398250579801,1.39974701404572]
[1.1533952951431301,1.0706329345703101,1.42772197723389]
[1.14089643955231,1.07730495929718,1.5295499563217201]
[1.00601017475128,1.07149410247803,1.62659299373627]
[1.1416370868682899,1.07024586200714,1.53930604457855]
[1.1355493068695099,1.0610095262527499,1.57996201515198]
[1.13636898994446,1.08148765563965,1.7529829740524301]
[1.1334575414657599,1.07425081729889,1.76027500629425]
[1.1221621036529501,1.0726734399795499,1.85117304325104]
[1.1193776130676301,1.0513050556182899,2.0076849460601802]
[1.0828986167907699,1.0390980243682899,1.92203104496002]
[1.106689453125,1.0452983379364,1.8223559856414799]
[1.1083461046218901,1.0525437593460101,1.9752830266952499]
[1.08674287796021,1.0501801967620901,2.07500195503235]
[1.0281913280487101,1.0370163917541499,2.0736429691314702]
[1.0844079256057699,1.0316917896270801,2.2454450130462602]
[1.0696051120758101,1.0415910482406601,2.2014920711517298]
[1.06590616703033,1.03808081150055,1.97126996517181]
[1.03096222877502,0.99399411678314198,1.98495101928711]
[1.047523021698,1.0365179777145399,2.1323609352111799]
[1.00617074966431,1.06150662899017,2.18264603614807]
[1.0238120555877701,1.0553269386291499,2.3391520977020299]
[0.98423027992248502,1.0456249713897701,2.4863650798797599]
[0.90207678079605103,1.03749167919159,2.3455269336700399]
[0.731989204883575,0.98942679166793801,2.12571096420288]
[0.68491727113723799,0.86145353317260698,1.9972009658813501]
[0.87449526786804199,0.98719024658203103,2.0001881122589098]
[0.95205867290496804,1.0280110836029099,2.0638511180877699]
[0.99062740802764904,1.0114930868148799,1.99865794181824]
[0.99198418855667103,1.0301918983459499,1.9697359800338701]
[1.0055508613586399,1.0337105989456199,1.9458080530166599]
[0.99464732408523604,1.0331554412841799,1.81593501567841]
[1.0025774240493801,1.0067454576492301,1.7668540477752701]
[0.99774563312530495,1.0030708312988299,1.68969202041626]
[0.99134290218353305,1.0157930850982699,1.45170497894287]
[0.99876797199249301,1.00710105895996,1.52634501457214]
[0.98647314310073897,1.00473880767822,1.5296280384063701]
[0.98565328121185303,1.00401067733765,1.34353995323181]
[0.98024749755859397,1.0117386579513601,1.3886760473251301]
[0.97408616542816195,1.0092867612838701,1.4655170440673799]
[0.97062402963638295,0.98013722896575906,1.3267780542373699]
[0.97335422039032005,0.98001986742019698,1.27093398571014]
[0.94954127073287997,0.99607825279235795,1.3757899999618499]
[0.95801150798797596,0.994365453720093,1.41634297370911]
[0.94734001159668002,0.98551136255264304,1.43736100196838]
[0.93222534656524703,0.99393004179000899,1.5663319826126101]
[0.94468706846237205,0.99301195144653298,1.6676429510116599]
[0.93639397621154796,0.99157136678695701,1.53287696838379]
[0.94396954774856601,0.99460858106613204,1.5911550521850599]
[0.93678790330886796,0.988838911056519,1.6898829936981199]
[0.93376797437667802,0.98115324974060103,1.72678995132446]
[0.93255645036697399,0.97857320308685303,1.8024760484695399]
[0.92663246393203702,0.96596944332122803,1.93438804149628]
[0.91862571239471402,0.96201050281524703,2.0634860992431601]
[0.913083076477051,0.97300797700882002,2.10287308692932]
[0.919921934604645,0.98807448148727395,2.08734107017517]
[0.88673883676528897,0.98440945148467995,2.1899158954620401]
[0.87537008523940996,0.97817409038543701,2.3769829273223899]
[0.86853981018066395,0.98251765966415405,2.4598939418792698]
[0.90070253610610995,0.98375385999679599,2.6448678970336901]
[0.89607769250869795,0.97334182262420699,2.7384259700775102]
[0.88624006509780895,0.96300357580184903,2.78071093559265]
[0.88133174180984497,0.95824509859085105,2.9327709674835201]
[0.890555679798126,0.95488607883453402,3.08281302452087]
[0.88469284772872903,0.95385915040969804,3.2241129875183101]
[0.87569701671600297,0.95906031131744396,3.3908140659332302]
[0.86819624900817904,0.95146542787551902,3.38210892677307]
[0.86012458801269498,0.94502198696136497,3.4646840095520002]
[0.87544816732406605,0.94946473836898804,3.4257979393005402]
[0.87067979574203502,0.94030946493148804,3.5634651184082]
[0.86266630887985196,0.93861728906631503,3.7115919589996298]
[0.86116826534271196,0.92254561185836803,3.77689909934998]
[0.85433584451675404,0.92317217588424705,3.7893519401550302]
[0.85958260297775302,0.93504536151885997,3.75918388366699]
[0.84337377548217796,0.93844914436340299,2.73738694190979]
[0.84129983186721802,0.93571549654007002,1.9395090341568]
[0.84219831228256203,0.95015907287597701,2.1425719261169398]
[0.84198385477065996,0.94267904758453402,1.97993099689484]
[0.84329968690872203,0.93261414766311601,1.58485102653503]
[0.83655500411987305,0.93626707792282104,1.6943290233612101]
[0.81387972831726096,0.93780082464218095,1.8363629579544101]
[0.82809877395629905,0.93771976232528698,1.66491603851318]
[0.82028281688690197,0.93668800592422496,1.42430603504181]
[0.81355106830596902,0.93944221735000599,1.5705089569091799]
[0.80964928865432695,0.93339192867279097,1.7019280195236199]
[0.79549187421798695,0.92909067869186401,1.74446797370911]
[0.79432475566864003,0.92255890369415305,1.8189460039138801]
[0.78046232461929299,0.90184736251831099,1.9399820566177399]
[0.78795307874679599,0.89474105834960904,1.9864410161971999]
[0.77670383453369096,0.88347631692886397,1.9674129486084]
[0.77700120210647605,0.936515033245087,2.14768409729004]
[0.78900998830795299,0.93638074398040805,2.3142619132995601]
[0.78688830137252797,0.916853368282318,2.4397890567779501]
[0.77881193161010698,0.90779000520706199,2.6426041126251198]
[0.76700580120086703,0.90177357196807895,2.9004430770874001]
[0.77444130182266202,0.90564179420471203,3.0899899005889901]
[0.75551909208297696,0.90262991189956698,3.1512820720672599]
[0.74655258655548096,0.90045392513275102,3.3170299530029301]
[0.76746141910553001,0.87108176946640004,3.5769228935241699]
[0.75589412450790405,0.89775168895721402,3.8801798820495601]
[0.75526899099349998,0.89207398891448997,4.1138367652893102]
[0.74862629175186202,0.90270495414733898,4.2993898391723597]
[0.75671505928039595,0.90403425693511996,4.5432209968566903]
[0.753725826740265,0.91421526670455899,4.7341418266296396]
[0.74774128198623702,0.89484870433807395,4.7359108924865696]
[0.74770659208297696,0.89248764514923096,4.9594049453735396]
[0.74396187067031905,0.89764529466628995,5.3757209777831996]
[0.73798525333404497,0.88103294372558605,5.39076900482178]
[0.74225902557373002,0.86773729324340798,5.4671859741210902]
[0.73672884702682495,0.87598657608032204,5.6008567810058603]
[0.73578625917434703,0.86198449134826705,5.52781009674072]
[0.71972608566284202,0.866191446781158,5.5782427787780797]
[0.72880047559738204,0.88141518831253096,5.6810660362243697]
[0.71603715419769298,0.86758846044540405,5.7280430793762198]
[0.72982376813888605,0.87859082221984897,5.8060789108276403]
[0.69234049320220903,0.87419396638870195,5.7851810455322301]
[0.71490687131881703,0.87930446863174405,5.8236598968505904]
[0.721427321434021,0.87203609943389904,5.9152078628540004]
[0.68595319986343395,0.85045242309570301,5.8237991333007804]
[0.68,0.83,5.8]

{"sheet":"temp","index":7,"n_rows":38,"n_cols":16,"rows_kept":38,"cut":false,"hidden":false,"merged":[]}
["Latitude Site (rd)",{"$f":"+RADIANS(Lat)","v":0.87266462599716477},null,null,"pi",3.1415899999999999]
[]
[null,"2000-01-01T12:00:00"]
[]
["T",{"$f":"(Index!J6-B3)/36525","v":0.20557152635181383},null,null,null,null,null,null,null,null,null,null,null,null,null,1]
["GST0",{"$f":"MOD((24110.54841+ 8640184.812866* B5 +0.093104*B5^2 - 0.0000062*B5^3)/3600,24)/24","v":"20:04:46.532"}]
["LST",{"$f":"+Trajectoire!L3","v":"16:08:03.661"},{"$f":"+B7*2*3.14159","v":4.2239594637653965}]
["H",{"$f":"IF(C7-ADc>0,C7-ADc,C7-ADc+2*3.14159)","v":4.7866792921328054}]
["h",{"$f":" DEGREES((ASIN(SIN(RADIANS(Lat))*SIN(DEc)+COS(RADIANS(Lat))*COS(DEc)*COS(B8))))","v":12.356669810726039}]
[0,4.9162353277815907,26.03347684999045]
[1,4.9804693885555249,23.134150033178891]
[2,4.9956534381613906,30.348175923868713]
[3,5.0938858749917779,26.305953032022735]
[4,5.1038051519989711,17.426889682584225]
[5,5.1255418155703074,21.201911928398637]
[6,5.2067082324429173,4.4730317435040359]
[7,5.2169190317950722,12.463777485294235]
[8,5.3163274947465098,27.057034084695893]
[9,null,5.4035803102992084]
[null,null,25.414073109313868]
[null,null,21.883152985256597]
[null,null,17.213718128425054]
[null,null,10.996997103206807]
[null,null,9.4552882861341487]
[null,null,22.151417202806297]
[null,null,16.49052473334147]
[null,null,-3.2473168287106167]
[null,null,-6.2821761039500172]
[null,null,-1.7085001186001043]
[null,null,2.9960404191435499]
[null,null,-0.71044300789319936]
[null,null,0.94290068096291857]
[null,null,-17.555015015921668]
[null,null,34.321859573593287]
[null,null,39.322611396681587]
[null,null,43.090566297718311]
[null,null,40.65827103676591]
[null,null,-17.555015015921668]